From mboxrd@z Thu Jan 1 00:00:00 1970 Return-Path: Received: from mails.dpdk.org (mails.dpdk.org [217.70.189.124]) by inbox.dpdk.org (Postfix) with ESMTP id 9F8A548909 for ; Sat, 11 Oct 2025 09:45:55 +0200 (CEST) Received: from mails.dpdk.org (localhost [127.0.0.1]) by mails.dpdk.org (Postfix) with ESMTP id 82B8B4021F; Sat, 11 Oct 2025 09:45:55 +0200 (CEST) Received: from mail-vs1-f99.google.com (mail-vs1-f99.google.com [209.85.217.99]) by mails.dpdk.org (Postfix) with ESMTP id AA4CA4021F for ; Sat, 11 Oct 2025 09:45:54 +0200 (CEST) Received: by mail-vs1-f99.google.com with SMTP id ada2fe7eead31-580a1f1f187so1131266137.1 for ; Sat, 11 Oct 2025 00:45:54 -0700 (PDT) DKIM-Signature: v=1; a=rsa-sha256; c=relaxed/relaxed; d=iol.unh.edu; s=unh-iol; t=1760168754; x=1760773554; darn=dpdk.org; h=cc:to:from:subject:message-id:date:from:to:cc:subject:date :message-id:reply-to; bh=LFAH0Fl5AsPyNXDJKBYQ4F4YwjhHXgJ6Va1w+6LlfQs=; b=KLfHZeHrkcNagneF3IVJ5R2sjRIF/45x0g9JLzrrSOJOqGuxEqqg0HVJLSgMax2epX ud1LpDnP4BUDzVMsWkGyrCKv6vZwx2549U8x5D7SytA5AkkXZ0dvhQBLoOHWaW2Jp/KE V83jBDa9faoLtyeWFuCBpbX3HRqTdmFMScdsw= X-Google-DKIM-Signature: v=1; a=rsa-sha256; c=relaxed/relaxed; d=1e100.net; s=20230601; t=1760168754; x=1760773554; h=cc:to:from:subject:message-id:date:x-gm-message-state:from:to:cc :subject:date:message-id:reply-to; bh=LFAH0Fl5AsPyNXDJKBYQ4F4YwjhHXgJ6Va1w+6LlfQs=; b=R4N/rjDgKyKyri+2vZ4tebD0xi2XQtXgWKW/8/Q1nCngVASaDawnIV9TZ2WqLWR0U5 uNfabc4QGLkby7BWC6gQ41wKFv1ark1nAhVGo8GSgjSbebhhlgnQVwEySRBcpCKGhh8m QEfNKieAbBkXq74gqDDsD1gRHziuYlPJQ51wx1jVBH7M3QOrOThtCkk2GZa9QkSsu5NZ Grn5rkylND989RUt84zx202x7RfNLA3jZa+ZpTIxJsRal1e8EFs9zEmyXKPHi91hCMKX 0uDO9fE4sd0MOQdns01htUgdwsm5578E5LW7uw8ByzptBuSefpkgD9j6vfHYvoaAN9te Ud1Q== X-Gm-Message-State: AOJu0YyGL6G4obkFSu1rMUExgn/3UwoiTLfSb+8fnikj04jf7+6AvjZm dLgwqm00cM/zfHbGALIaL18JqRUDH1c5i+Zj2lz72XZBfpK1j/sHjWH4VWt8AvXgFo18DkkISsY yA9JqStv8N9LVcnTXrSIlm+ZzhNuuRgn3FRMQ X-Gm-Gg: ASbGncuDlynL/WH76Ajv+gl3V1O0KLt3g+FFnc6jBd6yKcGg+NSYcHk52AcFLpbHMC2 tsFnehVjrtmYSbTqzNUaiJS0O+H0i5FpQSE62+xt7ehOklfroCst42G1nCx8LSVQ+ak/iRGUudx 4cLtm0O6VTCpxz/ArHgZJscupUGGXi68s6h9fkEGK5khNC6Px9tzULajoXWdvLLr052SOB7pn/N +vVkTf+PVWMmXjrx95BLuqefd0JfLp16/r/W3KuV2NCRxD4Cv82JFgXr0Hvcy9d91XY9qQUp9Xz AgEx10TjO/ZVRKw8kMkWPXR1I8DJYwb53Lq3+UHMKWYixx9SoNuNThHbl1Qu9zywyINM2Ywj X-Google-Smtp-Source: AGHT+IFun4AGZRmiQMVXHO9Q4WQ19H0COUoCGHYGapSvIEazWeXVcMif92RDxpSDa8GyAGMD4MDiE8g7dQW/ X-Received: by 2002:a05:6102:26d1:b0:4de:d08f:6727 with SMTP id ada2fe7eead31-5d5e228c4acmr5486546137.13.1760168753880; Sat, 11 Oct 2025 00:45:53 -0700 (PDT) Received: from postal.iol.unh.edu (postal.iol.unh.edu. [132.177.123.84]) by smtp-relay.gmail.com with ESMTPS id ada2fe7eead31-5d5fc8e3a19sm555969137.4.2025.10.11.00.45.53 (version=TLS1_2 cipher=ECDHE-ECDSA-AES128-GCM-SHA256 bits=128/128); Sat, 11 Oct 2025 00:45:53 -0700 (PDT) X-Relaying-Domain: iol.unh.edu Date: Sat, 11 Oct 2025 00:45:53 -0700 (PDT) Message-ID: <68ea0b31.050a0220.31066f.d716SMTPIN_ADDED_MISSING@mx.google.com> Received: from [172.21.0.3] (unknown [172.18.0.240]) by postal.iol.unh.edu (Postfix) with ESMTP id 6F8ED60003EA; Sat, 11 Oct 2025 03:45:53 -0400 (EDT) Subject: |SUCCESS| [GIT MASTER] b287e404643aeab5bb5db084c142789df187844e From: dpdklab@iol.unh.edu To: Test Report Cc: dpdk-test-reports@iol.unh.edu, Xueming Li , Christian Ehrhardt , Kevin Traynor , Luca Boccassi Content-Type: text/plain X-BeenThere: test-report@dpdk.org X-Mailman-Version: 2.1.29 Precedence: list List-Id: automatic DPDK test reports List-Unsubscribe: , List-Archive: List-Post: List-Help: List-Subscribe: , Errors-To: test-report-bounces@dpdk.org _Testing PASS_ Branch: tags/v24.11 b287e404643aeab5bb5db084c142789df187844e --> testing pass Upstream job id: Generic-DPDK-Compile-Meson#433350 Test environment and result as below: +------------------------------+--------------------+ | Environment | dpdk_meson_compile | +==============================+====================+ | Ubuntu 20.04 | PASS | +------------------------------+--------------------+ | Fedora Linux 42 | PASS | +------------------------------+--------------------+ | Red Hat Enterprise Linux 9.5 | PASS | +------------------------------+--------------------+ | Ubuntu 22.04 | PASS | +------------------------------+--------------------+ | Debian GNU/Linux 12 | PASS | +------------------------------+--------------------+ | CentOS Stream 9 | PASS | +------------------------------+--------------------+ | CentOS Stream 10 | PASS | +------------------------------+--------------------+ | Ubuntu 24.04 | PASS | +------------------------------+--------------------+ Ubuntu 20.04 Kernel: 5.15 Compiler: aarch64-linux-gnu-gcc gcc (Ubuntu 9.4.0-1ubuntu1~20.04.2) 9.4.0 Fedora Linux 42 Kernel: 5.4 Compiler: clang gcc (GCC) 15.2.1 20250808 (Red Hat 15.2.1-1) Red Hat Enterprise Linux 9.5 Kernel: 5.4 Compiler: gcc gcc (GCC) 11.5.0 20240719 (Red Hat 11.5.0-2) Ubuntu 22.04 Kernel: 5.4 Compiler: gcc gcc (Ubuntu 11.4.0-1ubuntu1~22.04) 11.4.0 Debian GNU/Linux 12 Kernel: 5.4 Compiler: gcc gcc (Debian 12.2.0-14+deb12u1) 12.2.0 CentOS Stream 9 Kernel: 5.4 Compiler: gcc gcc (GCC) 11.5.0 20240719 (Red Hat 11.5.0-11) CentOS Stream 10 Kernel: 5.4 Compiler: gcc gcc (GCC) 14.2.1 20250110 (Red Hat 14.2.1-8) Ubuntu 24.04 Kernel: 5.4 Compiler: gcc gcc (Ubuntu 13.3.0-6ubuntu2~24.04) 13.3.0 To view detailed results, visit: https://lab.dpdk.org/results/dashboard/tarballs/35173/ UNH-IOL DPDK Community Lab To manage your email subscriptions, visit: https://lab.dpdk.org/results/dashboard/preferences/subscriptions/