From mboxrd@z Thu Jan 1 00:00:00 1970 Return-Path: Received: from mails.dpdk.org (mails.dpdk.org [217.70.189.124]) by inbox.dpdk.org (Postfix) with ESMTP id 80EC34890B for ; Sat, 11 Oct 2025 10:11:25 +0200 (CEST) Received: from mails.dpdk.org (localhost [127.0.0.1]) by mails.dpdk.org (Postfix) with ESMTP id 76982402C2; Sat, 11 Oct 2025 10:11:25 +0200 (CEST) Received: from mail-qv1-f97.google.com (mail-qv1-f97.google.com [209.85.219.97]) by mails.dpdk.org (Postfix) with ESMTP id 6B7F7402C2 for ; Sat, 11 Oct 2025 10:11:24 +0200 (CEST) Received: by mail-qv1-f97.google.com with SMTP id 6a1803df08f44-7f7835f4478so24355336d6.1 for ; Sat, 11 Oct 2025 01:11:24 -0700 (PDT) DKIM-Signature: v=1; a=rsa-sha256; c=relaxed/relaxed; d=iol.unh.edu; s=unh-iol; t=1760170284; x=1760775084; darn=dpdk.org; h=cc:to:from:subject:message-id:date:from:to:cc:subject:date :message-id:reply-to; bh=RoU7X7r7YwX+LRJgNCP8V3sM6Wx1cV5VHZRsL9JIzto=; b=CLmFDAWxnT8JtoiGZMIyKRucf7DAqbGz2BHSSxdiwKbeRODJ0r8DCIzqZmyOrzCTn5 flwvC/6YF94aqpEeufnC6KXbUJdEFExv0ckejTqvPFGSG22lYyRRBu/FHFcsEi3NrOKt 7wN9XrBmvCdgBw42NP+s3Me9j1XWkpCRoN2FE= X-Google-DKIM-Signature: v=1; a=rsa-sha256; c=relaxed/relaxed; d=1e100.net; s=20230601; t=1760170284; x=1760775084; h=cc:to:from:subject:message-id:date:x-gm-message-state:from:to:cc :subject:date:message-id:reply-to; bh=RoU7X7r7YwX+LRJgNCP8V3sM6Wx1cV5VHZRsL9JIzto=; b=hxbunRVqi0L+6beISTRQIzxMVGJxmgFvvIreuDy11KzphH61QYxQhGzSqTowkqObZX JJy8PHn35xLRK0bjW3cRtbpX/+RpdE/Q6wRJ9/XQwmQEBM3W6HlNPGb2hnMsBF4PdlPB qp0hzGjSWX4e+E1WzX/AoE6pPacW7pAvQhT8LF+wZImxA0kHjEppRrkSJGS3z3qIg8nO vTLDpd52lwC3OqF19rGz+7xM54AxkoCrVLgRWAoOfhcY1bvwNkJCa09PtpRhcB5AVq6E LndBv4kvtWdrZq9263xXV/BMG8CCSuUmxkY6/0pIvxwqDbpyGkLZMT7jsjX+yljJhoT6 MWBQ== X-Gm-Message-State: AOJu0YwAukBmQWcTj0GjbczYa7nweECm09FMdX00dMA/xydWueePp1i/ qVLkwyjUreHlyIGoD9GL5zs7Y5bQQrCgmd4IE//pkEZSNAZzTMmBU0Ovs7bYNDMO8sGKnGoE+c1 IOKBb5SjsGmPLvzwDa2sR96CgQM6p6TKKfJ/Y X-Gm-Gg: ASbGncu/38yEdZqKu5ws1L3MlRrAqWey2OmeTPmrErMYcja/SxwxPtjbNf8DJeoH8So 6fOqNK7HM5cBiUm76rFIiwJIMDHDFg4SnkHyRGFXKy24831r6WfaIOO2Goj7zglLAUTwB7ruK6J NJsX4rdlsFAp76Ys78tkEkTmW+jmsgMmKE5e8qqXcHDPRhzPyjESAg/lKsg86BOmGvBkEGqNXjU +X7jYeVtVp3+/ccI559MCwRUBI6rT/kSkOLEy/v34hHLz1QlCFrZ2kOOmg6RrILvXczSAM2RwwQ s1AOlcdAZK/8HzmInz5AsVYourJjN46V+6BZbrKQtUqlvTd4EBPm9tpP2sZaVxj6WOctMw4C X-Google-Smtp-Source: AGHT+IHYojdFtILoh7S4FrRJ1Xmiut3MMSth7500NT3dmG8yx98ZM9leLZ/UXzLeYsd3ewyyRioszc+ON2Wh X-Received: by 2002:a05:6214:2484:b0:802:b081:4f14 with SMTP id 6a1803df08f44-87b2ef7b460mr206141886d6.66.1760170283615; Sat, 11 Oct 2025 01:11:23 -0700 (PDT) Received: from postal.iol.unh.edu (postal.iol.unh.edu. [132.177.123.84]) by smtp-relay.gmail.com with ESMTPS id 6a1803df08f44-87bc354c10dsm3397506d6.28.2025.10.11.01.11.23 (version=TLS1_2 cipher=ECDHE-ECDSA-AES128-GCM-SHA256 bits=128/128); Sat, 11 Oct 2025 01:11:23 -0700 (PDT) X-Relaying-Domain: iol.unh.edu Date: Sat, 11 Oct 2025 01:11:23 -0700 (PDT) Message-ID: <68ea112b.d40a0220.3b7374.18eaSMTPIN_ADDED_MISSING@mx.google.com> Received: from [172.21.0.2] (unknown [172.18.0.240]) by postal.iol.unh.edu (Postfix) with ESMTP id 52B236051830; Sat, 11 Oct 2025 04:11:23 -0400 (EDT) Subject: |SUCCESS| [GIT MASTER] b287e404643aeab5bb5db084c142789df187844e From: dpdklab@iol.unh.edu To: Test Report Cc: dpdk-test-reports@iol.unh.edu, Xueming Li , Christian Ehrhardt , Kevin Traynor , Luca Boccassi Content-Type: text/plain X-BeenThere: test-report@dpdk.org X-Mailman-Version: 2.1.29 Precedence: list List-Id: automatic DPDK test reports List-Unsubscribe: , List-Archive: List-Post: List-Help: List-Subscribe: , Errors-To: test-report-bounces@dpdk.org _Testing PASS_ Branch: tags/v24.11 b287e404643aeab5bb5db084c142789df187844e --> testing pass Upstream job id: Generic-Unit-Test-DPDK#380400 Test environment and result as below: +------------------------------+----------------+---------------------------+------------------------------+--------------+ | Environment | dpdk_unit_test | cryptodev_sw_zuc_autotest | cryptodev_sw_snow3g_autotest | lpm_autotest | +==============================+================+===========================+==============================+==============+ | CentOS Stream 9 | PASS | SKIPPED | SKIPPED | SKIPPED | +------------------------------+----------------+---------------------------+------------------------------+--------------+ | Fedora Linux 40 | PASS | SKIPPED | SKIPPED | SKIPPED | +------------------------------+----------------+---------------------------+------------------------------+--------------+ | CentOS Stream 10 | PASS | SKIPPED | SKIPPED | SKIPPED | +------------------------------+----------------+---------------------------+------------------------------+--------------+ | Fedora Linux 42 | PASS | SKIPPED | SKIPPED | SKIPPED | +------------------------------+----------------+---------------------------+------------------------------+--------------+ | Red Hat Enterprise Linux 9.5 | PASS | SKIPPED | SKIPPED | SKIPPED | +------------------------------+----------------+---------------------------+------------------------------+--------------+ | Debian GNU/Linux 12 | PASS | SKIPPED | SKIPPED | SKIPPED | +------------------------------+----------------+---------------------------+------------------------------+--------------+ | Ubuntu 20.04 | PASS | SKIPPED | SKIPPED | PASS | +------------------------------+----------------+---------------------------+------------------------------+--------------+ | Fedora Linux 41 | PASS | SKIPPED | SKIPPED | SKIPPED | +------------------------------+----------------+---------------------------+------------------------------+--------------+ | Ubuntu 22.04 | PASS | SKIPPED | SKIPPED | SKIPPED | +------------------------------+----------------+---------------------------+------------------------------+--------------+ | Ubuntu 24.04 | PASS | SKIPPED | SKIPPED | SKIPPED | +------------------------------+----------------+---------------------------+------------------------------+--------------+ | Debian 12 (arm) | SKIPPED | PASS | PASS | SKIPPED | +------------------------------+----------------+---------------------------+------------------------------+--------------+ CentOS Stream 9 Kernel: 5.4 Compiler: gcc gcc (GCC) 11.5.0 20240719 (Red Hat 11.5.0-11) Fedora Linux 40 Kernel: 5.4 Compiler: gcc gcc (GCC) 14.2.1 20240912 (Red Hat 14.2.1-3) CentOS Stream 10 Kernel: 5.4 Compiler: gcc gcc (GCC) 14.2.1 20250110 (Red Hat 14.2.1-8) Fedora Linux 42 Kernel: 5.4 Compiler: gcc gcc (GCC) 15.2.1 20250808 (Red Hat 15.2.1-1) Red Hat Enterprise Linux 9.5 Kernel: 5.4 Compiler: gcc gcc (GCC) 11.5.0 20240719 (Red Hat 11.5.0-2) Debian GNU/Linux 12 Kernel: 5.4 Compiler: gcc gcc (Debian 12.2.0-14+deb12u1) 12.2.0 Ubuntu 20.04 Kernel: 5.4 Compiler: gcc gcc (Ubuntu 9.4.0-1ubuntu1~20.04.2) 9.4.0 Fedora Linux 41 Kernel: 5.4 Compiler: gcc gcc (GCC) 14.3.1 20250523 (Red Hat 14.3.1-1) Ubuntu 22.04 Kernel: 5.4 Compiler: gcc gcc (Ubuntu 11.4.0-1ubuntu1~22.04) 11.4.0 Ubuntu 24.04 Kernel: 5.4 Compiler: gcc gcc (Ubuntu 13.3.0-6ubuntu2~24.04) 13.3.0 Debian 12 (arm) Kernel: Depends on container host Compiler: gcc (Debian 12.2.0-14) 12.2.0 To view detailed results, visit: https://lab.dpdk.org/results/dashboard/tarballs/35173/ UNH-IOL DPDK Community Lab To manage your email subscriptions, visit: https://lab.dpdk.org/results/dashboard/preferences/subscriptions/