From mboxrd@z Thu Jan 1 00:00:00 1970 Return-Path: Received: from mails.dpdk.org (mails.dpdk.org [217.70.189.124]) by inbox.dpdk.org (Postfix) with ESMTP id 6ACF04890B for ; Sat, 11 Oct 2025 10:20:07 +0200 (CEST) Received: from mails.dpdk.org (localhost [127.0.0.1]) by mails.dpdk.org (Postfix) with ESMTP id 308524021F; Sat, 11 Oct 2025 10:20:07 +0200 (CEST) Received: from mail-yx1-f97.google.com (mail-yx1-f97.google.com [74.125.224.97]) by mails.dpdk.org (Postfix) with ESMTP id 326544021F for ; Sat, 11 Oct 2025 10:20:06 +0200 (CEST) Received: by mail-yx1-f97.google.com with SMTP id 956f58d0204a3-6361a421b67so3026000d50.2 for ; Sat, 11 Oct 2025 01:20:06 -0700 (PDT) DKIM-Signature: v=1; a=rsa-sha256; c=relaxed/relaxed; d=iol.unh.edu; s=unh-iol; t=1760170805; x=1760775605; darn=dpdk.org; h=cc:to:from:subject:message-id:date:from:to:cc:subject:date :message-id:reply-to; bh=YW69XPSa43aSpVVT7nxWbHbSi0QuVFjkm9s9D2oBTqE=; b=KF95i/VYh9HKBj+v/HmjE+lbZ6wrg1nED8EDU7HrGqZFDp1LaWna8XrnkBIQZYVkM9 PWL4tUuRjUmE9Ww41GBtD1crrw+WDuik+68tIqMmvjlA6a9H9P+TablF14j8vme9t9ey 9egfQY10c6lefSJ8BUyaj2jYJlLVUN5NvNbNo= X-Google-DKIM-Signature: v=1; a=rsa-sha256; c=relaxed/relaxed; d=1e100.net; s=20230601; t=1760170805; x=1760775605; h=cc:to:from:subject:message-id:date:x-gm-message-state:from:to:cc :subject:date:message-id:reply-to; bh=YW69XPSa43aSpVVT7nxWbHbSi0QuVFjkm9s9D2oBTqE=; b=IKuyktlge//O713Di1+cklKKMA3T+KR4WCAEyGWzKabTlLGpf9CGPk9hUjYsuUFqxY 7l8/98jQIO+SFINcWwLVc4hzKjZGxUn2UOPnYWLpi06EKku3Kf6yoILMANl7d3c/wnuN wLPuWgvy8f/CcxRaA8QgC3kgQ1L1jlbpZCijHi958GBZ+YMr+q/3y3CbvlZ1060DxFvw sFTbB9mH+WnuYB8Aaz8h2SELei5AVBtrPpFR6uBc1WFbvfZGaZIDI2+UHyYJdfAL4hyg 56zWXl+vhNpXHuzJvOFrA3Rw0AjW7n6dvK8cUe0KuBgNJu6ScWQG1OTyG7Qrdbvh7JHJ GAqw== X-Gm-Message-State: AOJu0YxoCzCcRnkhpHkqJWPMFfQsA4XFqeiSWpcAepsQ0Jj62ncKX7hn u5SUyacbEeCfWRvmyErKw+fqRzldx4w4sySADl3zI2aKT5DJcssZjtXxh9N6RhaaAbRTqh3RRp/ hkKtaKH68EvPtzaixSImSYqlZa8/QjJFAft/f+ddUJbIfOP2HggeM X-Gm-Gg: ASbGncsSh6rqWVaaYVNBa+j45KCGvi2D1l2F+tXWzvBzBeOMehc3KeNBtEGmd0H7wyQ piPmzk9/UFzeNK4hFlZ4Y5mFPezduBFjDtbOzYkAlcUxtN8KhNn1KtwdV529nplLaudrJB3pGqp +qDPZgjvUjAoEDpTqdVe68cPZD7Uu20Zs3YY8GU4+gjSSJwo3LISuo79S0iHv4+pqjSRn8w6vEW Tx8quF6YFXZC4LNb4st3hc2T6yyHWXX89hzYoXnsTarma6Xu01PchSr4wEBRfA5swftTTNxvzZx ZFLWgwqUBEgjeK6NU6rOvLQuKjWqboKFBwzJxtJp6sVr81Xb6Q== X-Google-Smtp-Source: AGHT+IFi8d//G8MBL3JlKwhsGSVqdiaTQygxt9khKRMOXj1uB5jKlBc7tVmgzdcofbiF0zB7rDID0SPEazNa X-Received: by 2002:a05:690e:682:b0:63c:f5a7:406 with SMTP id 956f58d0204a3-63cf5a70a68mr1686074d50.58.1760170805404; Sat, 11 Oct 2025 01:20:05 -0700 (PDT) Received: from postal.iol.unh.edu (postal.iol.unh.edu. [2606:4100:3880:1234::84]) by smtp-relay.gmail.com with ESMTPS id 956f58d0204a3-63cd9532715sm416826d50.8.2025.10.11.01.20.05 (version=TLS1_2 cipher=ECDHE-ECDSA-AES128-GCM-SHA256 bits=128/128); Sat, 11 Oct 2025 01:20:05 -0700 (PDT) X-Relaying-Domain: iol.unh.edu Date: Sat, 11 Oct 2025 01:20:05 -0700 (PDT) Message-ID: <68ea1335.530a0220.1ef949.5a93SMTPIN_ADDED_MISSING@mx.google.com> Received: from [172.21.0.2] (unknown [172.18.0.240]) by postal.iol.unh.edu (Postfix) with ESMTP id 152676051830; Sat, 11 Oct 2025 04:20:05 -0400 (EDT) Subject: |SUCCESS| [GIT MASTER] 3b43ce3f4a54468e7ef65760c2fd7b4d6ee6d9fc From: dpdklab@iol.unh.edu To: Test Report Cc: dpdk-test-reports@iol.unh.edu, Xueming Li , Christian Ehrhardt , Kevin Traynor , Luca Boccassi Content-Type: text/plain X-BeenThere: test-report@dpdk.org X-Mailman-Version: 2.1.29 Precedence: list List-Id: automatic DPDK test reports List-Unsubscribe: , List-Archive: List-Post: List-Help: List-Subscribe: , Errors-To: test-report-bounces@dpdk.org _Testing PASS_ Branch: tags/v22.11 3b43ce3f4a54468e7ef65760c2fd7b4d6ee6d9fc --> testing pass Upstream job id: Generic-DPDK-Compile-Meson#433300 Test environment and result as below: +------------------------------+--------------------+ | Environment | dpdk_meson_compile | +==============================+====================+ | Debian GNU/Linux 12 | PASS | +------------------------------+--------------------+ | Fedora Linux 42 | PASS | +------------------------------+--------------------+ | Red Hat Enterprise Linux 9.5 | PASS | +------------------------------+--------------------+ | Ubuntu 20.04 | PASS | +------------------------------+--------------------+ | Ubuntu 24.04 | PASS | +------------------------------+--------------------+ | Ubuntu 22.04 | PASS | +------------------------------+--------------------+ | CentOS Stream 10 | PASS | +------------------------------+--------------------+ | CentOS Stream 9 | PASS | +------------------------------+--------------------+ Debian GNU/Linux 12 Kernel: 5.4 Compiler: gcc gcc (Debian 12.2.0-14+deb12u1) 12.2.0 Fedora Linux 42 Kernel: 5.4 Compiler: gcc gcc (GCC) 15.2.1 20250808 (Red Hat 15.2.1-1) Red Hat Enterprise Linux 9.5 Kernel: 5.4 Compiler: gcc gcc (GCC) 11.5.0 20240719 (Red Hat 11.5.0-2) Ubuntu 20.04 Kernel: 5.15 Compiler: aarch64-linux-gnu-gcc gcc (Ubuntu 9.4.0-1ubuntu1~20.04.2) 9.4.0 Ubuntu 24.04 Kernel: 5.4 Compiler: gcc gcc (Ubuntu 13.3.0-6ubuntu2~24.04) 13.3.0 Ubuntu 22.04 Kernel: 5.4 Compiler: gcc gcc (Ubuntu 11.4.0-1ubuntu1~22.04) 11.4.0 CentOS Stream 10 Kernel: 5.4 Compiler: gcc gcc (GCC) 14.2.1 20250110 (Red Hat 14.2.1-8) CentOS Stream 9 Kernel: 5.4 Compiler: gcc gcc (GCC) 11.5.0 20240719 (Red Hat 11.5.0-11) To view detailed results, visit: https://lab.dpdk.org/results/dashboard/tarballs/35171/ UNH-IOL DPDK Community Lab To manage your email subscriptions, visit: https://lab.dpdk.org/results/dashboard/preferences/subscriptions/