From mboxrd@z Thu Jan 1 00:00:00 1970 Return-Path: Received: from mails.dpdk.org (mails.dpdk.org [217.70.189.124]) by inbox.dpdk.org (Postfix) with ESMTP id 230B14890B for ; Sat, 11 Oct 2025 10:55:57 +0200 (CEST) Received: from mails.dpdk.org (localhost [127.0.0.1]) by mails.dpdk.org (Postfix) with ESMTP id F0FB84021F; Sat, 11 Oct 2025 10:55:56 +0200 (CEST) Received: from mail-pl1-f227.google.com (mail-pl1-f227.google.com [209.85.214.227]) by mails.dpdk.org (Postfix) with ESMTP id E25074021F for ; Sat, 11 Oct 2025 10:55:55 +0200 (CEST) Received: by mail-pl1-f227.google.com with SMTP id d9443c01a7336-28e8c5d64d8so26605375ad.1 for ; Sat, 11 Oct 2025 01:55:55 -0700 (PDT) DKIM-Signature: v=1; a=rsa-sha256; c=relaxed/relaxed; d=iol.unh.edu; s=unh-iol; t=1760172955; x=1760777755; darn=dpdk.org; h=references:in-reply-to:cc:to:from:subject:message-id:date:from:to :cc:subject:date:message-id:reply-to; bh=gMARHrAUYJLMh9KPogLCIpcyhm8wZxlklui6dxG2QEo=; b=EefO3AzKCgpygDHCpOtYV5qeCA/5G3zGOLOsOrefE6lNk516Gncr68zqSmNKjBgceP 5zv+3d9X74ClfWtZh+s2tEXlUxtDCYjGPf+AgV+E8qHWIwywLb1Y1yfhccC/gzfCqUOZ 7WzHwM6n4sOrbn+O45B2nrT3lmW3SUjkDP7yo= X-Google-DKIM-Signature: v=1; a=rsa-sha256; c=relaxed/relaxed; d=1e100.net; s=20230601; t=1760172955; x=1760777755; h=references:in-reply-to:cc:to:from:subject:message-id:date :x-gm-message-state:from:to:cc:subject:date:message-id:reply-to; bh=gMARHrAUYJLMh9KPogLCIpcyhm8wZxlklui6dxG2QEo=; b=PrYf1K7a5yZliimOYAacNkRDUwhRydnpAH9cE03dhsvRr0KB0kFVhnlzGdbiBAoeTq vPH+OfSCGo1ONqMZTykCVo566xSrKU5sAyHD59U2WKuirRNu/oYNRrwHy2ZCChbPJ7bQ eaaF90wVNDgC81av70MXn2kiuC7Jx3L2qb2Rz+sPxhWaraGUB2HPieVzfGHqvRUwwG70 ngLPZW9XXFsrYBMRUXSQF1Pw4kkrhRpLcRCGDYK4Y9vEfnKG/HBqbGNwyMCxGZskJN0V siE5VBHtkuQUSI+eOJCJI5qhUpJARWbO1KkqrkHuFard4YP4rqWKzW/AvqGYjRYBRLx2 KhwA== X-Gm-Message-State: AOJu0YyqBycLXmTmaH2zpxVVNP8qVrB3kEpcDXRC+FJdmAdzVsP7aHEN hdSLzWqps2oiSls36uELwCe00JRgXNUoFS0JHf0uJf/ZiEzZEn3gUckOU6vLxiWMbx075ID0oRT bO/eEMQ4ENu13dAn45tBcCEWRI+7GL41gM84vcVMVJd6JTnpRSmZpml7pMlqm X-Gm-Gg: ASbGncv0IkgzGH1dgBLRYefv8sp/Jb2KJzPEK8sST4RsDaxa82V7IcGattSv5LQFDxK VGF76QFvfp8s+Apt+/helnapwPzQ5EwjmRf0CJ2tC3jWpK6qKZZlHr0YQfDkdq89ziLATZfOf9N Y1nKTLVnQa7/duGPC3ojbqS5EzWf6qWSsTMa7Hl3zqeLmqOnCL108oFlOqNsTAAlUgS84AFzook nRABjwS6m1JNwl9Ff1IKGylb8Y8Dq1K0Wyvm1AVhVV0fYyOP00+3aOidGoPuJxCMBKCLa20HLqR haNm4FQ91OzXIyeicUVoMivdPxzCm8zmG7d8LdKzktfNHFW9xg== X-Google-Smtp-Source: AGHT+IFWi3uHeUYCP7y+SHvKwNcbvC1ZMm266Pqujyz+3VHnI5nk6BPovKW88vYJ0ReqJoHeRQB66lOjCD4K X-Received: by 2002:a17:902:ef09:b0:27d:6f37:7b66 with SMTP id d9443c01a7336-290273ffef7mr191727965ad.47.1760172955004; Sat, 11 Oct 2025 01:55:55 -0700 (PDT) Received: from postal.iol.unh.edu (postal.iol.unh.edu. [2606:4100:3880:1234::84]) by smtp-relay.gmail.com with ESMTPS id d9443c01a7336-29034ef019asm6000255ad.40.2025.10.11.01.55.54 (version=TLS1_2 cipher=ECDHE-ECDSA-AES128-GCM-SHA256 bits=128/128); Sat, 11 Oct 2025 01:55:54 -0700 (PDT) X-Relaying-Domain: iol.unh.edu Date: Sat, 11 Oct 2025 01:55:54 -0700 (PDT) Message-ID: <68ea1b9a.170a0220.367829.ea63SMTPIN_ADDED_MISSING@mx.google.com> Received: from [172.21.0.2] (unknown [172.18.0.240]) by postal.iol.unh.edu (Postfix) with ESMTP id 66E736051830; Sat, 11 Oct 2025 04:55:54 -0400 (EDT) Subject: |SUCCESS| pw157456 [PATCH] [v2] crypto/virtio: free memory used by o From: dpdklab@iol.unh.edu To: Test Report Cc: dpdk-test-reports@iol.unh.edu, Akhil Goyal In-Reply-To: <20251011043706.1554-1-gmuthukrishn@marvell.com> References: <20251011043706.1554-1-gmuthukrishn@marvell.com> Content-Type: text/plain X-BeenThere: test-report@dpdk.org X-Mailman-Version: 2.1.29 Precedence: list List-Id: automatic DPDK test reports List-Unsubscribe: , List-Archive: List-Post: List-Help: List-Subscribe: , Errors-To: test-report-bounces@dpdk.org Test-Label: iol-compile-arm64-testing Test-Status: SUCCESS http://dpdk.org/patch/157456 _Testing PASS_ Submitter: Gowrishankar Muthukrishnan Date: Saturday, October 11 2025 04:37:03 DPDK git baseline: Repo:dpdk-next-crypto Branch: master CommitID:2aa7141a4e2c78e3cce03dbd613532a2166123c1 157456 --> testing pass Upstream job id: Generic-DPDK-Compile-Meson#433361 Test environment and result as below: +------------------------------+--------------------+ | Environment | dpdk_meson_compile | +==============================+====================+ | Red Hat Enterprise Linux 9.5 | PASS | +------------------------------+--------------------+ | Ubuntu 20.04 | PASS | +------------------------------+--------------------+ | Debian GNU/Linux 12 | PASS | +------------------------------+--------------------+ | Fedora Linux 42 | PASS | +------------------------------+--------------------+ | Ubuntu 22.04 | PASS | +------------------------------+--------------------+ | Ubuntu 24.04 | PASS | +------------------------------+--------------------+ | CentOS Stream 9 | PASS | +------------------------------+--------------------+ | CentOS Stream 10 | PASS | +------------------------------+--------------------+ Red Hat Enterprise Linux 9.5 Kernel: 5.4 Compiler: gcc gcc (GCC) 11.5.0 20240719 (Red Hat 11.5.0-2) Ubuntu 20.04 Kernel: 5.15 Compiler: aarch64-linux-gnu-gcc gcc (Ubuntu 9.4.0-1ubuntu1~20.04.2) 9.4.0 Debian GNU/Linux 12 Kernel: 5.4 Compiler: gcc gcc (Debian 12.2.0-14+deb12u1) 12.2.0 Fedora Linux 42 Kernel: 5.4 Compiler: gcc gcc (GCC) 15.2.1 20250808 (Red Hat 15.2.1-1) Ubuntu 22.04 Kernel: 5.4 Compiler: gcc gcc (Ubuntu 11.4.0-1ubuntu1~22.04) 11.4.0 Ubuntu 24.04 Kernel: 5.4 Compiler: gcc gcc (Ubuntu 13.3.0-6ubuntu2~24.04) 13.3.0 CentOS Stream 9 Kernel: 5.4 Compiler: gcc gcc (GCC) 11.5.0 20240719 (Red Hat 11.5.0-11) CentOS Stream 10 Kernel: 5.4 Compiler: gcc gcc (GCC) 14.2.1 20250110 (Red Hat 14.2.1-8) To view detailed results, visit: https://lab.dpdk.org/results/dashboard/patchsets/34254/ UNH-IOL DPDK Community Lab To manage your email subscriptions, visit: https://lab.dpdk.org/results/dashboard/preferences/subscriptions/