From mboxrd@z Thu Jan 1 00:00:00 1970 Return-Path: Received: from mails.dpdk.org (mails.dpdk.org [217.70.189.124]) by inbox.dpdk.org (Postfix) with ESMTP id C34A94890B for ; Sat, 11 Oct 2025 11:43:09 +0200 (CEST) Received: from mails.dpdk.org (localhost [127.0.0.1]) by mails.dpdk.org (Postfix) with ESMTP id 9E528400EF; Sat, 11 Oct 2025 11:43:09 +0200 (CEST) Received: from mail-il1-f228.google.com (mail-il1-f228.google.com [209.85.166.228]) by mails.dpdk.org (Postfix) with ESMTP id 68D50400EF for ; Sat, 11 Oct 2025 11:43:08 +0200 (CEST) Received: by mail-il1-f228.google.com with SMTP id e9e14a558f8ab-42d8a0f09f6so11181785ab.3 for ; Sat, 11 Oct 2025 02:43:08 -0700 (PDT) DKIM-Signature: v=1; a=rsa-sha256; c=relaxed/relaxed; d=iol.unh.edu; s=unh-iol; t=1760175787; x=1760780587; darn=dpdk.org; h=references:in-reply-to:cc:to:from:subject:message-id:date:from:to :cc:subject:date:message-id:reply-to; bh=3D6GFqwMPnhQ0+HjFHJCP/wN8xDebMWGG33e63KVu9g=; b=eHFL0bFEw7GNzd+gRpMMJtCnDAzZ/d+ucBy2/q9gk4xN1sfjMTOwBrY+06l8wpYV3T ThE8GimOnNe24/ATazlcc+oP2RFTpmYD2LCNCrbayJFJk3g+XHcaRWOm9NDpOqgEoZVs xKBtkKoCMPGsCgR3yKBv7bZyr0Q2bgNWz8Vio= X-Google-DKIM-Signature: v=1; a=rsa-sha256; c=relaxed/relaxed; d=1e100.net; s=20230601; t=1760175787; x=1760780587; h=references:in-reply-to:cc:to:from:subject:message-id:date :x-gm-message-state:from:to:cc:subject:date:message-id:reply-to; bh=3D6GFqwMPnhQ0+HjFHJCP/wN8xDebMWGG33e63KVu9g=; b=IN1UAGpkJYAQw8TVe/BJzMw6q6qNfXSPqEagSpeXbOSU5alyTHmJEQdFCnWwHx1b5l 2m23OB/3v4mhoECGFv5WbJL65JCXQz+LObFD422kjZH27SDNPT0h2DxdrvheEuisWa5S 3lEzk9zMvBvLhf7CzmYAjYCxDNh2uvTT3kRgAztsG+VVgoxHLSzGuVQ+EFvdHYUcaWut UoUoxd5EDIMj7ZwSH4JHUpYXKGt6mmbqE/wi4IoXdNBlvMYb8hQpMeype6MNjCM9oL9L FAb4/V1Lp3MQ/XSAm5f+CroqySPxFJykmey2+l07IuG4nSpW4ybiB+rZPaCeT7kWuV83 mD+g== X-Gm-Message-State: AOJu0YxjzI46cF/+HktGWSXnS7Azkv45dLRSuKDa/jjGZm5RnboGAL+f YnFg/LHKNdnAygAE/zBtf+dJPZtrLfC2eemipywcYzhbYVETFn4RkF5m3uBa8RxEFGy4C9mLa0W o48cScusBPL8CQqwBNJinmUIRo0KNyLtoLTdYvaRmq+FqpckLTcRQsEy0hFux X-Gm-Gg: ASbGncvTkyfVa7zpiU0uC85YLMm0+ZdJWN8wgWs4lmsRFjWh8vUNqzE29EHvRp4JOP5 guhbY8LC2aJ0AsDQrVlak0mfFLuJGbaKCYIAiXjfWPzmtseKosY9F5QNKcXhv+eOhNoF5kh6FCO QjPJ/MwBaMhJBYZmorf2UAcgJcxJ/06xU/EQ/Qj7G0NYjVHsTUMlFXPVbdxkB+7m5oDoljye3jt DrNl6S1DCyAL5OqcK/NJCkXkzsWKtVPtnnB8tABQHLTLjjwkCVrHtmmo34WaStPgfj4EtFcgNNQ dsWpAQxE6Cut/atsnaoonoAOair3s12c9o2pZdbkIVgWP3b7Nw== X-Google-Smtp-Source: AGHT+IHd/+lcCTuZWa5W7aLl2oiG5Y+Gk9H+rEU7yhN087hbFkThXxM8xUZdcs3wFnxe+4Wtlk0qij0t0UfY X-Received: by 2002:a05:6e02:378c:b0:42d:bb9d:5358 with SMTP id e9e14a558f8ab-42f87411149mr172726015ab.27.1760175787538; Sat, 11 Oct 2025 02:43:07 -0700 (PDT) Received: from postal.iol.unh.edu (postal.iol.unh.edu. [2606:4100:3880:1234::84]) by smtp-relay.gmail.com with ESMTPS id e9e14a558f8ab-42f9034759dsm5003495ab.26.2025.10.11.02.43.07 (version=TLS1_2 cipher=ECDHE-ECDSA-AES128-GCM-SHA256 bits=128/128); Sat, 11 Oct 2025 02:43:07 -0700 (PDT) X-Relaying-Domain: iol.unh.edu Date: Sat, 11 Oct 2025 02:43:07 -0700 (PDT) Message-ID: <68ea26ab.050a0220.2436dc.98dcSMTPIN_ADDED_MISSING@mx.google.com> Received: from [172.21.0.2] (unknown [172.18.0.240]) by postal.iol.unh.edu (Postfix) with ESMTP id 1F0DF6051830; Sat, 11 Oct 2025 05:43:07 -0400 (EDT) Subject: |SUCCESS| pw157456 [PATCH] [v2] crypto/virtio: free memory used by o From: dpdklab@iol.unh.edu To: Test Report Cc: dpdk-test-reports@iol.unh.edu, Akhil Goyal In-Reply-To: <20251011043706.1554-1-gmuthukrishn@marvell.com> References: <20251011043706.1554-1-gmuthukrishn@marvell.com> Content-Type: text/plain X-BeenThere: test-report@dpdk.org X-Mailman-Version: 2.1.29 Precedence: list List-Id: automatic DPDK test reports List-Unsubscribe: , List-Archive: List-Post: List-Help: List-Subscribe: , Errors-To: test-report-bounces@dpdk.org Test-Label: iol-unit-arm64-testing Test-Status: SUCCESS http://dpdk.org/patch/157456 _Testing PASS_ Submitter: Gowrishankar Muthukrishnan Date: Saturday, October 11 2025 04:37:03 DPDK git baseline: Repo:dpdk-next-crypto Branch: master CommitID:2aa7141a4e2c78e3cce03dbd613532a2166123c1 157456 --> testing pass Upstream job id: Generic-Unit-Test-DPDK#380437 Test environment and result as below: +------------------------------+---------------------------+--------------+----------------+------------------------------+ | Environment | cryptodev_sw_zuc_autotest | lpm_autotest | dpdk_unit_test | cryptodev_sw_snow3g_autotest | +==============================+===========================+==============+================+==============================+ | Debian 12 (arm) | PASS | SKIPPED | SKIPPED | PASS | +------------------------------+---------------------------+--------------+----------------+------------------------------+ | Ubuntu 20.04 | SKIPPED | PASS | PASS | SKIPPED | +------------------------------+---------------------------+--------------+----------------+------------------------------+ | CentOS Stream 9 | SKIPPED | SKIPPED | PASS | SKIPPED | +------------------------------+---------------------------+--------------+----------------+------------------------------+ | Debian GNU/Linux 12 | SKIPPED | SKIPPED | PASS | SKIPPED | +------------------------------+---------------------------+--------------+----------------+------------------------------+ | Fedora Linux 40 | SKIPPED | SKIPPED | PASS | SKIPPED | +------------------------------+---------------------------+--------------+----------------+------------------------------+ | CentOS Stream 10 | SKIPPED | SKIPPED | PASS | SKIPPED | +------------------------------+---------------------------+--------------+----------------+------------------------------+ | Fedora Linux 42 | SKIPPED | SKIPPED | PASS | SKIPPED | +------------------------------+---------------------------+--------------+----------------+------------------------------+ | Fedora Linux 41 | SKIPPED | SKIPPED | PASS | SKIPPED | +------------------------------+---------------------------+--------------+----------------+------------------------------+ | Red Hat Enterprise Linux 9.5 | SKIPPED | SKIPPED | PASS | SKIPPED | +------------------------------+---------------------------+--------------+----------------+------------------------------+ | Ubuntu 22.04 | SKIPPED | SKIPPED | PASS | SKIPPED | +------------------------------+---------------------------+--------------+----------------+------------------------------+ | Ubuntu 24.04 | SKIPPED | SKIPPED | PASS | SKIPPED | +------------------------------+---------------------------+--------------+----------------+------------------------------+ Debian 12 (arm) Kernel: Depends on container host Compiler: gcc (Debian 12.2.0-14) 12.2.0 Ubuntu 20.04 Kernel: 5.4 Compiler: gcc gcc (Ubuntu 9.4.0-1ubuntu1~20.04.2) 9.4.0 CentOS Stream 9 Kernel: 5.4 Compiler: gcc gcc (GCC) 11.5.0 20240719 (Red Hat 11.5.0-11) Debian GNU/Linux 12 Kernel: 5.4 Compiler: gcc gcc (Debian 12.2.0-14+deb12u1) 12.2.0 Fedora Linux 40 Kernel: 5.4 Compiler: gcc gcc (GCC) 14.2.1 20240912 (Red Hat 14.2.1-3) CentOS Stream 10 Kernel: 5.4 Compiler: gcc gcc (GCC) 14.2.1 20250110 (Red Hat 14.2.1-8) Fedora Linux 42 Kernel: 5.4 Compiler: gcc gcc (GCC) 15.2.1 20250808 (Red Hat 15.2.1-1) Fedora Linux 41 Kernel: 5.4 Compiler: gcc gcc (GCC) 14.3.1 20250523 (Red Hat 14.3.1-1) Red Hat Enterprise Linux 9.5 Kernel: 5.4 Compiler: gcc gcc (GCC) 11.5.0 20240719 (Red Hat 11.5.0-2) Ubuntu 22.04 Kernel: 5.4 Compiler: gcc gcc (Ubuntu 11.4.0-1ubuntu1~22.04) 11.4.0 Ubuntu 24.04 Kernel: 5.4 Compiler: gcc gcc (Ubuntu 13.3.0-6ubuntu2~24.04) 13.3.0 To view detailed results, visit: https://lab.dpdk.org/results/dashboard/patchsets/34254/ UNH-IOL DPDK Community Lab To manage your email subscriptions, visit: https://lab.dpdk.org/results/dashboard/preferences/subscriptions/