From mboxrd@z Thu Jan 1 00:00:00 1970 Return-Path: Received: from mails.dpdk.org (mails.dpdk.org [217.70.189.124]) by inbox.dpdk.org (Postfix) with ESMTP id D6ADD4890D for ; Sat, 11 Oct 2025 14:37:54 +0200 (CEST) Received: from mails.dpdk.org (localhost [127.0.0.1]) by mails.dpdk.org (Postfix) with ESMTP id AB9F4400EF; Sat, 11 Oct 2025 14:37:54 +0200 (CEST) Received: from mail-pg1-f225.google.com (mail-pg1-f225.google.com [209.85.215.225]) by mails.dpdk.org (Postfix) with ESMTP id A55A9400EF for ; Sat, 11 Oct 2025 14:37:52 +0200 (CEST) Received: by mail-pg1-f225.google.com with SMTP id 41be03b00d2f7-b49c1c130c9so1858972a12.0 for ; Sat, 11 Oct 2025 05:37:52 -0700 (PDT) DKIM-Signature: v=1; a=rsa-sha256; c=relaxed/relaxed; d=iol.unh.edu; s=unh-iol; t=1760186272; x=1760791072; darn=dpdk.org; h=references:in-reply-to:cc:to:from:subject:message-id:date:from:to :cc:subject:date:message-id:reply-to; bh=JNaHRR+i27pQHZKQrXp0EHBN4p9SoQzg/8WLezYElns=; b=IcjQaoEaTdRRATkkJ78YCntsLwbTwCtzwSUqIYUvYyqzMiX1w3XvqDdgkVhrBAFXcA w1zbnj6gv/WAVtDC9+F2VRkrMDmAF9cx5HeAvLOy3a7UYMOiZE948e/iUlBarMMAaIAL pjR4XJto4xQvWQbtm0SGD1+bpiHmil+evOL2E= X-Google-DKIM-Signature: v=1; a=rsa-sha256; c=relaxed/relaxed; d=1e100.net; s=20230601; t=1760186272; x=1760791072; h=references:in-reply-to:cc:to:from:subject:message-id:date :x-gm-message-state:from:to:cc:subject:date:message-id:reply-to; bh=JNaHRR+i27pQHZKQrXp0EHBN4p9SoQzg/8WLezYElns=; b=w158UEHH34Wz7KwHKJn92qQgmRIEvtor3Nxuv+S7gVWwz71fbT7KlLwOaXgYRfOtPI HGeDacHx2FigBbkjVweC/Yq7OfndHPjetulH95tUbTHx7+xSQrsuxzQuYeIkxSjj/Mi5 uCP9OFJdRB7kiAg/3Wn5MQg5+xjaHI6TDVL6sMMWzgiKTZAmpTMJyqn6ltGFlPM9qWkx asHbqYWXL4HGfprY9u5ZNXns2vmPngbk/PUHSV1hw8UGjASbM786xRSQGnKoy5boNy/L H992XURAm0duMavn7JxsY+sZovrk/8o1U+R4ixx0byH7J6W8YQBerrtyfutDn9OXYPcF 0VJw== X-Gm-Message-State: AOJu0Yxjt6Zb3tQZ4A5IReJc7lTjRqP/YDD+KeQNwwUd/Mzd5iLAJKmg AQHzH0OnpXM9bpfVV+c/URAaoD5UrFYSgk696mZUlo5fbFAujS44q1AJPiLmuhAZe8boZECgEyn WCPnVHPHscPRgGyOxW74dE7EdK9JuNQo84a9obYTum8jSWom8fHanQmk+nSou X-Gm-Gg: ASbGncsJ/58vCKehy3Dy+S3/71QteTIqsn22GE+rZfV0tHV07L+YQ3Jg68zZByH6pCk uPOzgWp3yFeG8mv1EuWqYUrj68OumEiGtEXWOCoU8xZZEA6gWZiql0kXDJ7SckiL7J2C+5Q51yo JARUFtzwdUJvsBupVigYCbAcFDGTOCYgpdGPRTk+WGXgjcDZxeyZ9BO56afGGuowf5wXYw3qAJY l7L9D1o23sPiJAYAQuiZg0KnBUFmX+e2dGp4V/8MclIS2OtCYKjUoBYoEcHqYwX3Xekmrp2o83h JVjhqxc7qV7ESNYtblEh9qs/hMLDpU9x1TynRTJTm/+dupu3/A== X-Google-Smtp-Source: AGHT+IG4A4DZdo1tn3mMCxIZk92FuSQECyvIhTWRtyIRfB4VGVrB+0BNwHXccCFuV57KOf8m1BhrwjFTSJx7 X-Received: by 2002:a17:903:37cd:b0:235:e8da:8d1 with SMTP id d9443c01a7336-29027213309mr178677085ad.8.1760186271723; Sat, 11 Oct 2025 05:37:51 -0700 (PDT) Received: from postal.iol.unh.edu (postal.iol.unh.edu. [2606:4100:3880:1234::84]) by smtp-relay.gmail.com with ESMTPS id d9443c01a7336-29034efa8f5sm6636955ad.48.2025.10.11.05.37.51 (version=TLS1_2 cipher=ECDHE-ECDSA-AES128-GCM-SHA256 bits=128/128); Sat, 11 Oct 2025 05:37:51 -0700 (PDT) X-Relaying-Domain: iol.unh.edu Date: Sat, 11 Oct 2025 05:37:51 -0700 (PDT) Message-ID: <68ea4f9f.170a0220.178c3e.1780SMTPIN_ADDED_MISSING@mx.google.com> Received: from [172.21.0.2] (unknown [172.18.0.240]) by postal.iol.unh.edu (Postfix) with ESMTP id F12A56051830; Sat, 11 Oct 2025 08:37:50 -0400 (EDT) Subject: |SUCCESS| pw157457 [PATCH] net/crc: reduce usage of static arrays in From: dpdklab@iol.unh.edu To: Test Report Cc: dpdk-test-reports@iol.unh.edu In-Reply-To: <20251011113202.937991-1-16567adigashreesh@gmail.com> References: <20251011113202.937991-1-16567adigashreesh@gmail.com> Content-Type: text/plain X-BeenThere: test-report@dpdk.org X-Mailman-Version: 2.1.29 Precedence: list List-Id: automatic DPDK test reports List-Unsubscribe: , List-Archive: List-Post: List-Help: List-Subscribe: , Errors-To: test-report-bounces@dpdk.org Test-Label: iol-compile-amd64-testing Test-Status: SUCCESS http://dpdk.org/patch/157457 _Testing PASS_ Submitter: Shreesh Adiga <16567adigashreesh@gmail.com> Date: Saturday, October 11 2025 11:29:34 DPDK git baseline: Repo:dpdk Branch: master CommitID:2b403dd8fb37d0ba13723e44ffc7ee2c2795f838 157457 --> testing pass Upstream job id: Generic-DPDK-Compile-Meson#433387 Test environment and result as below: +-------------------------------+--------------------+-------------------+------------------+-------------------------+-------------------+----------------------+ | Environment | dpdk_meson_compile | dpdk_compile_spdk | dpdk_compile_ovs | dpdk_llvm_clang_compile | dpdk_msvc_compile | dpdk_mingw64_compile | +===============================+====================+===================+==================+=========================+===================+======================+ | CentOS Stream 9 | PASS | PASS | SKIPPED | SKIPPED | SKIPPED | SKIPPED | +-------------------------------+--------------------+-------------------+------------------+-------------------------+-------------------+----------------------+ | Ubuntu 24.04 | PASS | PASS | PASS | SKIPPED | SKIPPED | SKIPPED | +-------------------------------+--------------------+-------------------+------------------+-------------------------+-------------------+----------------------+ | CentOS Stream 10 | PASS | SKIPPED | SKIPPED | SKIPPED | SKIPPED | SKIPPED | +-------------------------------+--------------------+-------------------+------------------+-------------------------+-------------------+----------------------+ | Fedora Linux 42 | PASS | PASS | PASS | SKIPPED | SKIPPED | SKIPPED | +-------------------------------+--------------------+-------------------+------------------+-------------------------+-------------------+----------------------+ | Debian GNU/Linux 12 | PASS | PASS | SKIPPED | SKIPPED | SKIPPED | SKIPPED | +-------------------------------+--------------------+-------------------+------------------+-------------------------+-------------------+----------------------+ | Red Hat Enterprise Linux 8.10 | PASS | SKIPPED | SKIPPED | SKIPPED | SKIPPED | SKIPPED | +-------------------------------+--------------------+-------------------+------------------+-------------------------+-------------------+----------------------+ | openSUSE Leap 15.6 | PASS | SKIPPED | SKIPPED | SKIPPED | SKIPPED | SKIPPED | +-------------------------------+--------------------+-------------------+------------------+-------------------------+-------------------+----------------------+ | Ubuntu 20.04 | PASS | SKIPPED | SKIPPED | SKIPPED | SKIPPED | SKIPPED | +-------------------------------+--------------------+-------------------+------------------+-------------------------+-------------------+----------------------+ | Red Hat Enterprise Linux 9.5 | PASS | SKIPPED | SKIPPED | SKIPPED | SKIPPED | SKIPPED | +-------------------------------+--------------------+-------------------+------------------+-------------------------+-------------------+----------------------+ | Ubuntu 22.04 | PASS | PASS | SKIPPED | SKIPPED | SKIPPED | SKIPPED | +-------------------------------+--------------------+-------------------+------------------+-------------------------+-------------------+----------------------+ | Alpine Linux 3.22.0 | PASS | SKIPPED | SKIPPED | SKIPPED | SKIPPED | SKIPPED | +-------------------------------+--------------------+-------------------+------------------+-------------------------+-------------------+----------------------+ | FreeBSD 14.2 | PASS | SKIPPED | SKIPPED | SKIPPED | SKIPPED | SKIPPED | +-------------------------------+--------------------+-------------------+------------------+-------------------------+-------------------+----------------------+ | Windows Server 2022 | SKIPPED | SKIPPED | SKIPPED | PASS | PASS | PASS | +-------------------------------+--------------------+-------------------+------------------+-------------------------+-------------------+----------------------+ CentOS Stream 9 Kernel: 5.15 Compiler: gcc gcc (GCC) 11.5.0 20240719 (Red Hat 11.5.0-11) Ubuntu 24.04 Kernel: 5.15 Compiler: gcc gcc (Ubuntu 13.3.0-6ubuntu2~24.04) 13.3.0 CentOS Stream 10 Kernel: 5.15 Compiler: gcc gcc (GCC) 14.2.1 20250110 (Red Hat 14.2.1-8) Fedora Linux 42 Kernel: 5.15 Compiler: clang gcc (GCC) 15.2.1 20250808 (Red Hat 15.2.1-1) Debian GNU/Linux 12 Kernel: 5.15 Compiler: gcc gcc (Debian 12.2.0-14+deb12u1) 12.2.0 Red Hat Enterprise Linux 8.10 Kernel: 5.15 Compiler: gcc gcc (GCC) 8.5.0 20210514 (Red Hat 8.5.0-22) openSUSE Leap 15.6 Kernel: 5.15 Compiler: gcc gcc (SUSE Linux) 7.5.0 Ubuntu 20.04 Kernel: 4.19 Compiler: gcc gcc (Ubuntu 9.4.0-1ubuntu1~20.04.2) 9.4.0 Red Hat Enterprise Linux 9.5 Kernel: 5.15 Compiler: gcc gcc (GCC) 11.5.0 20240719 (Red Hat 11.5.0-2) Ubuntu 22.04 Kernel: 5.15 Compiler: gcc gcc (Ubuntu 11.4.0-1ubuntu1~22.04) 11.4.0 Alpine Linux 3.22.0 Kernel: 5.15 Compiler: gcc gcc (Alpine 14.2.0) 14.2.0 FreeBSD 14.2 Kernel: 14.2-RELEASE Compiler: clang 18.1.6 Windows Server 2022 Kernel: 10.0.20348.2031 Compiler: clang 15.0.7, gcc 14.1.0 (MinGW), and MSVC VS 19.39.33521 To view detailed results, visit: https://lab.dpdk.org/results/dashboard/patchsets/34256/ UNH-IOL DPDK Community Lab To manage your email subscriptions, visit: https://lab.dpdk.org/results/dashboard/preferences/subscriptions/