From mboxrd@z Thu Jan 1 00:00:00 1970 Return-Path: Received: from mails.dpdk.org (mails.dpdk.org [217.70.189.124]) by inbox.dpdk.org (Postfix) with ESMTP id 92ED84890D for ; Sat, 11 Oct 2025 14:45:06 +0200 (CEST) Received: from mails.dpdk.org (localhost [127.0.0.1]) by mails.dpdk.org (Postfix) with ESMTP id 8EEE3400EF; Sat, 11 Oct 2025 14:45:06 +0200 (CEST) Received: from mail-pl1-f226.google.com (mail-pl1-f226.google.com [209.85.214.226]) by mails.dpdk.org (Postfix) with ESMTP id AF8BF400EF for ; Sat, 11 Oct 2025 14:45:03 +0200 (CEST) Received: by mail-pl1-f226.google.com with SMTP id d9443c01a7336-27eceb38eb1so30774685ad.3 for ; Sat, 11 Oct 2025 05:45:03 -0700 (PDT) DKIM-Signature: v=1; a=rsa-sha256; c=relaxed/relaxed; d=iol.unh.edu; s=unh-iol; t=1760186703; x=1760791503; darn=dpdk.org; h=references:in-reply-to:cc:to:from:subject:message-id:date:from:to :cc:subject:date:message-id:reply-to; bh=nmr6A9Tugt6TkiBEcHo8ABlWHxgshT/ajpOP2zeHBN4=; b=SSnZx9zje4dT5LahHoI4s2GFLPjGKoYoPz3clk6fBSeTW2PMgKvQG+Tp2ORTw/GV94 2uvDew1hWjqASDbr6xxAegeBekw+FntFO+L8MN2iZgrF4I9xTs1ykptGJXLSFkhILyHi Fk/hIZilqJ6FlrmfBeIVmfWir+8Bj5+TOd6xk= X-Google-DKIM-Signature: v=1; a=rsa-sha256; c=relaxed/relaxed; d=1e100.net; s=20230601; t=1760186703; x=1760791503; h=references:in-reply-to:cc:to:from:subject:message-id:date :x-gm-message-state:from:to:cc:subject:date:message-id:reply-to; bh=nmr6A9Tugt6TkiBEcHo8ABlWHxgshT/ajpOP2zeHBN4=; b=Clu5wLNKt+4Xl1sbRFD0ScAfCL1dacGD9cXljhL0W7X6pMs/nxlxgJ3THBmFAmiye0 5Gyi2MZDxEo2FpnXm0JLwjk20mZ8V5QNIT6VpCb4P8zZcodeEEQ36ugDpNdy0Xb+z6w8 C/vcXRuaFyH03iDuJpoIdm9YeXHMHkunZC3sCSieJbb2H1ikTOyFmPn19DR2BZ0QysEV 36SUee27Y8JIVD4h2vX0NJLELhIaXJacgsRYDJOCHU/H86X+T99eWslxh8va9hpbSN7R pFLbV8AJRkMp66X98ImXr5dts3SXffZZOFgvzxZfrbnnw7ts9J4fXHxvkKFgwLZ/+R3w qj+A== X-Gm-Message-State: AOJu0YxikiDfMXkXKys42rzzrMFa3vPgHJocPXGMi0Os8sDVXd2kSHUa mLFtSUCm63AINkNIiulxosIqwtRUZ+15FbMTiUWS2i9VxqPTuZpZxTQkT1bC6cFTsi59PoF4w1v 4M9wjBx5s91RC1hDGdELv94R8J6fOqpF1Fwz6bGvrDnaj136kyab+jG9ehr8K X-Gm-Gg: ASbGncvwP2EqbHVCMmyQYrTj0soDlaPaxOJtMNY9M/aeC2Q1keJcxaD8dE7001pHfSp eFux4ojFjfQ5NFnKPm2IuNW0122qSnZXZUrTTW8L4Tn+0mEpy5WMkVNoKia6uqAB3fCnFqffCiZ HcBwr2rpcXatZZ8ruBOklUD99uplsovtDYgma7q251Iu6L2GK2QqVqJ6s72byWOxJybMjhckoKw fiNg98wDLrBX7LXtGWr9m+8R7Xni+46hkRf+PSazM25GVMoCLPZxp4de9J6nbpPRz0Ys61I4JaI Ef4s8O/YC0+hz72FL9nDmH27oPlxtmPxUZY4FQPIeFwQvbuEcA== X-Google-Smtp-Source: AGHT+IFuI7wPHEXRn/Ln1PagwPAKAxidpm3qAcbti6mJ8W2OsRBQrg68zg9pjj5m1vZ7aFvYospHXpFPPME4 X-Received: by 2002:a17:903:1ac8:b0:269:4759:904b with SMTP id d9443c01a7336-2902741e435mr179514445ad.58.1760186702851; Sat, 11 Oct 2025 05:45:02 -0700 (PDT) Received: from postal.iol.unh.edu (postal.iol.unh.edu. [2606:4100:3880:1234::84]) by smtp-relay.gmail.com with ESMTPS id d9443c01a7336-29034e23299sm6839645ad.16.2025.10.11.05.45.02 (version=TLS1_2 cipher=ECDHE-ECDSA-AES128-GCM-SHA256 bits=128/128); Sat, 11 Oct 2025 05:45:02 -0700 (PDT) X-Relaying-Domain: iol.unh.edu Date: Sat, 11 Oct 2025 05:45:02 -0700 (PDT) Message-ID: <68ea514e.170a0220.138117.4d4eSMTPIN_ADDED_MISSING@mx.google.com> Received: from [172.21.0.3] (unknown [172.18.0.240]) by postal.iol.unh.edu (Postfix) with ESMTP id 52CC96051830; Sat, 11 Oct 2025 08:45:02 -0400 (EDT) Subject: |SUCCESS| pw157457 [PATCH] net/crc: reduce usage of static arrays in From: dpdklab@iol.unh.edu To: Test Report Cc: dpdk-test-reports@iol.unh.edu In-Reply-To: <20251011113202.937991-1-16567adigashreesh@gmail.com> References: <20251011113202.937991-1-16567adigashreesh@gmail.com> Content-Type: text/plain X-BeenThere: test-report@dpdk.org X-Mailman-Version: 2.1.29 Precedence: list List-Id: automatic DPDK test reports List-Unsubscribe: , List-Archive: List-Post: List-Help: List-Subscribe: , Errors-To: test-report-bounces@dpdk.org Test-Label: iol-unit-amd64-testing Test-Status: SUCCESS http://dpdk.org/patch/157457 _Testing PASS_ Submitter: Shreesh Adiga <16567adigashreesh@gmail.com> Date: Saturday, October 11 2025 11:29:34 DPDK git baseline: Repo:dpdk Branch: master CommitID:2b403dd8fb37d0ba13723e44ffc7ee2c2795f838 157457 --> testing pass Upstream job id: Generic-VM-Unit-Test-DPDK#31726 Test environment and result as below: +-------------------------------+----------------+ | Environment | dpdk_unit_test | +===============================+================+ | CentOS Stream 10 | PASS | +-------------------------------+----------------+ | Fedora Linux 42 | PASS | +-------------------------------+----------------+ | Ubuntu 20.04 | PASS | +-------------------------------+----------------+ | Ubuntu 24.04 | PASS | +-------------------------------+----------------+ | Red Hat Enterprise Linux 8.10 | PASS | +-------------------------------+----------------+ | CentOS Stream 9 | PASS | +-------------------------------+----------------+ | Fedora Linux 41 | PASS | +-------------------------------+----------------+ | Fedora Linux 40 | PASS | +-------------------------------+----------------+ | Red Hat Enterprise Linux 9.5 | PASS | +-------------------------------+----------------+ | Ubuntu 22.04 | PASS | +-------------------------------+----------------+ | Debian GNU/Linux 12 | PASS | +-------------------------------+----------------+ | Windows Server 2022 | PASS | +-------------------------------+----------------+ CentOS Stream 10 Kernel: 5.15 Compiler: gcc gcc (GCC) 14.2.1 20250110 (Red Hat 14.2.1-8) Fedora Linux 42 Kernel: 5.15 Compiler: gcc gcc (GCC) 15.2.1 20250808 (Red Hat 15.2.1-1) Ubuntu 20.04 Kernel: 5.15 Compiler: gcc gcc (Ubuntu 9.4.0-1ubuntu1~20.04.2) 9.4.0 Ubuntu 24.04 Kernel: 5.15 Compiler: gcc gcc (Ubuntu 13.3.0-6ubuntu2~24.04) 13.3.0 Red Hat Enterprise Linux 8.10 Kernel: 5.15 Compiler: gcc gcc (GCC) 8.5.0 20210514 (Red Hat 8.5.0-22) CentOS Stream 9 Kernel: 5.15 Compiler: gcc gcc (GCC) 11.5.0 20240719 (Red Hat 11.5.0-11) Fedora Linux 41 Kernel: 5.15 Compiler: gcc gcc (GCC) 14.3.1 20250523 (Red Hat 14.3.1-1) Fedora Linux 40 Kernel: 5.15 Compiler: gcc gcc (GCC) 14.2.1 20240912 (Red Hat 14.2.1-3) Red Hat Enterprise Linux 9.5 Kernel: 5.15 Compiler: gcc gcc (GCC) 11.5.0 20240719 (Red Hat 11.5.0-2) Ubuntu 22.04 Kernel: 5.15 Compiler: gcc gcc (Ubuntu 11.4.0-1ubuntu1~22.04) 11.4.0 Debian GNU/Linux 12 Kernel: 5.15 Compiler: gcc gcc (Debian 12.2.0-14+deb12u1) 12.2.0 Windows Server 2022 Kernel: 10.0.20348.2031 Compiler: clang 15.0.7, gcc 14.1.0 (MinGW), and MSVC VS 19.39.33521 To view detailed results, visit: https://lab.dpdk.org/results/dashboard/patchsets/34256/ UNH-IOL DPDK Community Lab To manage your email subscriptions, visit: https://lab.dpdk.org/results/dashboard/preferences/subscriptions/