From mboxrd@z Thu Jan 1 00:00:00 1970 Return-Path: Received: from mails.dpdk.org (mails.dpdk.org [217.70.189.124]) by inbox.dpdk.org (Postfix) with ESMTP id 1BDD04890D for ; Sat, 11 Oct 2025 14:49:49 +0200 (CEST) Received: from mails.dpdk.org (localhost [127.0.0.1]) by mails.dpdk.org (Postfix) with ESMTP id EF91F400EF; Sat, 11 Oct 2025 14:49:48 +0200 (CEST) Received: from mail-oo1-f97.google.com (mail-oo1-f97.google.com [209.85.161.97]) by mails.dpdk.org (Postfix) with ESMTP id C82BD400EF for ; Sat, 11 Oct 2025 14:49:47 +0200 (CEST) Received: by mail-oo1-f97.google.com with SMTP id 006d021491bc7-649a715fcaeso730276eaf.3 for ; Sat, 11 Oct 2025 05:49:47 -0700 (PDT) DKIM-Signature: v=1; a=rsa-sha256; c=relaxed/relaxed; d=iol.unh.edu; s=unh-iol; t=1760186987; x=1760791787; darn=dpdk.org; h=references:in-reply-to:cc:to:from:subject:message-id:date:from:to :cc:subject:date:message-id:reply-to; bh=1zFagxrToOS0afxmhGL7oOfIIgqfvSspmx+nvyG4Zcw=; b=QKlrDt+McdDNBhk8QpcSFGojA3ZeTRq29JSLStpXr8yYWxW/Zc4CkYElvZttI/5jwe cVdkuc8Kqw5hMnQkmZr3UoGxevSwSxVRH7aG2PM1ZeWBRnk6Ljdy3Ne/z7PvCPCyA3tB S35Sp46oK80WA+JLU8IRWAogCOOikG1A6ydm4= X-Google-DKIM-Signature: v=1; a=rsa-sha256; c=relaxed/relaxed; d=1e100.net; s=20230601; t=1760186987; x=1760791787; h=references:in-reply-to:cc:to:from:subject:message-id:date :x-gm-message-state:from:to:cc:subject:date:message-id:reply-to; bh=1zFagxrToOS0afxmhGL7oOfIIgqfvSspmx+nvyG4Zcw=; b=SMtHRDAfgLs0NOIiwl/LhtHhZ1/g1keAUZakUucCMzTr3u9NrodiVwM7/lVXqac6dX 704jAK3WGTzeg9IzpEwYDwqPl4/Qnm6nBJAOvQTyBUqGiJr08vfy2cXSfUKTqGw779kP mVMQaijHit5Pr5vdaDz/Xr1rPcsmGrx+f0N9oBEDz0YcHEo3h/1eybreQyYBvO28iAx7 hxXi51OvslWzG2+5RkkJzB5s37jel0Fyo7fNn/2Pyqc3BvBKK3oMgtHU5pokohMZe0Fu oDCchF6R4aiA1dXSfaTD62rdye5S7h6wiB1O3LzQKZH4Lcmmj6ySrwolHoKRDrK3cnFU 2iHg== X-Gm-Message-State: AOJu0YwP+lIRAJAa5RmfMW9TblRnhtNrR0OhULCZqii3/yMULuciaol0 C84qoyebbpKUIK4/N+Bl1GBk/DsW7nG9HCQwK2rZhpY8ExnecjSDgid6QAzjMDX71t33BuxgVKT 35Rn2JSGqG5xcT7l1eUH5pOhGfNhghX2PMhlF55o/3qsesjxwfZxOhspkttz2 X-Gm-Gg: ASbGncv0K2eNY2IdHGPY0HGo9mCAYCcoCyxrvmpVP+HQxeeT474f8XaNw+NZyQOu3s5 sE8YPEh4/LLSwn2TnWydz1WWTRO1m8X86l5HmUMoUzMSgyIkdlH75PLuHoZw6nZuAbrM19/5XRC cJ9wJAO1GsJ88F4xsw43ITloWO1WTlYU020qvUBuRR/tF5m0QA3BQ4H9SO3iCpnsbCZJtibNubt MoT30EvJY+C8RpheaB68mKUi6Ucy2ogYDQmHPb+6t+QrVKPcwMN9HHme2hn+orJHkGW811P/Wdt 5sAAZYv29iqJK8Wwj1R1IvI26VU1+GjwVsyvDuqaCUAIO4AzIQ== X-Google-Smtp-Source: AGHT+IHfKTPistw+xccWAurZEiBL7SGnFyk8QeL5j/rCWkAHTgrLY4XiD157djYKEUCxh8QAmQSicshS2Db3 X-Received: by 2002:a05:687c:2004:20b0:3c8:d23f:fa83 with SMTP id 586e51a60fabf-3c8d24009c8mr1850023fac.5.1760186986931; Sat, 11 Oct 2025 05:49:46 -0700 (PDT) Received: from postal.iol.unh.edu (postal.iol.unh.edu. [2606:4100:3880:1234::84]) by smtp-relay.gmail.com with ESMTPS id 586e51a60fabf-3c8c8f0efc0sm476166fac.21.2025.10.11.05.49.46 (version=TLS1_2 cipher=ECDHE-ECDSA-AES128-GCM-SHA256 bits=128/128); Sat, 11 Oct 2025 05:49:46 -0700 (PDT) X-Relaying-Domain: iol.unh.edu Date: Sat, 11 Oct 2025 05:49:46 -0700 (PDT) Message-ID: <68ea526a.050a0220.7619d.7f29SMTPIN_ADDED_MISSING@mx.google.com> Received: from [172.21.0.2] (unknown [172.18.0.240]) by postal.iol.unh.edu (Postfix) with ESMTP id 21E516051830; Sat, 11 Oct 2025 08:49:46 -0400 (EDT) Subject: |SUCCESS| pw157457 [PATCH] net/crc: reduce usage of static arrays in From: dpdklab@iol.unh.edu To: Test Report Cc: dpdk-test-reports@iol.unh.edu In-Reply-To: <20251011113202.937991-1-16567adigashreesh@gmail.com> References: <20251011113202.937991-1-16567adigashreesh@gmail.com> Content-Type: text/plain X-BeenThere: test-report@dpdk.org X-Mailman-Version: 2.1.29 Precedence: list List-Id: automatic DPDK test reports List-Unsubscribe: , List-Archive: List-Post: List-Help: List-Subscribe: , Errors-To: test-report-bounces@dpdk.org Test-Label: iol-unit-amd64-testing Test-Status: SUCCESS http://dpdk.org/patch/157457 _Testing PASS_ Submitter: Shreesh Adiga <16567adigashreesh@gmail.com> Date: Saturday, October 11 2025 11:29:34 DPDK git baseline: Repo:dpdk Branch: master CommitID:2b403dd8fb37d0ba13723e44ffc7ee2c2795f838 157457 --> testing pass Upstream job id: Generic-VM-Unit-Test-DPDK#31727 Test environment and result as below: +-------------------------------+----------------+ | Environment | dpdk_unit_test | +===============================+================+ | CentOS Stream 10 | PASS | +-------------------------------+----------------+ | Fedora Linux 42 | PASS | +-------------------------------+----------------+ | Ubuntu 20.04 | PASS | +-------------------------------+----------------+ | Ubuntu 24.04 | PASS | +-------------------------------+----------------+ | Red Hat Enterprise Linux 8.10 | PASS | +-------------------------------+----------------+ | CentOS Stream 9 | PASS | +-------------------------------+----------------+ | Fedora Linux 41 | PASS | +-------------------------------+----------------+ | Fedora Linux 40 | PASS | +-------------------------------+----------------+ | Red Hat Enterprise Linux 9.5 | PASS | +-------------------------------+----------------+ | Ubuntu 22.04 | PASS | +-------------------------------+----------------+ | Debian GNU/Linux 12 | PASS | +-------------------------------+----------------+ | Windows Server 2022 | PASS | +-------------------------------+----------------+ CentOS Stream 10 Kernel: 5.15 Compiler: gcc gcc (GCC) 14.2.1 20250110 (Red Hat 14.2.1-8) Fedora Linux 42 Kernel: 5.15 Compiler: gcc gcc (GCC) 15.2.1 20250808 (Red Hat 15.2.1-1) Ubuntu 20.04 Kernel: 5.15 Compiler: gcc gcc (Ubuntu 9.4.0-1ubuntu1~20.04.2) 9.4.0 Ubuntu 24.04 Kernel: 5.15 Compiler: gcc gcc (Ubuntu 13.3.0-6ubuntu2~24.04) 13.3.0 Red Hat Enterprise Linux 8.10 Kernel: 5.15 Compiler: gcc gcc (GCC) 8.5.0 20210514 (Red Hat 8.5.0-22) CentOS Stream 9 Kernel: 5.15 Compiler: gcc gcc (GCC) 11.5.0 20240719 (Red Hat 11.5.0-11) Fedora Linux 41 Kernel: 5.15 Compiler: gcc gcc (GCC) 14.3.1 20250523 (Red Hat 14.3.1-1) Fedora Linux 40 Kernel: 5.15 Compiler: gcc gcc (GCC) 14.2.1 20240912 (Red Hat 14.2.1-3) Red Hat Enterprise Linux 9.5 Kernel: 5.15 Compiler: gcc gcc (GCC) 11.5.0 20240719 (Red Hat 11.5.0-2) Ubuntu 22.04 Kernel: 5.15 Compiler: gcc gcc (Ubuntu 11.4.0-1ubuntu1~22.04) 11.4.0 Debian GNU/Linux 12 Kernel: 5.15 Compiler: gcc gcc (Debian 12.2.0-14+deb12u1) 12.2.0 Windows Server 2022 Kernel: 10.0.20348.2031 Compiler: clang 15.0.7, gcc 14.1.0 (MinGW), and MSVC VS 19.39.33521 To view detailed results, visit: https://lab.dpdk.org/results/dashboard/patchsets/34256/ UNH-IOL DPDK Community Lab To manage your email subscriptions, visit: https://lab.dpdk.org/results/dashboard/preferences/subscriptions/