From mboxrd@z Thu Jan 1 00:00:00 1970 Return-Path: Received: from mails.dpdk.org (mails.dpdk.org [217.70.189.124]) by inbox.dpdk.org (Postfix) with ESMTP id C75004890D for ; Sat, 11 Oct 2025 15:10:10 +0200 (CEST) Received: from mails.dpdk.org (localhost [127.0.0.1]) by mails.dpdk.org (Postfix) with ESMTP id 9E8F3400EF; Sat, 11 Oct 2025 15:10:10 +0200 (CEST) Received: from mail-yw1-f225.google.com (mail-yw1-f225.google.com [209.85.128.225]) by mails.dpdk.org (Postfix) with ESMTP id 5C3FC400EF for ; Sat, 11 Oct 2025 15:10:09 +0200 (CEST) Received: by mail-yw1-f225.google.com with SMTP id 00721157ae682-73b4e3d0756so33304977b3.3 for ; Sat, 11 Oct 2025 06:10:09 -0700 (PDT) DKIM-Signature: v=1; a=rsa-sha256; c=relaxed/relaxed; d=iol.unh.edu; s=unh-iol; t=1760188208; x=1760793008; darn=dpdk.org; h=references:in-reply-to:cc:to:from:subject:message-id:date:from:to :cc:subject:date:message-id:reply-to; bh=n8ThjNCkVKAY+v26Hq0gmaxfSLkTLqWNzQImOLI6kE4=; b=fCkNLCjMtwsGmg2Tw/Q+T4yz4wHz7yp1tpqFPS6wNgC+t3msooEuEN7eZreptmoVID XLIJmZeYt/nN88u/Q5JerATFPWmhay0KDTz1KJ4k3kOgxHLwQ/DYSV1+7a3KP0pPqiLn XZhBibEKDY/CEdQOOSXMX8oD/ymewUk6S4zb0= X-Google-DKIM-Signature: v=1; a=rsa-sha256; c=relaxed/relaxed; d=1e100.net; s=20230601; t=1760188208; x=1760793008; h=references:in-reply-to:cc:to:from:subject:message-id:date :x-gm-message-state:from:to:cc:subject:date:message-id:reply-to; bh=n8ThjNCkVKAY+v26Hq0gmaxfSLkTLqWNzQImOLI6kE4=; b=AQQ1yzW2l2bcpLM2hts+T5s1xaZ8TbfDafzz0b277GKF7KMSPxtDKL2DzNIhcPW4rI 5XIGmSoDVPBgMIzAa+Q7FHAXS50WY+yQMathOYxvFkZdS1OTDNWt5PapmjYQMv5qhaIP JdfOpA5hfLVeAU4ahTjJxVl7grOKi/mRCZ8ZTS9zKpqapqCE8vl/FkVCSSLnIdT0vYYT f7l7//xrLqr3sSjRgFkR7+w++4Cvg1rjJe0gmqyJ+oC8D4U9McS/pVrYxvq2VuqSFZIi pTBegZx/ZDFrWQ4bF8IBQRE9FOvtPv4EWOPkKMJPoin+I8zmDNLOa05oEiULh98y0Dv0 pvSA== X-Gm-Message-State: AOJu0Yxc1/tObEIaymtSXyi03xajsnOKsrZkbC0IuGNYb5jovlZmPMnA PWemUqR3XIT+qyaz0s09ET7nlcknKNTq/hnlI9yx5b24ZXRDnxC89TN03LInf2LJV7cSNHyUtnZ jGt9Ho7OG1vU8wmMmI5DamCTKQVE+tEma7crm/ZX/MSkChcjnWy63DvURXScK X-Gm-Gg: ASbGncvnDsTwt10Rxg/4uAhMcqGc9ZSXFvyIag08m9WMw/sSqkmTKhwfG1sAf//hlXA wyXEXiAllMKo14P8cuRb6MOkZnZQKhx+qn4G0ZB2gpDMAbipCjSoxM+Hvqf+TBOllUk1SREmLDQ 8114ghEryookiriZ8A/RPKRN3dt8qi9IXhDilZak+8mOfeHVo8pM6icZdq9jdP2isvT1sjMUfgj yZXP3FZTzATMG5l6wcWqGDM7WFv8ynp/RS/pq/JVJIP/VULCD+z+3h0bsS2X1VSDoh2WxEJSgV7 2xzYQbNJ8+M+KRXldDp6RycKWlyr64rU8gbiEWQHXpyPDnVz+w== X-Google-Smtp-Source: AGHT+IGFffETIFrPmeIwlQH/KYM48Jl9+BTpTtoQ41CREs3zeGsedWfKnpVKusAG5dpKk0RX9S8NaoRkyAq1 X-Received: by 2002:a05:690c:3381:b0:765:476:f267 with SMTP id 00721157ae682-780e158617fmr161616167b3.13.1760188208525; Sat, 11 Oct 2025 06:10:08 -0700 (PDT) Received: from postal.iol.unh.edu (postal.iol.unh.edu. [2606:4100:3880:1234::84]) by smtp-relay.gmail.com with ESMTPS id 00721157ae682-78106fac236sm2875127b3.22.2025.10.11.06.10.08 (version=TLS1_2 cipher=ECDHE-ECDSA-AES128-GCM-SHA256 bits=128/128); Sat, 11 Oct 2025 06:10:08 -0700 (PDT) X-Relaying-Domain: iol.unh.edu Date: Sat, 11 Oct 2025 06:10:08 -0700 (PDT) Message-ID: <68ea5730.050a0220.29635a.e77bSMTPIN_ADDED_MISSING@mx.google.com> Received: from [172.21.0.3] (unknown [172.18.0.240]) by postal.iol.unh.edu (Postfix) with ESMTP id E29A86051830; Sat, 11 Oct 2025 09:10:07 -0400 (EDT) Subject: |SUCCESS| pw157457 [PATCH] net/crc: reduce usage of static arrays in From: dpdklab@iol.unh.edu To: Test Report Cc: dpdk-test-reports@iol.unh.edu In-Reply-To: <20251011113202.937991-1-16567adigashreesh@gmail.com> References: <20251011113202.937991-1-16567adigashreesh@gmail.com> Content-Type: text/plain X-BeenThere: test-report@dpdk.org X-Mailman-Version: 2.1.29 Precedence: list List-Id: automatic DPDK test reports List-Unsubscribe: , List-Archive: List-Post: List-Help: List-Subscribe: , Errors-To: test-report-bounces@dpdk.org Test-Label: iol-unit-arm64-testing Test-Status: SUCCESS http://dpdk.org/patch/157457 _Testing PASS_ Submitter: Shreesh Adiga <16567adigashreesh@gmail.com> Date: Saturday, October 11 2025 11:29:34 DPDK git baseline: Repo:dpdk Branch: master CommitID:2b403dd8fb37d0ba13723e44ffc7ee2c2795f838 157457 --> testing pass Upstream job id: Generic-Unit-Test-DPDK#380448 Test environment and result as below: +------------------------------+----------------+---------------------------+--------------+------------------------------+ | Environment | dpdk_unit_test | cryptodev_sw_zuc_autotest | lpm_autotest | cryptodev_sw_snow3g_autotest | +==============================+================+===========================+==============+==============================+ | Fedora Linux 41 | PASS | SKIPPED | SKIPPED | SKIPPED | +------------------------------+----------------+---------------------------+--------------+------------------------------+ | Debian GNU/Linux 12 | PASS | SKIPPED | SKIPPED | SKIPPED | +------------------------------+----------------+---------------------------+--------------+------------------------------+ | CentOS Stream 10 | PASS | SKIPPED | SKIPPED | SKIPPED | +------------------------------+----------------+---------------------------+--------------+------------------------------+ | Fedora Linux 40 | PASS | SKIPPED | SKIPPED | SKIPPED | +------------------------------+----------------+---------------------------+--------------+------------------------------+ | Ubuntu 20.04 | PASS | SKIPPED | PASS | SKIPPED | +------------------------------+----------------+---------------------------+--------------+------------------------------+ | Fedora Linux 42 | PASS | SKIPPED | SKIPPED | SKIPPED | +------------------------------+----------------+---------------------------+--------------+------------------------------+ | Ubuntu 24.04 | PASS | SKIPPED | SKIPPED | SKIPPED | +------------------------------+----------------+---------------------------+--------------+------------------------------+ | Ubuntu 22.04 | PASS | SKIPPED | SKIPPED | SKIPPED | +------------------------------+----------------+---------------------------+--------------+------------------------------+ | CentOS Stream 9 | PASS | SKIPPED | SKIPPED | SKIPPED | +------------------------------+----------------+---------------------------+--------------+------------------------------+ | Red Hat Enterprise Linux 9.5 | PASS | SKIPPED | SKIPPED | SKIPPED | +------------------------------+----------------+---------------------------+--------------+------------------------------+ | Debian 12 (arm) | SKIPPED | PASS | SKIPPED | PASS | +------------------------------+----------------+---------------------------+--------------+------------------------------+ Fedora Linux 41 Kernel: 5.4 Compiler: clang gcc (GCC) 14.3.1 20250523 (Red Hat 14.3.1-1) Debian GNU/Linux 12 Kernel: 5.4 Compiler: gcc gcc (Debian 12.2.0-14+deb12u1) 12.2.0 CentOS Stream 10 Kernel: 5.4 Compiler: gcc gcc (GCC) 14.2.1 20250110 (Red Hat 14.2.1-8) Fedora Linux 40 Kernel: 5.4 Compiler: clang gcc (GCC) 14.2.1 20240912 (Red Hat 14.2.1-3) Ubuntu 20.04 Kernel: 5.4 Compiler: gcc gcc (Ubuntu 9.4.0-1ubuntu1~20.04.2) 9.4.0 Fedora Linux 42 Kernel: 5.4 Compiler: clang gcc (GCC) 15.2.1 20250808 (Red Hat 15.2.1-1) Ubuntu 24.04 Kernel: 5.4 Compiler: gcc gcc (Ubuntu 13.3.0-6ubuntu2~24.04) 13.3.0 Ubuntu 22.04 Kernel: 5.4 Compiler: gcc gcc (Ubuntu 11.4.0-1ubuntu1~22.04) 11.4.0 CentOS Stream 9 Kernel: 5.4 Compiler: gcc gcc (GCC) 11.5.0 20240719 (Red Hat 11.5.0-11) Red Hat Enterprise Linux 9.5 Kernel: 5.4 Compiler: gcc gcc (GCC) 11.5.0 20240719 (Red Hat 11.5.0-2) Debian 12 (arm) Kernel: Depends on container host Compiler: gcc (Debian 12.2.0-14) 12.2.0 To view detailed results, visit: https://lab.dpdk.org/results/dashboard/patchsets/34256/ UNH-IOL DPDK Community Lab To manage your email subscriptions, visit: https://lab.dpdk.org/results/dashboard/preferences/subscriptions/