From mboxrd@z Thu Jan 1 00:00:00 1970 Return-Path: Received: from mails.dpdk.org (mails.dpdk.org [217.70.189.124]) by inbox.dpdk.org (Postfix) with ESMTP id 3D9B84890E for ; Sat, 11 Oct 2025 17:12:37 +0200 (CEST) Received: from mails.dpdk.org (localhost [127.0.0.1]) by mails.dpdk.org (Postfix) with ESMTP id 162CC400EF; Sat, 11 Oct 2025 17:12:37 +0200 (CEST) Received: from mail-qv1-f97.google.com (mail-qv1-f97.google.com [209.85.219.97]) by mails.dpdk.org (Postfix) with ESMTP id 874D3400EF for ; Sat, 11 Oct 2025 17:12:35 +0200 (CEST) Received: by mail-qv1-f97.google.com with SMTP id 6a1803df08f44-80ff41475cdso55146106d6.2 for ; Sat, 11 Oct 2025 08:12:35 -0700 (PDT) DKIM-Signature: v=1; a=rsa-sha256; c=relaxed/relaxed; d=iol.unh.edu; s=unh-iol; t=1760195555; x=1760800355; darn=dpdk.org; h=references:in-reply-to:cc:to:from:subject:message-id:date:from:to :cc:subject:date:message-id:reply-to; bh=XdB7oPDAWtUeh3/qYv5Kxhp1FnvKBlpU+Z21H6hkeyc=; b=TiRBtODyT7CSAJO+bTq8cJqoNT9f1C/q3L7W/o/4kKCJbJsJv42SDd3Mguuc4chu0Z H+KRMUogb9mSezd2AAAgISEnnqGtkGn/EsaWgQIxqF/7jm+D3DPsfkezyzVQeEZVEtS7 S71g65Zuiq0Qp14KOMvFBxWNrS6+rzkAMtwp8= X-Google-DKIM-Signature: v=1; a=rsa-sha256; c=relaxed/relaxed; d=1e100.net; s=20230601; t=1760195555; x=1760800355; h=references:in-reply-to:cc:to:from:subject:message-id:date :x-gm-message-state:from:to:cc:subject:date:message-id:reply-to; bh=XdB7oPDAWtUeh3/qYv5Kxhp1FnvKBlpU+Z21H6hkeyc=; b=u9Fz3cKe4PZAESb+OGLvLPDjsYtwu54sbcDH9MHocoD5Co8iJd0fKnlqWE1jN2Orha pj8bsPUng/0+vBQDiBBDPnV3ZTnLIW8cvOSsV/K97WQrN8g8XRhj3kO9GXE9NhLxi5Nt OeswS/BvY7j1OhSWhntai2UkXqOkSHXGJQS4DxPPmyithvRpic4AAijbud+Rh1V2DrHe EnqtesSS6L29IqRVxrBzVCpOspzMEqYSaonS3W7hcVa0oV+yovd7C5lE3CulN3ETX2Ak 4YwQNSWW+XfIakcrOeGyUwnvzBjGFQfRNiQ6F7RXGTZTcEelrU/4ZLmEMJDlFGoruztJ hLVQ== X-Gm-Message-State: AOJu0YwEM1EiyIfLisn1OyfE47uag/SkEMP5czKxS3uKfxwopTnn+AXZ S3iFABS4ljjXxI7brIfAM8ncqhTN1eEtyTT2veX7V+kkVNpJY93rvt2EisuR38YK39hE+ED92N8 j5hZnXaKPUJvdcU6V6SX8mUkPVIQ2/vrZAQYUIMuAmo6Z X-Gm-Gg: ASbGnctWE37kq4Cp0ojw015YrORSVZEO0j5tR28PTb3PmVlsbjqU2YCQaTFL2mWNv4j lHKfYSRDFZKv1SQO64z5EmaFnfjdMZ5AC3PhkI2Pu0qKDiIB3Yx76V9LsQ5iPEs06LRNggsL8pr /O05yGxB3JhrlvUrcj0MFAUAYcN1I3v9uOvFtDTOlJOEZ+USEP8d8dg1DAHLP9qsMhT4+7WoHsU ZTWXGbeTbzwcBfkjvhnMbcjt53sNANi+9+K7oCkzNtPkBcFFtDd6rj2Vbo6nvCP7GZwDcvnpYd/ DevA3d9S5FRUgpOxDUR+dfqyKHMdAK+xuAkayP2jVvloQnmT9ZBK4Lyv9wuc8CDSs7/aDUpN X-Google-Smtp-Source: AGHT+IFR42InwxgpR3RGu0rXVNShLwOr6X5qvF0arcG1MpiDxbCUv9vOzfm6kCW7MjkemXbENLJ/SSR8gFnc X-Received: by 2002:a05:6214:4005:b0:802:a79d:3132 with SMTP id 6a1803df08f44-87b2eff0252mr207698816d6.47.1760195554607; Sat, 11 Oct 2025 08:12:34 -0700 (PDT) Received: from postal.iol.unh.edu (postal.iol.unh.edu. [132.177.123.84]) by smtp-relay.gmail.com with ESMTPS id 6a1803df08f44-87bc3461610sm4243386d6.11.2025.10.11.08.12.34 (version=TLS1_2 cipher=ECDHE-ECDSA-AES128-GCM-SHA256 bits=128/128); Sat, 11 Oct 2025 08:12:34 -0700 (PDT) X-Relaying-Domain: iol.unh.edu Date: Sat, 11 Oct 2025 08:12:34 -0700 (PDT) Message-ID: <68ea73e2.d40a0220.4a496.525aSMTPIN_ADDED_MISSING@mx.google.com> Received: from [172.21.0.2] (unknown [172.18.0.240]) by postal.iol.unh.edu (Postfix) with ESMTP id F220660003EA; Sat, 11 Oct 2025 11:12:33 -0400 (EDT) Subject: |SUCCESS| pw157457 [PATCH] net/crc: reduce usage of static arrays in From: dpdklab@iol.unh.edu To: Test Report Cc: dpdk-test-reports@iol.unh.edu In-Reply-To: <20251011113202.937991-1-16567adigashreesh@gmail.com> References: <20251011113202.937991-1-16567adigashreesh@gmail.com> Content-Type: text/plain X-BeenThere: test-report@dpdk.org X-Mailman-Version: 2.1.29 Precedence: list List-Id: automatic DPDK test reports List-Unsubscribe: , List-Archive: List-Post: List-Help: List-Subscribe: , Errors-To: test-report-bounces@dpdk.org Test-Label: iol-compile-arm64-testing Test-Status: SUCCESS http://dpdk.org/patch/157457 _Testing PASS_ Submitter: Shreesh Adiga <16567adigashreesh@gmail.com> Date: Saturday, October 11 2025 11:29:34 DPDK git baseline: Repo:dpdk Branch: master CommitID:2b403dd8fb37d0ba13723e44ffc7ee2c2795f838 157457 --> testing pass Upstream job id: Generic-DPDK-Compile-Meson#433402 Test environment and result as below: +------------------------------+--------------------+ | Environment | dpdk_meson_compile | +==============================+====================+ | Ubuntu 20.04 | PASS | +------------------------------+--------------------+ | Red Hat Enterprise Linux 9.5 | PASS | +------------------------------+--------------------+ | Debian GNU/Linux 12 | PASS | +------------------------------+--------------------+ | Ubuntu 24.04 | PASS | +------------------------------+--------------------+ | Ubuntu 22.04 | PASS | +------------------------------+--------------------+ | Fedora Linux 42 | PASS | +------------------------------+--------------------+ | CentOS Stream 9 | PASS | +------------------------------+--------------------+ | CentOS Stream 10 | PASS | +------------------------------+--------------------+ Ubuntu 20.04 Kernel: 5.15 Compiler: aarch64-linux-gnu-gcc gcc (Ubuntu 9.4.0-1ubuntu1~20.04.2) 9.4.0 Red Hat Enterprise Linux 9.5 Kernel: 5.4 Compiler: gcc gcc (GCC) 11.5.0 20240719 (Red Hat 11.5.0-2) Debian GNU/Linux 12 Kernel: 5.4 Compiler: gcc gcc (Debian 12.2.0-14+deb12u1) 12.2.0 Ubuntu 24.04 Kernel: 5.4 Compiler: gcc gcc (Ubuntu 13.3.0-6ubuntu2~24.04) 13.3.0 Ubuntu 22.04 Kernel: 5.4 Compiler: gcc gcc (Ubuntu 11.4.0-1ubuntu1~22.04) 11.4.0 Fedora Linux 42 Kernel: 5.4 Compiler: clang gcc (GCC) 15.2.1 20250808 (Red Hat 15.2.1-1) CentOS Stream 9 Kernel: 5.4 Compiler: gcc gcc (GCC) 11.5.0 20240719 (Red Hat 11.5.0-11) CentOS Stream 10 Kernel: 5.4 Compiler: gcc gcc (GCC) 14.2.1 20250110 (Red Hat 14.2.1-8) To view detailed results, visit: https://lab.dpdk.org/results/dashboard/patchsets/34256/ UNH-IOL DPDK Community Lab To manage your email subscriptions, visit: https://lab.dpdk.org/results/dashboard/preferences/subscriptions/