From mboxrd@z Thu Jan 1 00:00:00 1970 Return-Path: Received: from mails.dpdk.org (mails.dpdk.org [217.70.189.124]) by inbox.dpdk.org (Postfix) with ESMTP id 8115E48911 for ; Sun, 12 Oct 2025 02:57:02 +0200 (CEST) Received: from mails.dpdk.org (localhost [127.0.0.1]) by mails.dpdk.org (Postfix) with ESMTP id 6126D4021F; Sun, 12 Oct 2025 02:57:02 +0200 (CEST) Received: from mail-il1-f226.google.com (mail-il1-f226.google.com [209.85.166.226]) by mails.dpdk.org (Postfix) with ESMTP id 28CCB4021F for ; Sun, 12 Oct 2025 02:57:00 +0200 (CEST) Received: by mail-il1-f226.google.com with SMTP id e9e14a558f8ab-43090377002so707875ab.0 for ; Sat, 11 Oct 2025 17:57:00 -0700 (PDT) DKIM-Signature: v=1; a=rsa-sha256; c=relaxed/relaxed; d=iol.unh.edu; s=unh-iol; t=1760230619; x=1760835419; darn=dpdk.org; h=cc:to:from:subject:message-id:date:from:to:cc:subject:date :message-id:reply-to; bh=u65TFXe0Rh9TUeJ1BfatoRjnP3N9d+lP8JTN1Z+ifk8=; b=b/wyz4DNiXJYwr/Z1huHF2AP69rcIp2dj+zlKpL40fPG73REIIGpXRhC7mDFZheJhz ffOuBSDzYho8hcGwcAnUPysdfQ8yWkrsBhQv5fEySK+2QgEuJFqFpBh+qmLOQyicaOpf 7zeFjRksijXKB+1f5b9ZPRxJK9m5R33s/W7Hc= X-Google-DKIM-Signature: v=1; a=rsa-sha256; c=relaxed/relaxed; d=1e100.net; s=20230601; t=1760230619; x=1760835419; h=cc:to:from:subject:message-id:date:x-gm-message-state:from:to:cc :subject:date:message-id:reply-to; bh=u65TFXe0Rh9TUeJ1BfatoRjnP3N9d+lP8JTN1Z+ifk8=; b=HMlSgJgqxCNA6MWDyDE9sBNpT5UbALpf3ugztSst3uEGmazRMzEyEHint9ZsaI/TLa is7JRf6hI6XmrVfdJpTwvR7G9jS2lA3UzjNitnM5/fGLPmQ5z1n1lnd3faL23DJhYqg1 QAbcl28POQ/WhKuMTAX9VhkOo1ilsKvV+ciE6Bn/ILdKj0HyHgLtgrNwaMvumPLV7JBp ydCu1gk65DPFYqeEf9QSHMg81IF59ZbYWnmTiTzDYsXBWeEFUNJsNQTV/MGFCUgkVQ+s JxqdETvsHQxzUMiWbzQe2PanisJhdiK9FE1VLkKtDLQ5CapvZRmuHZJdvmNs1TvvoGWu mJVg== X-Gm-Message-State: AOJu0YwhhgZbyOycgK+IsdkAn4MrJfN7ByX10ptULjQUFNsdOI4ZbxTV dWCsWnsl7ySsR5Vrsed61wLT9FfGiQxdA9oXwoX6A3U0Ho+lUhPS8yjiHfQ8YVcZFi/WZs0dxf2 LEkfcKpqMehsHVoP2Tqws4ASRDGFMjF4Uvfos9WDkQ4Nd X-Gm-Gg: ASbGncuLyVCLxmXY4GcPpZRNXc1RsLJka2G/0d0+xHMMpb5iu1I7J9WU1CIuQDCOc+C lIS/gXgKW0baeZ5YE93Wj3N+vjScJwdtN0/ojL63obGlnVgzDSLVfBQGGQLC7hg3AJ7dICA6IlR +lRZ2Zhwj4aL92Iifndx7bk8xEjkcUfhwgZezCFLLT4cgafx/ZQwh/X9gnWhZwHVez0E6T1q0OF UL0oraqbIvnznACv8d6cWtL5bWtypRE3Zs1efSTxFinqHzB2gOE/hT/EsjJq1+R7uCwsiZ8h7KQ rkqSTS1wf1oLukwSoFO/+EJsymrEg6F759+Fkyi/wLv/rwPx79CO/N7UMDrOHH5YMnZQ9ybJ X-Google-Smtp-Source: AGHT+IFW72SVoGLLN17INFDyrV0ykCt2+w84Waq7HLzgyb+RBa4fJP3GOfwywAOZjMm9gb1EwWdsDc2LVuYK X-Received: by 2002:a05:6e02:19ce:b0:426:3ab1:74bd with SMTP id e9e14a558f8ab-42f873ceef2mr183565075ab.18.1760230619366; Sat, 11 Oct 2025 17:56:59 -0700 (PDT) Received: from postal.iol.unh.edu (postal.iol.unh.edu. [132.177.123.84]) by smtp-relay.gmail.com with ESMTPS id e9e14a558f8ab-42f9034daa7sm6133985ab.30.2025.10.11.17.56.59 (version=TLS1_2 cipher=ECDHE-ECDSA-AES128-GCM-SHA256 bits=128/128); Sat, 11 Oct 2025 17:56:59 -0700 (PDT) X-Relaying-Domain: iol.unh.edu Date: Sat, 11 Oct 2025 17:56:59 -0700 (PDT) Message-ID: <68eafcdb.050a0220.387006.01bcSMTPIN_ADDED_MISSING@mx.google.com> Received: from [172.21.0.2] (unknown [172.18.0.240]) by postal.iol.unh.edu (Postfix) with ESMTP id E57126051830; Sat, 11 Oct 2025 20:56:58 -0400 (EDT) Subject: |SUCCESS| [GIT MASTER] 2b403dd8fb37d0ba13723e44ffc7ee2c2795f838 From: dpdklab@iol.unh.edu To: Test Report Cc: dpdk-test-reports@iol.unh.edu Content-Type: text/plain X-BeenThere: test-report@dpdk.org X-Mailman-Version: 2.1.29 Precedence: list List-Id: automatic DPDK test reports List-Unsubscribe: , List-Archive: List-Post: List-Help: List-Subscribe: , Errors-To: test-report-bounces@dpdk.org _Testing PASS_ Branch: dpdk 2b403dd8fb37d0ba13723e44ffc7ee2c2795f838 --> testing pass Upstream job id: Generic-VM-Unit-Test-DPDK#31728 Test environment and result as below: +-------------------------------+----------------+ | Environment | dpdk_unit_test | +===============================+================+ | CentOS Stream 9 | PASS | +-------------------------------+----------------+ | Arch Linux 20250613.0.365270 | PASS | +-------------------------------+----------------+ | Fedora Linux 40 | PASS | +-------------------------------+----------------+ | CentOS Stream 10 | PASS | +-------------------------------+----------------+ | Fedora Linux 41 | PASS | +-------------------------------+----------------+ | Windows Server 2022 | PASS | +-------------------------------+----------------+ | Debian GNU/Linux 12 | PASS | +-------------------------------+----------------+ | Ubuntu 22.04 | PASS | +-------------------------------+----------------+ | Fedora Linux 42 | PASS | +-------------------------------+----------------+ | Ubuntu 20.04 | PASS | +-------------------------------+----------------+ | Red Hat Enterprise Linux 8.10 | PASS | +-------------------------------+----------------+ | Ubuntu 24.04 | PASS | +-------------------------------+----------------+ | Red Hat Enterprise Linux 9.5 | PASS | +-------------------------------+----------------+ CentOS Stream 9 Kernel: 5.15 Compiler: gcc gcc (GCC) 11.5.0 20240719 (Red Hat 11.5.0-11) Arch Linux 20250613.0.365270 Kernel: 5.15 Compiler: gcc gcc (GCC) 15.1.1 20250425 Fedora Linux 40 Kernel: 5.15 Compiler: clang gcc (GCC) 14.2.1 20240912 (Red Hat 14.2.1-3) CentOS Stream 10 Kernel: 5.15 Compiler: gcc gcc (GCC) 14.2.1 20250110 (Red Hat 14.2.1-8) Fedora Linux 41 Kernel: 5.15 Compiler: clang gcc (GCC) 14.3.1 20250523 (Red Hat 14.3.1-1) Windows Server 2022 Kernel: 10.0.20348.2031 Compiler: clang 15.0.7, gcc 14.1.0 (MinGW), and MSVC VS 19.39.33521 Debian GNU/Linux 12 Kernel: 5.15 Compiler: gcc gcc (Debian 12.2.0-14+deb12u1) 12.2.0 Ubuntu 22.04 Kernel: 5.15 Compiler: gcc gcc (Ubuntu 11.4.0-1ubuntu1~22.04) 11.4.0 Fedora Linux 42 Kernel: 5.15 Compiler: gcc gcc (GCC) 15.2.1 20250808 (Red Hat 15.2.1-1) Ubuntu 20.04 Kernel: 5.15 Compiler: gcc gcc (Ubuntu 9.4.0-1ubuntu1~20.04.2) 9.4.0 Red Hat Enterprise Linux 8.10 Kernel: 5.15 Compiler: gcc gcc (GCC) 8.5.0 20210514 (Red Hat 8.5.0-22) Ubuntu 24.04 Kernel: 5.15 Compiler: gcc gcc (Ubuntu 13.3.0-6ubuntu2~24.04) 13.3.0 Red Hat Enterprise Linux 9.5 Kernel: 5.15 Compiler: gcc gcc (GCC) 11.5.0 20240719 (Red Hat 11.5.0-2) To view detailed results, visit: https://lab.dpdk.org/results/dashboard/tarballs/35176/ UNH-IOL DPDK Community Lab To manage your email subscriptions, visit: https://lab.dpdk.org/results/dashboard/preferences/subscriptions/