From mboxrd@z Thu Jan 1 00:00:00 1970 Return-Path: Received: from mails.dpdk.org (mails.dpdk.org [217.70.189.124]) by inbox.dpdk.org (Postfix) with ESMTP id 9369948911 for ; Sun, 12 Oct 2025 02:58:18 +0200 (CEST) Received: from mails.dpdk.org (localhost [127.0.0.1]) by mails.dpdk.org (Postfix) with ESMTP id 8D79B4021F; Sun, 12 Oct 2025 02:58:18 +0200 (CEST) Received: from mail-oa1-f98.google.com (mail-oa1-f98.google.com [209.85.160.98]) by mails.dpdk.org (Postfix) with ESMTP id 240604021F for ; Sun, 12 Oct 2025 02:58:17 +0200 (CEST) Received: by mail-oa1-f98.google.com with SMTP id 586e51a60fabf-30ccea94438so1552004fac.2 for ; Sat, 11 Oct 2025 17:58:17 -0700 (PDT) DKIM-Signature: v=1; a=rsa-sha256; c=relaxed/relaxed; d=iol.unh.edu; s=unh-iol; t=1760230696; x=1760835496; darn=dpdk.org; h=cc:to:from:subject:message-id:date:from:to:cc:subject:date :message-id:reply-to; bh=Eg3dPLtcrimt1XxvmqZFe+0uuOzDFDkrOiXDvtVtIHE=; b=aDQZaEoHHIlhuMVS7I/m5rRajYnsSeiDU+phRf+fjmfOGmx/xqS7fso1rwTmUENXhf Y6TbBx/XtgpB2foTcwoqDZlw+xyghIcKTnpD183eE+zeIAEMVZaPZdKN6psjwqaNc2US +Yei4dWvino9VBDS9UjbhZf0qti3wxZD4MZ1w= X-Google-DKIM-Signature: v=1; a=rsa-sha256; c=relaxed/relaxed; d=1e100.net; s=20230601; t=1760230696; x=1760835496; h=cc:to:from:subject:message-id:date:x-gm-message-state:from:to:cc :subject:date:message-id:reply-to; bh=Eg3dPLtcrimt1XxvmqZFe+0uuOzDFDkrOiXDvtVtIHE=; b=YoVrFvCbTaI+wkJwDMCpRN6K0ykVrrh1KtzWKJ1Ovny88jBKB3zWLU+bAfDAWQFqG5 clv+F5jtYuqyw1M9Oyj64BjiYTJpS5SLFoP6YyyVrvwDJ2GzAPNC3xTKMt0e8nci1FKK VWHiEt99ptnLceseuUJhlKVQ8CRN+SxlbePyi7/F6NL01SASQDZxrS0P8qqczjeGmGiQ lXSmuW4cmfc8D2rNUFRVdi9SXM2ozU34BfU3KhRYe5UzwQvIGaCNDNV2Z3ERDHrUceto cdNF5o3xHB2x1gZ+KWE9TVVx67zMeZ7S1VJTCbOj/T1JiOVaCk8/I/mXrOgG/G6l1TEC fXDA== X-Gm-Message-State: AOJu0Yz1/xgAghvYF6hnw7hWAziMk83htOc+hccjA85RucRwjxDf1b0P 2dRw4/F2I8UnTR6gOeAZc/Hs5RerhmIc1EeBqNyNtOV8gZIiVlLweZX4y96vvdop8W0/n1u49bG aci/txO12C1pkzkPnuXwimAtv5//ME3utrdv9X20CcFSX7oGunn7hz16x98An X-Gm-Gg: ASbGncvCIr91KVbh4FAiwj9MEsMEhLnwh5Jxjl15brF8TtOE61D+g+GVOOXoSx6w1Xf Q4x5I4Ls83ylx9gX2hsWmvchyjz4R6ye2EmNbbCtQ0n1pZ63U7W9uTwn1OFKv0MNlfDGjlCOspG SH0RA6yyTs/qWBelI1S95Cw1RenVl2EA3JSKkHcJonyEBwsGNOn2xQB4YTmMpLiBinRDQChzpep pYyefUEzRR86fnl816VbJg3KoJOiwZ++B9bLqpr7YlrJp9Amaufo/5rBNoNxmrVnRi83RRZSSwX kaPRV1+ZEndS/dBNvosASgioMJ5Xt8m8myjt9grWiyagm0BPew== X-Google-Smtp-Source: AGHT+IGXvIpTpQcP8zfpNaMZjlsyjvaeXV7WYtxFOh4DzZm9TKIIJ4CXOuEmP4bbVcjizrccpZKhgUJcydVq X-Received: by 2002:a05:6870:818a:b0:343:9240:f3d4 with SMTP id 586e51a60fabf-3c0f6c00ef0mr7421281fac.18.1760230696313; Sat, 11 Oct 2025 17:58:16 -0700 (PDT) Received: from postal.iol.unh.edu (postal.iol.unh.edu. [2606:4100:3880:1234::84]) by smtp-relay.gmail.com with ESMTPS id 586e51a60fabf-3c8c8af0e32sm576996fac.5.2025.10.11.17.58.16 (version=TLS1_2 cipher=ECDHE-ECDSA-AES128-GCM-SHA256 bits=128/128); Sat, 11 Oct 2025 17:58:16 -0700 (PDT) X-Relaying-Domain: iol.unh.edu Date: Sat, 11 Oct 2025 17:58:16 -0700 (PDT) Message-ID: <68eafd28.050a0220.351ee5.daceSMTPIN_ADDED_MISSING@mx.google.com> Received: from [172.21.0.2] (unknown [172.18.0.240]) by postal.iol.unh.edu (Postfix) with ESMTP id CDD4B6051830; Sat, 11 Oct 2025 20:58:15 -0400 (EDT) Subject: |SUCCESS| [GIT MASTER] 2b403dd8fb37d0ba13723e44ffc7ee2c2795f838 From: dpdklab@iol.unh.edu To: Test Report Cc: dpdk-test-reports@iol.unh.edu Content-Type: text/plain X-BeenThere: test-report@dpdk.org X-Mailman-Version: 2.1.29 Precedence: list List-Id: automatic DPDK test reports List-Unsubscribe: , List-Archive: List-Post: List-Help: List-Subscribe: , Errors-To: test-report-bounces@dpdk.org _Testing PASS_ Branch: dpdk 2b403dd8fb37d0ba13723e44ffc7ee2c2795f838 --> testing pass Upstream job id: Windows-Compile-DPDK-Native#31558 Test environment and result as below: +-------------------------------+--------------------+-------------------+-------------------+-------------------------+------------------+----------------------+ | Environment | dpdk_meson_compile | dpdk_compile_spdk | dpdk_msvc_compile | dpdk_llvm_clang_compile | dpdk_compile_ovs | dpdk_mingw64_compile | +===============================+====================+===================+===================+=========================+==================+======================+ | Ubuntu 20.04 | PASS | SKIPPED | SKIPPED | SKIPPED | SKIPPED | SKIPPED | +-------------------------------+--------------------+-------------------+-------------------+-------------------------+------------------+----------------------+ | CentOS Stream 9 | PASS | PASS | SKIPPED | SKIPPED | SKIPPED | SKIPPED | +-------------------------------+--------------------+-------------------+-------------------+-------------------------+------------------+----------------------+ | openSUSE Leap 15.6 | PASS | SKIPPED | SKIPPED | SKIPPED | SKIPPED | SKIPPED | +-------------------------------+--------------------+-------------------+-------------------+-------------------------+------------------+----------------------+ | CentOS Stream 10 | PASS | SKIPPED | SKIPPED | SKIPPED | SKIPPED | SKIPPED | +-------------------------------+--------------------+-------------------+-------------------+-------------------------+------------------+----------------------+ | Fedora Linux 42 | PASS | PASS | SKIPPED | SKIPPED | PASS | SKIPPED | +-------------------------------+--------------------+-------------------+-------------------+-------------------------+------------------+----------------------+ | Red Hat Enterprise Linux 9.5 | PASS | SKIPPED | SKIPPED | SKIPPED | SKIPPED | SKIPPED | +-------------------------------+--------------------+-------------------+-------------------+-------------------------+------------------+----------------------+ | FreeBSD 14.2 | PASS | SKIPPED | SKIPPED | SKIPPED | SKIPPED | SKIPPED | +-------------------------------+--------------------+-------------------+-------------------+-------------------------+------------------+----------------------+ | Debian GNU/Linux 12 | PASS | PASS | SKIPPED | SKIPPED | SKIPPED | SKIPPED | +-------------------------------+--------------------+-------------------+-------------------+-------------------------+------------------+----------------------+ | Red Hat Enterprise Linux 8.10 | PASS | SKIPPED | SKIPPED | SKIPPED | SKIPPED | SKIPPED | +-------------------------------+--------------------+-------------------+-------------------+-------------------------+------------------+----------------------+ | Ubuntu 22.04 | PASS | PASS | SKIPPED | SKIPPED | SKIPPED | SKIPPED | +-------------------------------+--------------------+-------------------+-------------------+-------------------------+------------------+----------------------+ | Ubuntu 24.04 | PASS | PASS | SKIPPED | SKIPPED | PASS | SKIPPED | +-------------------------------+--------------------+-------------------+-------------------+-------------------------+------------------+----------------------+ | Alpine Linux 3.22.0 | PASS | SKIPPED | SKIPPED | SKIPPED | SKIPPED | SKIPPED | +-------------------------------+--------------------+-------------------+-------------------+-------------------------+------------------+----------------------+ | Arch Linux 20250613.0.365270 | PASS | SKIPPED | SKIPPED | SKIPPED | SKIPPED | SKIPPED | +-------------------------------+--------------------+-------------------+-------------------+-------------------------+------------------+----------------------+ | Windows Server 2022 | SKIPPED | SKIPPED | PASS | PASS | SKIPPED | PASS | +-------------------------------+--------------------+-------------------+-------------------+-------------------------+------------------+----------------------+ Ubuntu 20.04 Kernel: 4.19 Compiler: gcc gcc (Ubuntu 9.4.0-1ubuntu1~20.04.2) 9.4.0 CentOS Stream 9 Kernel: 5.15 Compiler: gcc gcc (GCC) 11.5.0 20240719 (Red Hat 11.5.0-11) openSUSE Leap 15.6 Kernel: 5.15 Compiler: gcc gcc (SUSE Linux) 7.5.0 CentOS Stream 10 Kernel: 5.15 Compiler: gcc gcc (GCC) 14.2.1 20250110 (Red Hat 14.2.1-8) Fedora Linux 42 Kernel: 5.15 Compiler: clang gcc (GCC) 15.2.1 20250808 (Red Hat 15.2.1-1) Red Hat Enterprise Linux 9.5 Kernel: 5.15 Compiler: gcc gcc (GCC) 11.5.0 20240719 (Red Hat 11.5.0-2) FreeBSD 14.2 Kernel: 14.2-RELEASE Compiler: clang 18.1.6 Debian GNU/Linux 12 Kernel: 5.15 Compiler: gcc gcc (Debian 12.2.0-14+deb12u1) 12.2.0 Red Hat Enterprise Linux 8.10 Kernel: 5.15 Compiler: gcc gcc (GCC) 8.5.0 20210514 (Red Hat 8.5.0-22) Ubuntu 22.04 Kernel: 5.15 Compiler: gcc gcc (Ubuntu 11.4.0-1ubuntu1~22.04) 11.4.0 Ubuntu 24.04 Kernel: 5.15 Compiler: gcc gcc (Ubuntu 13.3.0-6ubuntu2~24.04) 13.3.0 Alpine Linux 3.22.0 Kernel: 5.15 Compiler: gcc gcc (Alpine 14.2.0) 14.2.0 Arch Linux 20250613.0.365270 Kernel: 5.15 Compiler: gcc gcc (GCC) 15.1.1 20250425 Windows Server 2022 Kernel: 10.0.20348.2031 Compiler: clang 15.0.7, gcc 14.1.0 (MinGW), and MSVC VS 19.39.33521 To view detailed results, visit: https://lab.dpdk.org/results/dashboard/tarballs/35176/ UNH-IOL DPDK Community Lab To manage your email subscriptions, visit: https://lab.dpdk.org/results/dashboard/preferences/subscriptions/