From mboxrd@z Thu Jan 1 00:00:00 1970 Return-Path: Received: from mails.dpdk.org (mails.dpdk.org [217.70.189.124]) by inbox.dpdk.org (Postfix) with ESMTP id 3EBE448911 for ; Sun, 12 Oct 2025 03:03:12 +0200 (CEST) Received: from mails.dpdk.org (localhost [127.0.0.1]) by mails.dpdk.org (Postfix) with ESMTP id 16BB04021F; Sun, 12 Oct 2025 03:03:12 +0200 (CEST) Received: from mail-pf1-f226.google.com (mail-pf1-f226.google.com [209.85.210.226]) by mails.dpdk.org (Postfix) with ESMTP id 077F64021F for ; Sun, 12 Oct 2025 03:03:10 +0200 (CEST) Received: by mail-pf1-f226.google.com with SMTP id d2e1a72fcca58-7811fa91774so2694133b3a.0 for ; Sat, 11 Oct 2025 18:03:10 -0700 (PDT) DKIM-Signature: v=1; a=rsa-sha256; c=relaxed/relaxed; d=iol.unh.edu; s=unh-iol; t=1760230990; x=1760835790; darn=dpdk.org; h=cc:to:from:subject:message-id:date:from:to:cc:subject:date :message-id:reply-to; bh=4xblyA6sBJQz7ut+MI8X/OIqk6g3zTO32vDL4ktAvGA=; b=XMaW/A/KR4h+YNGCU8ZJcLS7ZgOdebHNQT6WnZxgiVetc34kfxOZHsFkY6vaf5wEkz cFYg92ZK3O2PY+omy2q4keU4JkB9lD/np4EobEm/lZ2rHLv7YTeYKvCHuoO8I2Rm82fv 8TEZLE48xRIW51lvXORT8rtOkHeud2IA4KmhA= X-Google-DKIM-Signature: v=1; a=rsa-sha256; c=relaxed/relaxed; d=1e100.net; s=20230601; t=1760230990; x=1760835790; h=cc:to:from:subject:message-id:date:x-gm-message-state:from:to:cc :subject:date:message-id:reply-to; bh=4xblyA6sBJQz7ut+MI8X/OIqk6g3zTO32vDL4ktAvGA=; b=sPo88EqZurp5P8iA71xs2KoYuwn1lQF2k4k3KX79Awi1oLE8y3cwpb158OLhgaz5HW kTFumUK4+qnBwJz7qFv+rMHGoMMBes2T+xXuvd3Sqgjx3J+0UGU9/pnyCEBsbNPbKUdY ADTsYAQRPgTSVTDN9eZD29M4fnz2MmuG15XKQ7+VBbMqCbPj0RJotyHd4y0mmzg82i/5 oelIFLQ94jXPuTVDUtf6PWCJOI32BsEC5RB1kD8+YQQveGR8aFtCRIhDiusmJaK8H2t6 Q24hQ3qnnhJgl1mKwIBTxayPxV4c/Vhg6gHAoAhFaW4hRE5viUknvue5oYFMul+tVaFx 0J+g== X-Gm-Message-State: AOJu0YxnmICh19oH8bsRhTgoxNsTtNhmoXxxijM3sVguAlJD7t1FO3UW lvTDW9OHc1vP6GfjOXwT8+jDbE4NmuMkc7quF9Azwg6Y+hhpCWB2cYrqbIxDv1QovUxER5Odhw1 JPLUm+IRGeNqgyw9XLG98fAGZq9h3WlXcRBR5JCxZapX0ZTeXSW901wflwuMj X-Gm-Gg: ASbGncvtHO2kIRQIBRy/0S24dyKjJa+60WHINzCfiSss1H+TJVGQkrGvqB5kNTK90Vb l8lds9N34xsrv4nDtlrQAcobDiD/eM33Xq0SKOZ0XkVQT8LOcvMb4Yl8HB4iD08Cs+xYIWHe5yf pO2v7XqF5G50rsbroKN+nE4zTKnVFxS/yNTPcSDwUUu04BgR9hCy9fSMpfbFMucghBxW23sjZLY htTV8X+KIZBPDm+FT3mo2I4zsgAWxgcIWurV7bqbPpSFArRzJ+i4rlQhucFC4CzzYvx3GthD5co uR2PKdOwrbY4K/huDD8KuvtGlG1+EwgJ28wh0iXZseKm3vbKJQ== X-Google-Smtp-Source: AGHT+IGj/Jk1JvNUuwYczsFNtSL3XYbXzjfwwXA8l4Lx0Cmud7GTHZP83pIUmuC3dMNlWrQAoxBXbR0xKQEd X-Received: by 2002:a05:6a20:7286:b0:249:ba7b:e361 with SMTP id adf61e73a8af0-32da8511961mr22598403637.49.1760230990003; Sat, 11 Oct 2025 18:03:10 -0700 (PDT) Received: from postal.iol.unh.edu (postal.iol.unh.edu. [2606:4100:3880:1234::84]) by smtp-relay.gmail.com with ESMTPS id 41be03b00d2f7-b678ddcc5f9sm367118a12.5.2025.10.11.18.03.09 (version=TLS1_2 cipher=ECDHE-ECDSA-AES128-GCM-SHA256 bits=128/128); Sat, 11 Oct 2025 18:03:09 -0700 (PDT) X-Relaying-Domain: iol.unh.edu Date: Sat, 11 Oct 2025 18:03:09 -0700 (PDT) Message-ID: <68eafe4d.630a0220.2b726a.253cSMTPIN_ADDED_MISSING@mx.google.com> Received: from [172.21.0.2] (unknown [172.18.0.240]) by postal.iol.unh.edu (Postfix) with ESMTP id 2F31E6050A61; Sat, 11 Oct 2025 21:03:09 -0400 (EDT) Subject: |SUCCESS| [GIT MASTER] 2b403dd8fb37d0ba13723e44ffc7ee2c2795f838 From: dpdklab@iol.unh.edu To: Test Report Cc: dpdk-test-reports@iol.unh.edu Content-Type: text/plain X-BeenThere: test-report@dpdk.org X-Mailman-Version: 2.1.29 Precedence: list List-Id: automatic DPDK test reports List-Unsubscribe: , List-Archive: List-Post: List-Help: List-Subscribe: , Errors-To: test-report-bounces@dpdk.org _Testing PASS_ Branch: dpdk 2b403dd8fb37d0ba13723e44ffc7ee2c2795f838 --> testing pass Upstream job id: Generic-VM-Unit-Test-DPDK#31729 Test environment and result as below: +-------------------------------+----------------+ | Environment | dpdk_unit_test | +===============================+================+ | CentOS Stream 9 | PASS | +-------------------------------+----------------+ | Arch Linux 20250613.0.365270 | PASS | +-------------------------------+----------------+ | Fedora Linux 40 | PASS | +-------------------------------+----------------+ | CentOS Stream 10 | PASS | +-------------------------------+----------------+ | Fedora Linux 41 | PASS | +-------------------------------+----------------+ | Windows Server 2022 | PASS | +-------------------------------+----------------+ | Debian GNU/Linux 12 | PASS | +-------------------------------+----------------+ | Ubuntu 22.04 | PASS | +-------------------------------+----------------+ | Fedora Linux 42 | PASS | +-------------------------------+----------------+ | Ubuntu 20.04 | PASS | +-------------------------------+----------------+ | Red Hat Enterprise Linux 8.10 | PASS | +-------------------------------+----------------+ | Ubuntu 24.04 | PASS | +-------------------------------+----------------+ | Red Hat Enterprise Linux 9.5 | PASS | +-------------------------------+----------------+ CentOS Stream 9 Kernel: 5.15 Compiler: gcc gcc (GCC) 11.5.0 20240719 (Red Hat 11.5.0-11) Arch Linux 20250613.0.365270 Kernel: 5.15 Compiler: gcc gcc (GCC) 15.1.1 20250425 Fedora Linux 40 Kernel: 5.15 Compiler: clang gcc (GCC) 14.2.1 20240912 (Red Hat 14.2.1-3) CentOS Stream 10 Kernel: 5.15 Compiler: gcc gcc (GCC) 14.2.1 20250110 (Red Hat 14.2.1-8) Fedora Linux 41 Kernel: 5.15 Compiler: clang gcc (GCC) 14.3.1 20250523 (Red Hat 14.3.1-1) Windows Server 2022 Kernel: 10.0.20348.2031 Compiler: clang 15.0.7, gcc 14.1.0 (MinGW), and MSVC VS 19.39.33521 Debian GNU/Linux 12 Kernel: 5.15 Compiler: gcc gcc (Debian 12.2.0-14+deb12u1) 12.2.0 Ubuntu 22.04 Kernel: 5.15 Compiler: gcc gcc (Ubuntu 11.4.0-1ubuntu1~22.04) 11.4.0 Fedora Linux 42 Kernel: 5.15 Compiler: gcc gcc (GCC) 15.2.1 20250808 (Red Hat 15.2.1-1) Ubuntu 20.04 Kernel: 5.15 Compiler: gcc gcc (Ubuntu 9.4.0-1ubuntu1~20.04.2) 9.4.0 Red Hat Enterprise Linux 8.10 Kernel: 5.15 Compiler: gcc gcc (GCC) 8.5.0 20210514 (Red Hat 8.5.0-22) Ubuntu 24.04 Kernel: 5.15 Compiler: gcc gcc (Ubuntu 13.3.0-6ubuntu2~24.04) 13.3.0 Red Hat Enterprise Linux 9.5 Kernel: 5.15 Compiler: gcc gcc (GCC) 11.5.0 20240719 (Red Hat 11.5.0-2) To view detailed results, visit: https://lab.dpdk.org/results/dashboard/tarballs/35176/ UNH-IOL DPDK Community Lab To manage your email subscriptions, visit: https://lab.dpdk.org/results/dashboard/preferences/subscriptions/