From mboxrd@z Thu Jan 1 00:00:00 1970 Return-Path: Received: from mails.dpdk.org (mails.dpdk.org [217.70.189.124]) by inbox.dpdk.org (Postfix) with ESMTP id C80AC48911 for ; Sun, 12 Oct 2025 03:35:07 +0200 (CEST) Received: from mails.dpdk.org (localhost [127.0.0.1]) by mails.dpdk.org (Postfix) with ESMTP id 9B54F4021F; Sun, 12 Oct 2025 03:35:07 +0200 (CEST) Received: from mail-oa1-f97.google.com (mail-oa1-f97.google.com [209.85.160.97]) by mails.dpdk.org (Postfix) with ESMTP id BA9DB4021F for ; Sun, 12 Oct 2025 03:35:06 +0200 (CEST) Received: by mail-oa1-f97.google.com with SMTP id 586e51a60fabf-3b3ce7277b3so926466fac.2 for ; Sat, 11 Oct 2025 18:35:06 -0700 (PDT) DKIM-Signature: v=1; a=rsa-sha256; c=relaxed/relaxed; d=iol.unh.edu; s=unh-iol; t=1760232906; x=1760837706; darn=dpdk.org; h=cc:to:from:subject:message-id:date:from:to:cc:subject:date :message-id:reply-to; bh=Aum7Dms/WLHNS6KRhh6Q1Eb18Xn5U56XXublEnRgKUw=; b=aMFQbMjxKUCSS93sOmn/BqZQsuwhiZaykmoZtSHQ79GL/WXiQoGqZ5qBgeA+WOxrlh D3SAI23w4m8pxuqK82sdpxRxK0EacfjOJIDk8bQD18KrvPfGra87qZQ9lHPra7fdapHL zmN5/KGO8xlm/jLqe+c8w+4mvl6EvfJ9vracw= X-Google-DKIM-Signature: v=1; a=rsa-sha256; c=relaxed/relaxed; d=1e100.net; s=20230601; t=1760232906; x=1760837706; h=cc:to:from:subject:message-id:date:x-gm-message-state:from:to:cc :subject:date:message-id:reply-to; bh=Aum7Dms/WLHNS6KRhh6Q1Eb18Xn5U56XXublEnRgKUw=; b=iAYvRj+D8b0x0xGSYaDRqHMsfRMtG1gcHkkAbgj7/n16h3eHKLle+sOZSCvlYyMkHB EDpuHzezCTSUJiH2YXVus0o2SjOY7013q8sKwJog23bOS1+96muj2vzKbhzLv2L7KKn7 YaGv+n9rkEJxEi1slfMO5YjmfxlLWSw/MiQRQu2W+K6E10uF2RHY/RAj+VA956G9Parj p/Y3Oj+704yrfcywGhZpU90bcKtDHdJbzVH9Vra34UK0pJkucbuXRDKo70e47rHX0/2q fdgwrnpl9Lkik+xpIcjLZ0aurcP8suTbKcPVP5GXmOCc1L3E5Ok1QU7foO4b2StpFyZt wbTA== X-Gm-Message-State: AOJu0YytKXfObczSZDspcSWDadSYX8j1lTSl10JZnApNMaEKXHToENiS d6kWxdu/CMnMJLrJVBGKTU21qspvJI7S+1uQhgTktTsxdu1zc/Z4h0Ed7Gy6j17RVdAQAW6rRdH cQ53emqLrB29L/O2c9UFdQ497ET31US9FCxspbOWNVrgE X-Gm-Gg: ASbGncuLExG0gZ0h///IWlI82YFAr5dlf7fhNfhR6DDUKMIHW3uIQyQsdSvjRLOIUEQ 3VizuOOm91Eqfcg9Z9HWmbGzxZvKLuOSVwmDW5yy+zklX2NyJhCee+AWGZT2t8ZVNuavfmW7w2C Od1yyAP9de/tGvDlyYv4ovE7VchP2d7hgi3Hkx6BrTDj/8Y+4KNcuEySwVm4WcPmxIq96sqacQU U/UzdVDFWBKTvDHWXCiB/9d4jN1kmPmShaVI5PeoINVJHPdIzq9ZUaVuQfUl8c/zEjzfKbqs0wa +EsULE9rDboQCXZ6NHIG96gokbd9smrOyYdIRxVlHek48fFVz+A1N79ikAIUN6+g16ubg1eu X-Google-Smtp-Source: AGHT+IES0xtyPVq+rutOP9w18w1FyZtpSQc3MKmgL3t9lTmw0KQoHDMWKrzIpDePRgEQSn5xJ5RG6v5tpDKz X-Received: by 2002:a05:6870:5594:b0:3a6:bcc8:8043 with SMTP id 586e51a60fabf-3c0f988655cmr8233191fac.47.1760232905889; Sat, 11 Oct 2025 18:35:05 -0700 (PDT) Received: from postal.iol.unh.edu (postal.iol.unh.edu. [132.177.123.84]) by smtp-relay.gmail.com with ESMTPS id 586e51a60fabf-3c8c8af57b3sm617322fac.4.2025.10.11.18.35.05 (version=TLS1_2 cipher=ECDHE-ECDSA-AES128-GCM-SHA256 bits=128/128); Sat, 11 Oct 2025 18:35:05 -0700 (PDT) X-Relaying-Domain: iol.unh.edu Date: Sat, 11 Oct 2025 18:35:05 -0700 (PDT) Message-ID: <68eb05c9.050a0220.74cd1.eeb2SMTPIN_ADDED_MISSING@mx.google.com> Received: from [172.21.0.2] (unknown [172.18.0.240]) by postal.iol.unh.edu (Postfix) with ESMTP id 5C47360003EA; Sat, 11 Oct 2025 21:35:05 -0400 (EDT) Subject: |SUCCESS| [GIT MASTER] 2b403dd8fb37d0ba13723e44ffc7ee2c2795f838 From: dpdklab@iol.unh.edu To: Test Report Cc: dpdk-test-reports@iol.unh.edu Content-Type: text/plain X-BeenThere: test-report@dpdk.org X-Mailman-Version: 2.1.29 Precedence: list List-Id: automatic DPDK test reports List-Unsubscribe: , List-Archive: List-Post: List-Help: List-Subscribe: , Errors-To: test-report-bounces@dpdk.org _Testing PASS_ Branch: dpdk 2b403dd8fb37d0ba13723e44ffc7ee2c2795f838 --> testing pass Upstream job id: Generic-Unit-Test-DPDK#380494 Test environment and result as below: +------------------------------+------------------------------+--------------+---------------------------+----------------+ | Environment | cryptodev_sw_snow3g_autotest | lpm_autotest | cryptodev_sw_zuc_autotest | dpdk_unit_test | +==============================+==============================+==============+===========================+================+ | Debian 12 (arm) | PASS | SKIPPED | PASS | SKIPPED | +------------------------------+------------------------------+--------------+---------------------------+----------------+ | Ubuntu 20.04 | SKIPPED | PASS | SKIPPED | PASS | +------------------------------+------------------------------+--------------+---------------------------+----------------+ | Ubuntu 22.04 | SKIPPED | SKIPPED | SKIPPED | PASS | +------------------------------+------------------------------+--------------+---------------------------+----------------+ | Debian GNU/Linux 12 | SKIPPED | SKIPPED | SKIPPED | PASS | +------------------------------+------------------------------+--------------+---------------------------+----------------+ | Fedora Linux 42 | SKIPPED | SKIPPED | SKIPPED | PASS | +------------------------------+------------------------------+--------------+---------------------------+----------------+ | CentOS Stream 10 | SKIPPED | SKIPPED | SKIPPED | PASS | +------------------------------+------------------------------+--------------+---------------------------+----------------+ | Fedora Linux 40 | SKIPPED | SKIPPED | SKIPPED | PASS | +------------------------------+------------------------------+--------------+---------------------------+----------------+ | CentOS Stream 9 | SKIPPED | SKIPPED | SKIPPED | PASS | +------------------------------+------------------------------+--------------+---------------------------+----------------+ | Red Hat Enterprise Linux 9.5 | SKIPPED | SKIPPED | SKIPPED | PASS | +------------------------------+------------------------------+--------------+---------------------------+----------------+ | Fedora Linux 41 | SKIPPED | SKIPPED | SKIPPED | PASS | +------------------------------+------------------------------+--------------+---------------------------+----------------+ | Ubuntu 24.04 | SKIPPED | SKIPPED | SKIPPED | PASS | +------------------------------+------------------------------+--------------+---------------------------+----------------+ Debian 12 (arm) Kernel: Depends on container host Compiler: gcc (Debian 12.2.0-14) 12.2.0 Ubuntu 20.04 Kernel: 5.4 Compiler: gcc gcc (Ubuntu 9.4.0-1ubuntu1~20.04.2) 9.4.0 Ubuntu 22.04 Kernel: 5.15 Compiler: gcc gcc (Ubuntu 11.4.0-1ubuntu1~22.04.2) 11.4.0 Debian GNU/Linux 12 Kernel: 5.4 Compiler: gcc gcc (Debian 12.2.0-14+deb12u1) 12.2.0 Fedora Linux 42 Kernel: 5.4 Compiler: clang gcc (GCC) 15.2.1 20250808 (Red Hat 15.2.1-1) CentOS Stream 10 Kernel: 5.4 Compiler: gcc gcc (GCC) 14.2.1 20250110 (Red Hat 14.2.1-8) Fedora Linux 40 Kernel: 5.4 Compiler: gcc gcc (GCC) 14.2.1 20240912 (Red Hat 14.2.1-3) CentOS Stream 9 Kernel: 5.4 Compiler: gcc gcc (GCC) 11.5.0 20240719 (Red Hat 11.5.0-11) Red Hat Enterprise Linux 9.5 Kernel: 5.4 Compiler: gcc gcc (GCC) 11.5.0 20240719 (Red Hat 11.5.0-2) Fedora Linux 41 Kernel: 5.4 Compiler: gcc gcc (GCC) 14.3.1 20250523 (Red Hat 14.3.1-1) Ubuntu 24.04 Kernel: 5.4 Compiler: gcc gcc (Ubuntu 13.3.0-6ubuntu2~24.04) 13.3.0 To view detailed results, visit: https://lab.dpdk.org/results/dashboard/tarballs/35176/ UNH-IOL DPDK Community Lab To manage your email subscriptions, visit: https://lab.dpdk.org/results/dashboard/preferences/subscriptions/