From mboxrd@z Thu Jan 1 00:00:00 1970 Return-Path: Received: from mails.dpdk.org (mails.dpdk.org [217.70.189.124]) by inbox.dpdk.org (Postfix) with ESMTP id 5CD5348912 for ; Sun, 12 Oct 2025 05:24:39 +0200 (CEST) Received: from mails.dpdk.org (localhost [127.0.0.1]) by mails.dpdk.org (Postfix) with ESMTP id 2CCBB4021F; Sun, 12 Oct 2025 05:24:39 +0200 (CEST) Received: from mail-pg1-f228.google.com (mail-pg1-f228.google.com [209.85.215.228]) by mails.dpdk.org (Postfix) with ESMTP id 6E7564021F for ; Sun, 12 Oct 2025 05:24:38 +0200 (CEST) Received: by mail-pg1-f228.google.com with SMTP id 41be03b00d2f7-b4fb8d3a2dbso2185116a12.3 for ; Sat, 11 Oct 2025 20:24:38 -0700 (PDT) DKIM-Signature: v=1; a=rsa-sha256; c=relaxed/relaxed; d=iol.unh.edu; s=unh-iol; t=1760239477; x=1760844277; darn=dpdk.org; h=cc:to:from:subject:message-id:date:from:to:cc:subject:date :message-id:reply-to; bh=TiODIwjRDp2fWV1LoHymc7gu6vlDTgFnolzoxKyGOYQ=; b=ZORl6hms2wS6YNVUrDhpkcfwoEdf8b3bLZCSAAA5G6bSHZHsqIyCTaIORAjoeP8qnE UEhSqQWMPsAt3R1DDpaLDLJQl/v8YOfS9gXn8FMqfW80qq4lH/Xg99rkkJW9tTGm6vM3 +1YaiLla66fPL+6sDoJN9ASTM37Wf+JFqEw/8= X-Google-DKIM-Signature: v=1; a=rsa-sha256; c=relaxed/relaxed; d=1e100.net; s=20230601; t=1760239477; x=1760844277; h=cc:to:from:subject:message-id:date:x-gm-message-state:from:to:cc :subject:date:message-id:reply-to; bh=TiODIwjRDp2fWV1LoHymc7gu6vlDTgFnolzoxKyGOYQ=; b=uFXzPbBcfUwgXShHSImwOnFpn45VYKyptXijeK5Hi8YXYXTRXiZ+AISwh1zvAunKo4 NKRrrupQMPOAyl/WUdg4vMJA7NfOohp4oq2IInoxDKUmIRQcze/twEmSqNsm0ow4t6KS EcGsD1ikv1OO3UCsE6fJ76TcThQ0qyCLSPOe/8UQynwdMl6r/hjPZ1MIg5X1QJKHaQyL ZjENPP/kChVr0zu3qQMolFYflY8msg45poBuEjynXeRUPF8z9mlAwyWmr3iAEVipVPvy 6my3zEv9ZZHqtbP9/759vQDO8OXuYe9kBrZmQXcnVEiblVnq9IcGPueXi2/cKqURvjnL uwEA== X-Gm-Message-State: AOJu0YyBhKMLrXhf7DB76cy2iBdFkqMp56YWCwGhlbpPSiohZBxa7uE6 KlS4dtVSTByB+ttTSXXrzMdY0A985wbsjMOXKmFZnEn9/ofRWvo9oZVlQDiQryhipZmkYS8KRzU 9Ym4f8IIO2CLDzZV0Nb/X758b5j7EfVyWX+ZuB+nw0mk/iDlBgtIwustkAxgg X-Gm-Gg: ASbGncuNp8s0/EfXeESyXPP6voB2l14JhLQ0XHmh2YyrPG1fViyLF89dgizOIYNS/Km 3dBnPXUhEPT32ZMERxmgCCclW/Tl/rjaOqesUpZUkUf0yWoQQJybfXU2iZjDa8zyh0B+9AEftsy IUrl7tJrsHioKL+LiFZu4lF6Lx18PLUJAS1p8R9X8UhPf1N0Ely7cZBjwpE1fh0D72CfO6pEa9q 4bKkJtp3kiKyEzyzo6g/VCWkYF/9INAc8Z6888oOY0PxCqq/zzqCoy/rT8E+hFbN7El+3Chi2Ie ZHL0MQzaw5HnhJ7Rpl2ELaMQ4PC+9/UzGSWKgE+ds74t1HKzqQ== X-Google-Smtp-Source: AGHT+IFoSgzYTUfyJss71k4/PEZ3mHss5z0uNaXXAdyiqrL9nmoM90dbXgYtyZAqwoLmEvHm/dcxh0CUtc0g X-Received: by 2002:a17:902:e784:b0:27d:69bd:cc65 with SMTP id d9443c01a7336-290272e1a46mr228450385ad.45.1760239477432; Sat, 11 Oct 2025 20:24:37 -0700 (PDT) Received: from postal.iol.unh.edu (postal.iol.unh.edu. [2606:4100:3880:1234::84]) by smtp-relay.gmail.com with ESMTPS id d9443c01a7336-29034efa8f5sm7889845ad.48.2025.10.11.20.24.37 (version=TLS1_2 cipher=ECDHE-ECDSA-AES128-GCM-SHA256 bits=128/128); Sat, 11 Oct 2025 20:24:37 -0700 (PDT) X-Relaying-Domain: iol.unh.edu Date: Sat, 11 Oct 2025 20:24:37 -0700 (PDT) Message-ID: <68eb1f75.170a0220.178c3e.7ac3SMTPIN_ADDED_MISSING@mx.google.com> Received: from [172.21.0.2] (unknown [172.18.0.240]) by postal.iol.unh.edu (Postfix) with ESMTP id D23AB60003EA; Sat, 11 Oct 2025 23:24:36 -0400 (EDT) Subject: |SUCCESS| [GIT MASTER] 2b403dd8fb37d0ba13723e44ffc7ee2c2795f838 From: dpdklab@iol.unh.edu To: Test Report Cc: dpdk-test-reports@iol.unh.edu Content-Type: text/plain X-BeenThere: test-report@dpdk.org X-Mailman-Version: 2.1.29 Precedence: list List-Id: automatic DPDK test reports List-Unsubscribe: , List-Archive: List-Post: List-Help: List-Subscribe: , Errors-To: test-report-bounces@dpdk.org _Testing PASS_ Branch: dpdk 2b403dd8fb37d0ba13723e44ffc7ee2c2795f838 --> testing pass Upstream job id: Generic-DPDK-Compile-Meson#433430 Test environment and result as below: +------------------------------+--------------------+ | Environment | dpdk_meson_compile | +==============================+====================+ | Ubuntu 20.04 | PASS | +------------------------------+--------------------+ | Fedora Linux 42 | PASS | +------------------------------+--------------------+ | Debian GNU/Linux 12 | PASS | +------------------------------+--------------------+ | Red Hat Enterprise Linux 9.5 | PASS | +------------------------------+--------------------+ | CentOS Stream 10 | PASS | +------------------------------+--------------------+ | Ubuntu 24.04 | PASS | +------------------------------+--------------------+ | Ubuntu 22.04 | PASS | +------------------------------+--------------------+ | CentOS Stream 9 | PASS | +------------------------------+--------------------+ Ubuntu 20.04 Kernel: 5.4 Compiler: gcc gcc (Ubuntu 9.4.0-1ubuntu1~20.04.2) 9.4.0 Fedora Linux 42 Kernel: 5.4 Compiler: gcc gcc (GCC) 15.2.1 20250808 (Red Hat 15.2.1-1) Debian GNU/Linux 12 Kernel: 5.4 Compiler: gcc gcc (Debian 12.2.0-14+deb12u1) 12.2.0 Red Hat Enterprise Linux 9.5 Kernel: 5.4 Compiler: gcc gcc (GCC) 11.5.0 20240719 (Red Hat 11.5.0-2) CentOS Stream 10 Kernel: 5.4 Compiler: gcc gcc (GCC) 14.2.1 20250110 (Red Hat 14.2.1-8) Ubuntu 24.04 Kernel: 5.4 Compiler: gcc gcc (Ubuntu 13.3.0-6ubuntu2~24.04) 13.3.0 Ubuntu 22.04 Kernel: 5.4 Compiler: gcc gcc (Ubuntu 11.4.0-1ubuntu1~22.04) 11.4.0 CentOS Stream 9 Kernel: 5.4 Compiler: gcc gcc (GCC) 11.5.0 20240719 (Red Hat 11.5.0-11) To view detailed results, visit: https://lab.dpdk.org/results/dashboard/tarballs/35176/ UNH-IOL DPDK Community Lab To manage your email subscriptions, visit: https://lab.dpdk.org/results/dashboard/preferences/subscriptions/