From mboxrd@z Thu Jan 1 00:00:00 1970 Return-Path: Received: from mails.dpdk.org (mails.dpdk.org [217.70.189.124]) by inbox.dpdk.org (Postfix) with ESMTP id 1E92548913 for ; Sun, 12 Oct 2025 07:30:00 +0200 (CEST) Received: from mails.dpdk.org (localhost [127.0.0.1]) by mails.dpdk.org (Postfix) with ESMTP id EF0774021F; Sun, 12 Oct 2025 07:29:59 +0200 (CEST) Received: from mail-pf1-f225.google.com (mail-pf1-f225.google.com [209.85.210.225]) by mails.dpdk.org (Postfix) with ESMTP id 5E9534021F for ; Sun, 12 Oct 2025 07:29:58 +0200 (CEST) Received: by mail-pf1-f225.google.com with SMTP id d2e1a72fcca58-76e4fc419a9so2979507b3a.0 for ; Sat, 11 Oct 2025 22:29:58 -0700 (PDT) DKIM-Signature: v=1; a=rsa-sha256; c=relaxed/relaxed; d=iol.unh.edu; s=unh-iol; t=1760246997; x=1760851797; darn=dpdk.org; h=cc:to:from:subject:message-id:date:from:to:cc:subject:date :message-id:reply-to; bh=eBl4VC/EpU6b/kq/27drupzTgkc7XNK3lk7UxgFbxqc=; b=Noy2bmEtszoReYyuTa9rcMyLrdDKCfPJ1Fo6pMzdFQUn2QKjWj2hDA0o6X4M/tRqCh 1u8OxbL3/zqGLZeQaAwtzmPi7u19SDAZhhSt0TEIrxVCA3ULgOQCdL+52jGSr9Bd6C4q CB2k4tLZp2hDWYkHSdJtUqZYOV9nLQJfouxZI= X-Google-DKIM-Signature: v=1; a=rsa-sha256; c=relaxed/relaxed; d=1e100.net; s=20230601; t=1760246997; x=1760851797; h=cc:to:from:subject:message-id:date:x-gm-message-state:from:to:cc :subject:date:message-id:reply-to; bh=eBl4VC/EpU6b/kq/27drupzTgkc7XNK3lk7UxgFbxqc=; b=uOt46BiUDo5h6AbbXnTfIvQ368P/KTm4vLJd+QtWhWIqMaj2SNO23/gRWRRvaNFjfk mP6vATGrK8x+XrNiqn6F1hjXaISfnXfJqbbmqzp4moNsLIP3Ed8Ogr4/V0OXYJxkWj80 i89x4xOP2/U7WbplF1joj5IsCuwBuJL7hB6HHLprnMqqNmVzZ0Gt04607HkCA+cEq0KU W4OfaRshkLfoDFlWQQnU9ektPBL5stgUOKdp0hs8BJJAQGOqR1WPuBPl/CNFG/uLmN+m cPGwRsZiBiCe/9NcNLwhEhQH+2wGo2p4OpC96+F5gXRA30X66jCyoUQsqpBVPTWp21sE Q1KA== X-Gm-Message-State: AOJu0YxPmwzKXTVsONudHu0FNS7IHmjcOz7lPuZ/TSDus9ynME65mS2M AJsvMTbVQjAwOxTon/YelCZBW+nkSHBU0XSVSpg0anL0TXwn9+EUucnce0MGtRwzOGtRBzpBkeB joR84LOUxnDDWbo6T4ISWNlan1+clQ8N02uXPLm9r+0qWCh6QhnU/ X-Gm-Gg: ASbGncvYZFAfQsi3CyNnbyU7OnDchAgmEKE59U97uO9sETNnZLBk/v69TlhjHKwvQnp I0heZyHFKBjZoWa4IjKHXORiwNYHTGhsWxnA0egmmI2Sz5jve2v4K/Ei9IhE+Cg/xVMGupv66n8 AkpLRzuC77jyRkp4pDRHNKy9U1NxSXmN4PSazyBBbYhJytDNmESPQZnFc2qCCONP8PiVzxVio4S 6eksgIWpHr6WTJyd94UYq8aRi4Pz1e9kA+kP3+hRFP8UVVjXUEkx8p+YJfvPcFkxOYS5xoTeWSL 6SLbxxI7B70zKSiLRXMCJiN9JqIAsqaUnq0/iv7wrEAzklAE3A== X-Google-Smtp-Source: AGHT+IEq663JnokZFvh5OBAwCc4P2mjHEkQ9ua2Ve91pUjLRkGtrHgjB+iirybnwxZK8qBhRgd7Fxmiz4M1J X-Received: by 2002:a05:6a00:ccd:b0:781:1562:1f92 with SMTP id d2e1a72fcca58-79387a287dbmr19637381b3a.26.1760246997487; Sat, 11 Oct 2025 22:29:57 -0700 (PDT) Received: from postal.iol.unh.edu (postal.iol.unh.edu. [2606:4100:3880:1234::84]) by smtp-relay.gmail.com with ESMTPS id d2e1a72fcca58-799337ef749sm649977b3a.12.2025.10.11.22.29.57 (version=TLS1_2 cipher=ECDHE-ECDSA-AES128-GCM-SHA256 bits=128/128); Sat, 11 Oct 2025 22:29:57 -0700 (PDT) X-Relaying-Domain: iol.unh.edu Date: Sat, 11 Oct 2025 22:29:57 -0700 (PDT) Message-ID: <68eb3cd5.050a0220.47ce2.0415SMTPIN_ADDED_MISSING@mx.google.com> Received: from [172.21.0.2] (unknown [172.18.0.240]) by postal.iol.unh.edu (Postfix) with ESMTP id BDDB46051830; Sun, 12 Oct 2025 01:29:56 -0400 (EDT) Subject: |SUCCESS| [GIT MASTER] b287e404643aeab5bb5db084c142789df187844e From: dpdklab@iol.unh.edu To: Test Report Cc: dpdk-test-reports@iol.unh.edu, Xueming Li , Christian Ehrhardt , Kevin Traynor , Luca Boccassi Content-Type: text/plain X-BeenThere: test-report@dpdk.org X-Mailman-Version: 2.1.29 Precedence: list List-Id: automatic DPDK test reports List-Unsubscribe: , List-Archive: List-Post: List-Help: List-Subscribe: , Errors-To: test-report-bounces@dpdk.org _Testing PASS_ Branch: tags/v24.11 b287e404643aeab5bb5db084c142789df187844e --> testing pass Upstream job id: Generic-Unit-Test-DPDK#380546 Test environment and result as below: +-------------------------------+----------------+ | Environment | dpdk_unit_test | +===============================+================+ | CentOS Stream 9 | PASS | +-------------------------------+----------------+ | Debian GNU/Linux 12 | PASS | +-------------------------------+----------------+ | CentOS Stream 10 | PASS | +-------------------------------+----------------+ | Fedora Linux 40 | PASS | +-------------------------------+----------------+ | Fedora Linux 42 | PASS | +-------------------------------+----------------+ | Fedora Linux 41 | PASS | +-------------------------------+----------------+ | Ubuntu 22.04 | PASS | +-------------------------------+----------------+ | Red Hat Enterprise Linux 9.5 | PASS | +-------------------------------+----------------+ | Ubuntu 24.04 | PASS | +-------------------------------+----------------+ | Ubuntu 20.04 | PASS | +-------------------------------+----------------+ | Red Hat Enterprise Linux 8.10 | PASS | +-------------------------------+----------------+ | Windows Server 2022 | PASS | +-------------------------------+----------------+ CentOS Stream 9 Kernel: 5.15 Compiler: gcc gcc (GCC) 11.5.0 20240719 (Red Hat 11.5.0-11) Debian GNU/Linux 12 Kernel: 5.15 Compiler: gcc gcc (Debian 12.2.0-14+deb12u1) 12.2.0 CentOS Stream 10 Kernel: 5.15 Compiler: gcc gcc (GCC) 14.2.1 20250110 (Red Hat 14.2.1-8) Fedora Linux 40 Kernel: 5.15 Compiler: gcc gcc (GCC) 14.2.1 20240912 (Red Hat 14.2.1-3) Fedora Linux 42 Kernel: 5.15 Compiler: clang gcc (GCC) 15.2.1 20250808 (Red Hat 15.2.1-1) Fedora Linux 41 Kernel: 5.15 Compiler: clang gcc (GCC) 14.3.1 20250523 (Red Hat 14.3.1-1) Ubuntu 22.04 Kernel: 5.15 Compiler: gcc gcc (Ubuntu 11.4.0-1ubuntu1~22.04) 11.4.0 Red Hat Enterprise Linux 9.5 Kernel: 5.15 Compiler: gcc gcc (GCC) 11.5.0 20240719 (Red Hat 11.5.0-2) Ubuntu 24.04 Kernel: 5.15 Compiler: gcc gcc (Ubuntu 13.3.0-6ubuntu2~24.04) 13.3.0 Ubuntu 20.04 Kernel: 5.15 Compiler: gcc gcc (Ubuntu 9.4.0-1ubuntu1~20.04.2) 9.4.0 Red Hat Enterprise Linux 8.10 Kernel: 5.15 Compiler: gcc gcc (GCC) 8.5.0 20210514 (Red Hat 8.5.0-22) Windows Server 2022 Kernel: 10.0.20348.2031 Compiler: clang 15.0.7, gcc 14.1.0 (MinGW), and MSVC VS 19.39.33521 To view detailed results, visit: https://lab.dpdk.org/results/dashboard/tarballs/35179/ UNH-IOL DPDK Community Lab To manage your email subscriptions, visit: https://lab.dpdk.org/results/dashboard/preferences/subscriptions/