From mboxrd@z Thu Jan 1 00:00:00 1970 Return-Path: Received: from mails.dpdk.org (mails.dpdk.org [217.70.189.124]) by inbox.dpdk.org (Postfix) with ESMTP id 13AB848913 for ; Sun, 12 Oct 2025 07:40:38 +0200 (CEST) Received: from mails.dpdk.org (localhost [127.0.0.1]) by mails.dpdk.org (Postfix) with ESMTP id 069D24021F; Sun, 12 Oct 2025 07:40:38 +0200 (CEST) Received: from mail-io1-f97.google.com (mail-io1-f97.google.com [209.85.166.97]) by mails.dpdk.org (Postfix) with ESMTP id CDDB14021F for ; Sun, 12 Oct 2025 07:40:36 +0200 (CEST) Received: by mail-io1-f97.google.com with SMTP id ca18e2360f4ac-92b92e4b078so138207039f.0 for ; Sat, 11 Oct 2025 22:40:36 -0700 (PDT) DKIM-Signature: v=1; a=rsa-sha256; c=relaxed/relaxed; d=iol.unh.edu; s=unh-iol; t=1760247636; x=1760852436; darn=dpdk.org; h=cc:to:from:subject:message-id:date:from:to:cc:subject:date :message-id:reply-to; bh=jPYp9Q8RTL3HJVPd4tMjpYy+2i1RkZGoMhJbuB2+SHo=; b=XhbVctbqwzHbULU5McUM2vQitrnUNeXKOqvPBkuMmiV4s04Z47+p3o37yM+SlDhwjH Ex0x6skoWuB4gx1mm/Rpe/E7gpA1WEqHzrf6hW+XqWhh3Utp1XEPnaUNSVLi4HJrAJUD PFWuAw6BC+ABpW/TzryUHMVJBYjt9Q2jozO1M= X-Google-DKIM-Signature: v=1; a=rsa-sha256; c=relaxed/relaxed; d=1e100.net; s=20230601; t=1760247636; x=1760852436; h=cc:to:from:subject:message-id:date:x-gm-message-state:from:to:cc :subject:date:message-id:reply-to; bh=jPYp9Q8RTL3HJVPd4tMjpYy+2i1RkZGoMhJbuB2+SHo=; b=OkeUBY0z4CDtMUwrxvJ8hQzocoaRe8sOduREUVjNUajh4FXbv0caOKM6R2/lZXQ480 oci2PW/qjoCEnhD3g0YtERmnNK67MGX3WWZDPQ4+dhtD+TGAnWFph6oHuQlhxj7kRX70 W63e1ZqKzI1aODjvur6dn60Gsr8Riz3FnKORAVu52oIKIyqXvehfdyZqEpmQktaZ/gQB xKxyE5p50SbF2zoWGvcVwqixi0EU3FBuh4atsy/yNTLXvmY/QhY1MwBJKn0upGxHK/Iw kbELo1oK+8dc4TxsuDcz4Yj+77qQBKbUzuUIxd9cr7Y2s35Xdq1RXg5XyFOl7hFkIAm1 +PAw== X-Gm-Message-State: AOJu0Yw3Yxpkrh/JY59RZOwO/iD+4MOlo0qNekk331NSyWIvbu53SRq/ OCRirFa8sb62aS90s9D0WELlJ1fw6wL/S4NLrGmhkn1ocRCEXTKaP4InGHuveS3tPO1ErixJXsu 4T/Gtce11JuJhl8Rtph8B11tMfDdzNcXnF05U X-Gm-Gg: ASbGncsn7YyUegz98b1eqa1gpuL9FtTOuIUmppNRKsveSpIY8RpyW9xBusD75KYxmDp PdVdqVDlLYqbBA6gGrBavvydWwAWPhfEhheU6da10ShgMObBtYfzJzmRO4LHH6HT/QtefrJsjE/ I55+UugQO8Huww6+b6gF/rKvbmjviG3hJpEyvKiszQlHUGX0LdK329VuO+/la8fZY2qdRbkO/e/ 2FzgMF7U4ogRSzjRoezJa0Do2YPKQ3nonL0uMh+38KfhkhpX2MCF9CYUWB4Cg13GllF2XjvuRqT +pc9Hwkt9QqQAZZqpZ1jUZyHwyfZbQcWNZ0mKHjt5IeaYT6C3WJHcQ6dCUWtekT/PQaeO6Cf X-Google-Smtp-Source: AGHT+IGgXDJui4vn3EmWRvgkFBKpHfLjw6Mbh3OKNaoLBrwy3JxwuOWtaqqzYw3jfQ378JHiPS5xLNAroJzh X-Received: by 2002:a05:6e02:1fe3:b0:42f:95a1:2e8 with SMTP id e9e14a558f8ab-42f95a104bfmr110065275ab.24.1760247636146; Sat, 11 Oct 2025 22:40:36 -0700 (PDT) Received: from postal.iol.unh.edu (postal.iol.unh.edu. [132.177.123.84]) by smtp-relay.gmail.com with ESMTPS id 8926c6da1cb9f-58f726e727dsm555375173.47.2025.10.11.22.40.36 (version=TLS1_2 cipher=ECDHE-ECDSA-AES128-GCM-SHA256 bits=128/128); Sat, 11 Oct 2025 22:40:36 -0700 (PDT) X-Relaying-Domain: iol.unh.edu Date: Sat, 11 Oct 2025 22:40:36 -0700 (PDT) Message-ID: <68eb3f54.050a0220.2b9e71.b75bSMTPIN_ADDED_MISSING@mx.google.com> Received: from [172.21.0.2] (unknown [172.18.0.240]) by postal.iol.unh.edu (Postfix) with ESMTP id B002A6051830; Sun, 12 Oct 2025 01:40:35 -0400 (EDT) Subject: |SUCCESS| [GIT MASTER] 3b43ce3f4a54468e7ef65760c2fd7b4d6ee6d9fc From: dpdklab@iol.unh.edu To: Test Report Cc: dpdk-test-reports@iol.unh.edu, Xueming Li , Christian Ehrhardt , Kevin Traynor , Luca Boccassi Content-Type: text/plain X-BeenThere: test-report@dpdk.org X-Mailman-Version: 2.1.29 Precedence: list List-Id: automatic DPDK test reports List-Unsubscribe: , List-Archive: List-Post: List-Help: List-Subscribe: , Errors-To: test-report-bounces@dpdk.org _Testing PASS_ Branch: tags/v22.11 3b43ce3f4a54468e7ef65760c2fd7b4d6ee6d9fc --> testing pass Upstream job id: Generic-DPDK-Compile-Meson#433444 Test environment and result as below: +-------------------------------+--------------------+-------------------------+----------------------+ | Environment | dpdk_meson_compile | dpdk_llvm_clang_compile | dpdk_mingw64_compile | +===============================+====================+=========================+======================+ | Ubuntu 20.04 | PASS | SKIPPED | SKIPPED | +-------------------------------+--------------------+-------------------------+----------------------+ | FreeBSD 14.2 | PASS | SKIPPED | SKIPPED | +-------------------------------+--------------------+-------------------------+----------------------+ | CentOS Stream 10 | PASS | SKIPPED | SKIPPED | +-------------------------------+--------------------+-------------------------+----------------------+ | Fedora Linux 42 | PASS | SKIPPED | SKIPPED | +-------------------------------+--------------------+-------------------------+----------------------+ | CentOS Stream 9 | PASS | SKIPPED | SKIPPED | +-------------------------------+--------------------+-------------------------+----------------------+ | Debian GNU/Linux 12 | PASS | SKIPPED | SKIPPED | +-------------------------------+--------------------+-------------------------+----------------------+ | Red Hat Enterprise Linux 8.10 | PASS | SKIPPED | SKIPPED | +-------------------------------+--------------------+-------------------------+----------------------+ | Red Hat Enterprise Linux 9.5 | PASS | SKIPPED | SKIPPED | +-------------------------------+--------------------+-------------------------+----------------------+ | Ubuntu 22.04 | PASS | SKIPPED | SKIPPED | +-------------------------------+--------------------+-------------------------+----------------------+ | Ubuntu 24.04 | PASS | SKIPPED | SKIPPED | +-------------------------------+--------------------+-------------------------+----------------------+ | openSUSE Leap 15.6 | PASS | SKIPPED | SKIPPED | +-------------------------------+--------------------+-------------------------+----------------------+ | Windows Server 2022 | SKIPPED | PASS | PASS | +-------------------------------+--------------------+-------------------------+----------------------+ Ubuntu 20.04 Kernel: 4.19 Compiler: gcc gcc (Ubuntu 9.4.0-1ubuntu1~20.04.2) 9.4.0 FreeBSD 14.2 Kernel: 14.2-RELEASE Compiler: clang 18.1.6 CentOS Stream 10 Kernel: 5.15 Compiler: gcc gcc (GCC) 14.2.1 20250110 (Red Hat 14.2.1-8) Fedora Linux 42 Kernel: 5.15 Compiler: clang gcc (GCC) 15.2.1 20250808 (Red Hat 15.2.1-1) CentOS Stream 9 Kernel: 5.15 Compiler: gcc gcc (GCC) 11.5.0 20240719 (Red Hat 11.5.0-11) Debian GNU/Linux 12 Kernel: 5.15 Compiler: gcc gcc (Debian 12.2.0-14+deb12u1) 12.2.0 Red Hat Enterprise Linux 8.10 Kernel: 5.15 Compiler: gcc gcc (GCC) 8.5.0 20210514 (Red Hat 8.5.0-22) Red Hat Enterprise Linux 9.5 Kernel: 5.15 Compiler: gcc gcc (GCC) 11.5.0 20240719 (Red Hat 11.5.0-2) Ubuntu 22.04 Kernel: 5.15 Compiler: gcc gcc (Ubuntu 11.4.0-1ubuntu1~22.04) 11.4.0 Ubuntu 24.04 Kernel: 5.15 Compiler: gcc gcc (Ubuntu 13.3.0-6ubuntu2~24.04) 13.3.0 openSUSE Leap 15.6 Kernel: 5.15 Compiler: gcc gcc (SUSE Linux) 7.5.0 Windows Server 2022 Kernel: 10.0.20348.2031 Compiler: clang 15.0.7, gcc 14.1.0 (MinGW), and MSVC VS 19.39.33521 To view detailed results, visit: https://lab.dpdk.org/results/dashboard/tarballs/35177/ UNH-IOL DPDK Community Lab To manage your email subscriptions, visit: https://lab.dpdk.org/results/dashboard/preferences/subscriptions/