From mboxrd@z Thu Jan 1 00:00:00 1970 Return-Path: Received: from mails.dpdk.org (mails.dpdk.org [217.70.189.124]) by inbox.dpdk.org (Postfix) with ESMTP id 2BC6448917 for ; Sun, 12 Oct 2025 08:51:51 +0200 (CEST) Received: from mails.dpdk.org (localhost [127.0.0.1]) by mails.dpdk.org (Postfix) with ESMTP id 06E134021F; Sun, 12 Oct 2025 08:51:51 +0200 (CEST) Received: from mail-pl1-f225.google.com (mail-pl1-f225.google.com [209.85.214.225]) by mails.dpdk.org (Postfix) with ESMTP id 264C34021F for ; Sun, 12 Oct 2025 08:51:50 +0200 (CEST) Received: by mail-pl1-f225.google.com with SMTP id d9443c01a7336-26d0fbe238bso23278855ad.3 for ; Sat, 11 Oct 2025 23:51:49 -0700 (PDT) DKIM-Signature: v=1; a=rsa-sha256; c=relaxed/relaxed; d=iol.unh.edu; s=unh-iol; t=1760251909; x=1760856709; darn=dpdk.org; h=cc:to:from:subject:message-id:date:from:to:cc:subject:date :message-id:reply-to; bh=exbL9ALIFYKg8sZSHX7o24h30JS5Un76dCWk+NYAAz4=; b=Z9C2Ka376aI4GQKO4LboXPK+YXrNZ78wJyNXlUPA3fJRScz9yXe+6bKzh0glbh/tuc yG3n/2QNZ82ceRUg3fiAgxZkIj0NLptlDKa8pjqrnsqEYdEi6ZI2mQuu7scudGCVMjiu tpv492z6INOpkcKkRV5/9k/PfwR7fMiT695T0= X-Google-DKIM-Signature: v=1; a=rsa-sha256; c=relaxed/relaxed; d=1e100.net; s=20230601; t=1760251909; x=1760856709; h=cc:to:from:subject:message-id:date:x-gm-message-state:from:to:cc :subject:date:message-id:reply-to; bh=exbL9ALIFYKg8sZSHX7o24h30JS5Un76dCWk+NYAAz4=; b=N6ljuWgvInfTv0gBK2d6ZTmJgxm8rwRaO/iEms7fdz/WlLWiCGXeaVBzvAiQ9NoyvU toB+jzS0z+URLTPcZCwh/aj7hGOTmAbIts+3JglqbyhcTyBwAmLkC42N95WjS/h/Cla/ NikbP2SKpEmajGhT5Tv46cCmdlpfEdZAOd2eS/pgmqt/RQkn1OZj3vVoFVK0xx3ZDJVK a4OS59NUNFpVUgeZsHjhhwfnqRF01JllpnuiNOKlOdMe5xwPcU07EfooNz3nkMQUpKaD UYHNv5KypUMhqFqaxigob5nul0sO1bdHFfNs+XUypA+/Rs7BA/ABCEj60HL3xMnZCKZB ElIA== X-Gm-Message-State: AOJu0YzRJsWwoNiEMCVfMi40uLrsObCJk/dZbOn9pLaMc5HgEDzExZiN SNzMmNngUTfaTmeWECu7pVl4nPtaJf4XsjIXf/OmYoXYU8KVBjr7+BDDygw1xTSKDSQpbsmSTzF FC5e/+qXeLENN84UNmTBTcoCfB10S5K5N9RIP X-Gm-Gg: ASbGnct8VVGbZoDe3ID129KItDWizq0DnP8VERFRvq428NBzAxN3E9n2+1mxVQZ8qtB lNM/Q+f3+VtKXsr0b0CIkpElduZmUfodOP2PiNajhPEMX3r01++kISbNdA0rTW+vIWlZ4RuJ2bn CV2530gQs2vt31xeVdn6bmu8fl0wJF25udHdTc3DuaWtq6OUCJA8fB4AdFHuxTTz6Npz+VYqMdO IxE1AwOfPNxbzvjz8uugpMKV6JOR6PGDeje2TVncpBSk9qoS/l24wgFzQ8r8CS4EFm/6vjIvAFW CuijH4N1tiZV0cSM7kZao95Z4S9sDXyJu/U5Uf7p+6Ggh/thw65h4VlZOsHRno/a8ewWpu39 X-Google-Smtp-Source: AGHT+IGn32wT3j0Fd/vvEJvTWTorAj/ln9+/mF8ajq8cFrzOBGYCpt0vM73pL5Ve/nwx+ZH9uhv3TNkSqJs2 X-Received: by 2002:a17:903:acb:b0:24b:270e:56cb with SMTP id d9443c01a7336-2902739b362mr218273605ad.27.1760251909022; Sat, 11 Oct 2025 23:51:49 -0700 (PDT) Received: from postal.iol.unh.edu (postal.iol.unh.edu. [132.177.123.84]) by smtp-relay.gmail.com with ESMTPS id d9443c01a7336-29034eee5f0sm8695225ad.34.2025.10.11.23.51.48 (version=TLS1_2 cipher=ECDHE-ECDSA-AES128-GCM-SHA256 bits=128/128); Sat, 11 Oct 2025 23:51:49 -0700 (PDT) X-Relaying-Domain: iol.unh.edu Date: Sat, 11 Oct 2025 23:51:49 -0700 (PDT) Message-ID: <68eb5005.170a0220.11dd74.d25eSMTPIN_ADDED_MISSING@mx.google.com> Received: from [172.21.0.2] (unknown [172.18.0.240]) by postal.iol.unh.edu (Postfix) with ESMTP id A11DD6051830; Sun, 12 Oct 2025 02:51:47 -0400 (EDT) Subject: |SUCCESS| [GIT MASTER] b287e404643aeab5bb5db084c142789df187844e From: dpdklab@iol.unh.edu To: Test Report Cc: dpdk-test-reports@iol.unh.edu, Xueming Li , Christian Ehrhardt , Kevin Traynor , Luca Boccassi Content-Type: text/plain X-BeenThere: test-report@dpdk.org X-Mailman-Version: 2.1.29 Precedence: list List-Id: automatic DPDK test reports List-Unsubscribe: , List-Archive: List-Post: List-Help: List-Subscribe: , Errors-To: test-report-bounces@dpdk.org _Testing PASS_ Branch: tags/v24.11 b287e404643aeab5bb5db084c142789df187844e --> testing pass Upstream job id: Generic-Unit-Test-DPDK#380548 Test environment and result as below: +------------------------------+---------------------------+--------------+------------------------------+----------------+ | Environment | cryptodev_sw_zuc_autotest | lpm_autotest | cryptodev_sw_snow3g_autotest | dpdk_unit_test | +==============================+===========================+==============+==============================+================+ | Debian 12 (arm) | PASS | SKIPPED | PASS | SKIPPED | +------------------------------+---------------------------+--------------+------------------------------+----------------+ | Ubuntu 20.04 | SKIPPED | PASS | SKIPPED | PASS | +------------------------------+---------------------------+--------------+------------------------------+----------------+ | Fedora Linux 40 | SKIPPED | SKIPPED | SKIPPED | PASS | +------------------------------+---------------------------+--------------+------------------------------+----------------+ | CentOS Stream 10 | SKIPPED | SKIPPED | SKIPPED | PASS | +------------------------------+---------------------------+--------------+------------------------------+----------------+ | CentOS Stream 9 | SKIPPED | SKIPPED | SKIPPED | PASS | +------------------------------+---------------------------+--------------+------------------------------+----------------+ | Debian GNU/Linux 12 | SKIPPED | SKIPPED | SKIPPED | PASS | +------------------------------+---------------------------+--------------+------------------------------+----------------+ | Fedora Linux 41 | SKIPPED | SKIPPED | SKIPPED | PASS | +------------------------------+---------------------------+--------------+------------------------------+----------------+ | Fedora Linux 42 | SKIPPED | SKIPPED | SKIPPED | PASS | +------------------------------+---------------------------+--------------+------------------------------+----------------+ | Ubuntu 24.04 | SKIPPED | SKIPPED | SKIPPED | PASS | +------------------------------+---------------------------+--------------+------------------------------+----------------+ | Ubuntu 22.04 | SKIPPED | SKIPPED | SKIPPED | PASS | +------------------------------+---------------------------+--------------+------------------------------+----------------+ | Red Hat Enterprise Linux 9.5 | SKIPPED | SKIPPED | SKIPPED | PASS | +------------------------------+---------------------------+--------------+------------------------------+----------------+ Debian 12 (arm) Kernel: Depends on container host Compiler: gcc (Debian 12.2.0-14) 12.2.0 Ubuntu 20.04 Kernel: 5.4 Compiler: gcc gcc (Ubuntu 9.4.0-1ubuntu1~20.04.2) 9.4.0 Fedora Linux 40 Kernel: 5.4 Compiler: clang gcc (GCC) 14.2.1 20240912 (Red Hat 14.2.1-3) CentOS Stream 10 Kernel: 5.4 Compiler: gcc gcc (GCC) 14.2.1 20250110 (Red Hat 14.2.1-8) CentOS Stream 9 Kernel: 5.4 Compiler: gcc gcc (GCC) 11.5.0 20240719 (Red Hat 11.5.0-11) Debian GNU/Linux 12 Kernel: 5.4 Compiler: gcc gcc (Debian 12.2.0-14+deb12u1) 12.2.0 Fedora Linux 41 Kernel: 5.4 Compiler: gcc gcc (GCC) 14.3.1 20250523 (Red Hat 14.3.1-1) Fedora Linux 42 Kernel: 5.4 Compiler: clang gcc (GCC) 15.2.1 20250808 (Red Hat 15.2.1-1) Ubuntu 24.04 Kernel: 5.4 Compiler: gcc gcc (Ubuntu 13.3.0-6ubuntu2~24.04) 13.3.0 Ubuntu 22.04 Kernel: 5.4 Compiler: gcc gcc (Ubuntu 11.4.0-1ubuntu1~22.04) 11.4.0 Red Hat Enterprise Linux 9.5 Kernel: 5.4 Compiler: gcc gcc (GCC) 11.5.0 20240719 (Red Hat 11.5.0-2) To view detailed results, visit: https://lab.dpdk.org/results/dashboard/tarballs/35179/ UNH-IOL DPDK Community Lab To manage your email subscriptions, visit: https://lab.dpdk.org/results/dashboard/preferences/subscriptions/