From mboxrd@z Thu Jan 1 00:00:00 1970 Return-Path: Received: from mails.dpdk.org (mails.dpdk.org [217.70.189.124]) by inbox.dpdk.org (Postfix) with ESMTP id 19F3746BC2 for ; Sun, 12 Oct 2025 09:41:50 +0200 (CEST) Received: from mails.dpdk.org (localhost [127.0.0.1]) by mails.dpdk.org (Postfix) with ESMTP id ECD1C4021F; Sun, 12 Oct 2025 09:41:49 +0200 (CEST) Received: from mail-pj1-f99.google.com (mail-pj1-f99.google.com [209.85.216.99]) by mails.dpdk.org (Postfix) with ESMTP id 38C3D4021F for ; Sun, 12 Oct 2025 09:41:49 +0200 (CEST) Received: by mail-pj1-f99.google.com with SMTP id 98e67ed59e1d1-33226dc4fc9so2833307a91.1 for ; Sun, 12 Oct 2025 00:41:49 -0700 (PDT) DKIM-Signature: v=1; a=rsa-sha256; c=relaxed/relaxed; d=iol.unh.edu; s=unh-iol; t=1760254908; x=1760859708; darn=dpdk.org; h=cc:to:from:subject:message-id:date:from:to:cc:subject:date :message-id:reply-to; bh=wd6KqPzAMX7xZCt6fw/eZjL5MzN4oet4mivySqWsLfw=; b=bo3hmXWU8VJ0v48d7D4NtVQDefDhRbyj3I3wuc1x6KxNzb/gE+/NMW1pjTzbBRXC6G YT/REl62pNoLulCY5gRZvVxw2MJLjUIFMjlW0z0GDDRSPlKOaAbrxZC2ZCw1TjZ3qqgG ooJDH2Xo8i9cB4jfY31D9VU/73KgKZhEEXbBA= X-Google-DKIM-Signature: v=1; a=rsa-sha256; c=relaxed/relaxed; d=1e100.net; s=20230601; t=1760254908; x=1760859708; h=cc:to:from:subject:message-id:date:x-gm-message-state:from:to:cc :subject:date:message-id:reply-to; bh=wd6KqPzAMX7xZCt6fw/eZjL5MzN4oet4mivySqWsLfw=; b=qgk37dm/P7xxiSWodhFYohVrVe9nKGxF2AE7CPYG/FTB+ITCilmTN1yfDBEz2Ll9+E eQVEncwSEd8mhKoq1VK3tqMxY0hdLwzlW1IqXWDqmQxgtLJWbBsOYM7Xnnbzjlx8W/wT zzeImfJ1SUh68LnKIuMWfqFsOGtnJ/yLZ0FqgNn0yLPwydoleyZFOexRCW2+bljGK3mn ZB/lrGoROJxdSvVBANj+GpL4AXvuxcdqFMfzez+mI53EySXJ3T9eJunjNgWnnNZr3zpB uZdOHpKESXWgf/0lTe3SpPIe0333sEARaqB3hbQZ15+NPfgDQQ0FUPbwEY1s8QGqHyW5 fP9Q== X-Gm-Message-State: AOJu0Yx0W+E/yik10vfpZf8cG5QVpyOnI9Y9gGNYzi2139iugUeHTbkP dorJkk8qw8yd93KCVuSEhZPWPRDZLL6hQI0srZxJavSquMo9m0KxsP1aa2aoMyuUpkh/FvgSB2A gC62RgxN1Ehf5TtB+PjqcVgJXa13sDskXmZKhD6NUqNOYQu/DVtAk X-Gm-Gg: ASbGncurCrSFzQuif6E6IGZg68NstQpXBq5ZsJolzz7LYcL1oKj1fe/YnwaoDLvB9hB 5d6ypcVSsBWbKj1sRKVCUJtFGstuxoojMlsD7u6NpVNE+7A3qCEoouPaXNUc8OQcj0bdR1Ukp/J z84CyR7pq/5u6Kap78+Z2Hy0mCaMFMUf+hXnp0PikgGhH+etwN5qI3BsqrNTtOvF8uNr5ITjWk3 scbUukwZj85x+PQEh9BgyV4qQqbNEkFxKpIbPUzOWJNmBRQqsBM6TXLMc0aBocYJzddvQBso2St izrAGzAmxi4idnPQmbmIGTLzOQG26lVw3nU7Lxk9pVlQX4Vj7g== X-Google-Smtp-Source: AGHT+IHtEZMZ0fyQrR8VpJw1BhEvoFaO5B9MKzg2lvQsakywGVBhAEIiLz3rmrcX8Pg6YYgMcXLM+L0A9PjD X-Received: by 2002:a17:903:2990:b0:290:533b:25c9 with SMTP id d9443c01a7336-290533b3392mr68727815ad.2.1760254908162; Sun, 12 Oct 2025 00:41:48 -0700 (PDT) Received: from postal.iol.unh.edu (postal.iol.unh.edu. [2606:4100:3880:1234::84]) by smtp-relay.gmail.com with ESMTPS id d9443c01a7336-29034e23842sm8167925ad.26.2025.10.12.00.41.48 (version=TLS1_2 cipher=ECDHE-ECDSA-AES128-GCM-SHA256 bits=128/128); Sun, 12 Oct 2025 00:41:48 -0700 (PDT) X-Relaying-Domain: iol.unh.edu Date: Sun, 12 Oct 2025 00:41:48 -0700 (PDT) Message-ID: <68eb5bbc.170a0220.182d2b.97c1SMTPIN_ADDED_MISSING@mx.google.com> Received: from [172.21.0.2] (unknown [172.18.0.240]) by postal.iol.unh.edu (Postfix) with ESMTP id 2E8436051830; Sun, 12 Oct 2025 03:41:47 -0400 (EDT) Subject: |SUCCESS| [GIT MASTER] b287e404643aeab5bb5db084c142789df187844e From: dpdklab@iol.unh.edu To: Test Report Cc: dpdk-test-reports@iol.unh.edu, Xueming Li , Christian Ehrhardt , Kevin Traynor , Luca Boccassi Content-Type: text/plain X-BeenThere: test-report@dpdk.org X-Mailman-Version: 2.1.29 Precedence: list List-Id: automatic DPDK test reports List-Unsubscribe: , List-Archive: List-Post: List-Help: List-Subscribe: , Errors-To: test-report-bounces@dpdk.org _Testing PASS_ Branch: tags/v24.11 b287e404643aeab5bb5db084c142789df187844e --> testing pass Upstream job id: Generic-DPDK-Compile-Meson#433480 Test environment and result as below: +------------------------------+--------------------+ | Environment | dpdk_meson_compile | +==============================+====================+ | CentOS Stream 9 | PASS | +------------------------------+--------------------+ | Debian GNU/Linux 12 | PASS | +------------------------------+--------------------+ | Red Hat Enterprise Linux 9.5 | PASS | +------------------------------+--------------------+ | Ubuntu 20.04 | PASS | +------------------------------+--------------------+ | CentOS Stream 10 | PASS | +------------------------------+--------------------+ | Ubuntu 22.04 | PASS | +------------------------------+--------------------+ | Fedora Linux 42 | PASS | +------------------------------+--------------------+ | Ubuntu 24.04 | PASS | +------------------------------+--------------------+ CentOS Stream 9 Kernel: 5.4 Compiler: gcc gcc (GCC) 11.5.0 20240719 (Red Hat 11.5.0-11) Debian GNU/Linux 12 Kernel: 5.4 Compiler: gcc gcc (Debian 12.2.0-14+deb12u1) 12.2.0 Red Hat Enterprise Linux 9.5 Kernel: 5.4 Compiler: gcc gcc (GCC) 11.5.0 20240719 (Red Hat 11.5.0-2) Ubuntu 20.04 Kernel: 5.15 Compiler: aarch64-linux-gnu-gcc gcc (Ubuntu 9.4.0-1ubuntu1~20.04.2) 9.4.0 CentOS Stream 10 Kernel: 5.4 Compiler: gcc gcc (GCC) 14.2.1 20250110 (Red Hat 14.2.1-8) Ubuntu 22.04 Kernel: 5.4 Compiler: gcc gcc (Ubuntu 11.4.0-1ubuntu1~22.04) 11.4.0 Fedora Linux 42 Kernel: 5.4 Compiler: gcc gcc (GCC) 15.2.1 20250808 (Red Hat 15.2.1-1) Ubuntu 24.04 Kernel: 5.4 Compiler: gcc gcc (Ubuntu 13.3.0-6ubuntu2~24.04) 13.3.0 To view detailed results, visit: https://lab.dpdk.org/results/dashboard/tarballs/35179/ UNH-IOL DPDK Community Lab To manage your email subscriptions, visit: https://lab.dpdk.org/results/dashboard/preferences/subscriptions/