From mboxrd@z Thu Jan 1 00:00:00 1970 Return-Path: Received: from mails.dpdk.org (mails.dpdk.org [217.70.189.124]) by inbox.dpdk.org (Postfix) with ESMTP id C949948917 for ; Sun, 12 Oct 2025 10:05:31 +0200 (CEST) Received: from mails.dpdk.org (localhost [127.0.0.1]) by mails.dpdk.org (Postfix) with ESMTP id A5AA84021F; Sun, 12 Oct 2025 10:05:31 +0200 (CEST) Received: from mail-yw1-f228.google.com (mail-yw1-f228.google.com [209.85.128.228]) by mails.dpdk.org (Postfix) with ESMTP id 30ACD4021F for ; Sun, 12 Oct 2025 10:05:30 +0200 (CEST) Received: by mail-yw1-f228.google.com with SMTP id 00721157ae682-71d71bcac45so33732977b3.0 for ; Sun, 12 Oct 2025 01:05:30 -0700 (PDT) DKIM-Signature: v=1; a=rsa-sha256; c=relaxed/relaxed; d=iol.unh.edu; s=unh-iol; t=1760256329; x=1760861129; darn=dpdk.org; h=cc:to:from:subject:message-id:date:from:to:cc:subject:date :message-id:reply-to; bh=JeoaBb3yl+9dCBUHQtFK4QuJzDTCsYKxFfZNpktMvdc=; b=BI9TMyhJU0sCX8R0rF2mSnGIJJe15LTdxHLFdIbTdNsdmOjTkeBN+Sd79Ln9/LBNXd KupFp4RzUAEI1XzPXuqzG2XqBRvNw9qZBNi44wJ6OcD0cS+8YTYahEQ0Lbf1mY9za35+ wLe6r1g48jYR7O4w89jzMkMFHr9R491lQoklY= X-Google-DKIM-Signature: v=1; a=rsa-sha256; c=relaxed/relaxed; d=1e100.net; s=20230601; t=1760256329; x=1760861129; h=cc:to:from:subject:message-id:date:x-gm-message-state:from:to:cc :subject:date:message-id:reply-to; bh=JeoaBb3yl+9dCBUHQtFK4QuJzDTCsYKxFfZNpktMvdc=; b=j51a2AOX0XbMPouEdN/OYTju2ICfG9sGA9bVlloJvRmrsQTxAWypPiB2oIQu58x9cW CDI83Y+J/hdwc0z0XdLsVigPVBu83AqlFjPU8XG/qcCZv1TWS4QizrDl7f2oKX99fZ4v OMa7VKb2AEzBPaAk2TEG1Spz5DTGeeeII//WwYcTDggbBCsNWkRsBnHiCbi38JZSsaFJ jn9Rck2lFD4igEXSoUmypDyQi/UAxyaRxLFH1loBw2BBQVKayzZ61gv0EmV1qZNdn/0o HczvbYPQD5/Dfv7TSLe2MaqgwA6zWL5ckt+dwq3IeJ5kvb1kMV1wCl+j+gtX2FikSZfz yKdQ== X-Gm-Message-State: AOJu0YzMQCj0k3jODJe21aTMgvno9fhk7lqOoxR9rT5GzUK/bgg1wQTv FPGbVtDhGWylnS2OPjHGkIg0l9URy3eqo7GiBs9j+F34vFh7De7MS9mk9TtvNIqRgbFL3lIhCOS wa4dm4E285XXUVmt5GitOrUNChfWXU0NnBhAoSGdzYEkuRLHq3bb6 X-Gm-Gg: ASbGncur3An7tNf5X5Druoa6CHzhGDBgA98tKVFFyakoIRHvPmmVKB9NhEQCT7AhwVp wqxoE75z60+Ow9mEZEQS0PLZB17Dj6m4vTkDrX2QZvaAO5JIF/ldas1JpNc0OWq5tnp+Iz1QT72 OrU2CgO/wyLwGeobgGKPd6ndAv3CDu/n7mgqHryB1uZ4ElQrJGo1Ocw4yGZuMO7AS2ouVZhd9qq kqBheYC/2q7+q2VobhoOer59AOafV/19bvyKADLQQuPvx6NRSyTkHXI0O4Yw4slkifCjbxcNpfC 1ONm516tvdTZ8mBz4fFTg3sjDqoIebfZtxfhJE3RY7JfZjsFlQ== X-Google-Smtp-Source: AGHT+IHQoOHLqas2RdsKEM9EA9s4SQY+l1jO9RJ3ukbGBYSbePzYvEjDkaoGoyDbKOJh6vOUByC5sVGv+tH+ X-Received: by 2002:a53:b6cf:0:b0:63b:6b56:e6af with SMTP id 956f58d0204a3-63ccb8f3929mr12003146d50.36.1760256329322; Sun, 12 Oct 2025 01:05:29 -0700 (PDT) Received: from postal.iol.unh.edu (postal.iol.unh.edu. [2606:4100:3880:1234::84]) by smtp-relay.gmail.com with ESMTPS id 956f58d0204a3-63cefb58cb1sm350542d50.10.2025.10.12.01.05.29 (version=TLS1_2 cipher=ECDHE-ECDSA-AES128-GCM-SHA256 bits=128/128); Sun, 12 Oct 2025 01:05:29 -0700 (PDT) X-Relaying-Domain: iol.unh.edu Date: Sun, 12 Oct 2025 01:05:29 -0700 (PDT) Message-ID: <68eb6149.050a0220.aaa65.160bSMTPIN_ADDED_MISSING@mx.google.com> Received: from [172.21.0.2] (unknown [172.18.0.240]) by postal.iol.unh.edu (Postfix) with ESMTP id E8ACC6051830; Sun, 12 Oct 2025 04:05:28 -0400 (EDT) Subject: |WARNING| [GIT MASTER] 62f583c49bf67dd4d6733ece14e55fe6839e66d1 From: dpdklab@iol.unh.edu To: Test Report Cc: dpdk-test-reports@iol.unh.edu, Xueming Li , Christian Ehrhardt , Kevin Traynor , Luca Boccassi Content-Type: text/plain X-BeenThere: test-report@dpdk.org X-Mailman-Version: 2.1.29 Precedence: list List-Id: automatic DPDK test reports List-Unsubscribe: , List-Archive: List-Post: List-Help: List-Subscribe: , Errors-To: test-report-bounces@dpdk.org _Testing issues_ Branch: tags/v23.11 62f583c49bf67dd4d6733ece14e55fe6839e66d1 --> testing issues Upstream job id: Generic-Unit-Test-DPDK#380575 Test environment and result as below: +------------------------------+--------------+----------------+---------------------------+------------------------------+ | Environment | lpm_autotest | dpdk_unit_test | cryptodev_sw_zuc_autotest | cryptodev_sw_snow3g_autotest | +==============================+==============+================+===========================+==============================+ | Ubuntu 20.04 | PASS | PASS | SKIPPED | SKIPPED | +------------------------------+--------------+----------------+---------------------------+------------------------------+ | CentOS Stream 9 | SKIPPED | PASS | SKIPPED | SKIPPED | +------------------------------+--------------+----------------+---------------------------+------------------------------+ | Debian GNU/Linux 12 | SKIPPED | PASS | SKIPPED | SKIPPED | +------------------------------+--------------+----------------+---------------------------+------------------------------+ | CentOS Stream 10 | SKIPPED | PASS | SKIPPED | SKIPPED | +------------------------------+--------------+----------------+---------------------------+------------------------------+ | Fedora Linux 40 | SKIPPED | PASS | SKIPPED | SKIPPED | +------------------------------+--------------+----------------+---------------------------+------------------------------+ | Fedora Linux 41 | SKIPPED | PASS | SKIPPED | SKIPPED | +------------------------------+--------------+----------------+---------------------------+------------------------------+ | Red Hat Enterprise Linux 9.5 | SKIPPED | PASS | SKIPPED | SKIPPED | +------------------------------+--------------+----------------+---------------------------+------------------------------+ | Ubuntu 24.04 | SKIPPED | PASS | SKIPPED | SKIPPED | +------------------------------+--------------+----------------+---------------------------+------------------------------+ | Fedora Linux 42 | SKIPPED | PASS | SKIPPED | SKIPPED | +------------------------------+--------------+----------------+---------------------------+------------------------------+ | Ubuntu 22.04 | SKIPPED | PASS | SKIPPED | SKIPPED | +------------------------------+--------------+----------------+---------------------------+------------------------------+ | Debian 12 (arm) | SKIPPED | SKIPPED | PASS | PASS | +------------------------------+--------------+----------------+---------------------------+------------------------------+ Ubuntu 20.04 Kernel: 5.4 Compiler: gcc gcc (Ubuntu 9.4.0-1ubuntu1~20.04.2) 9.4.0 CentOS Stream 9 Kernel: 5.4 Compiler: gcc gcc (GCC) 11.5.0 20240719 (Red Hat 11.5.0-11) Debian GNU/Linux 12 Kernel: 5.4 Compiler: gcc gcc (Debian 12.2.0-14+deb12u1) 12.2.0 CentOS Stream 10 Kernel: 5.4 Compiler: gcc gcc (GCC) 14.2.1 20250110 (Red Hat 14.2.1-8) Fedora Linux 40 Kernel: 5.4 Compiler: gcc gcc (GCC) 14.2.1 20240912 (Red Hat 14.2.1-3) Fedora Linux 41 Kernel: 5.4 Compiler: gcc gcc (GCC) 14.3.1 20250523 (Red Hat 14.3.1-1) Red Hat Enterprise Linux 9.5 Kernel: 5.4 Compiler: gcc gcc (GCC) 11.5.0 20240719 (Red Hat 11.5.0-2) Ubuntu 24.04 Kernel: 5.4 Compiler: gcc gcc (Ubuntu 13.3.0-6ubuntu2~24.04) 13.3.0 Fedora Linux 42 Kernel: 5.4 Compiler: gcc gcc (GCC) 15.2.1 20250808 (Red Hat 15.2.1-1) Ubuntu 22.04 Kernel: 5.4 Compiler: gcc gcc (Ubuntu 11.4.0-1ubuntu1~22.04) 11.4.0 Debian 12 (arm) Kernel: Depends on container host Compiler: gcc (Debian 12.2.0-14) 12.2.0 To view detailed results, visit: https://lab.dpdk.org/results/dashboard/tarballs/35178/ UNH-IOL DPDK Community Lab To manage your email subscriptions, visit: https://lab.dpdk.org/results/dashboard/preferences/subscriptions/