From mboxrd@z Thu Jan 1 00:00:00 1970 Return-Path: Received: from mails.dpdk.org (mails.dpdk.org [217.70.189.124]) by inbox.dpdk.org (Postfix) with ESMTP id 79F4948917 for ; Sun, 12 Oct 2025 10:13:20 +0200 (CEST) Received: from mails.dpdk.org (localhost [127.0.0.1]) by mails.dpdk.org (Postfix) with ESMTP id 5249D4021F; Sun, 12 Oct 2025 10:13:20 +0200 (CEST) Received: from mail-io1-f100.google.com (mail-io1-f100.google.com [209.85.166.100]) by mails.dpdk.org (Postfix) with ESMTP id 89E9E4021F for ; Sun, 12 Oct 2025 10:13:19 +0200 (CEST) Received: by mail-io1-f100.google.com with SMTP id ca18e2360f4ac-91f6ccdbfc8so172959839f.1 for ; Sun, 12 Oct 2025 01:13:19 -0700 (PDT) DKIM-Signature: v=1; a=rsa-sha256; c=relaxed/relaxed; d=iol.unh.edu; s=unh-iol; t=1760256799; x=1760861599; darn=dpdk.org; h=cc:to:from:subject:message-id:date:from:to:cc:subject:date :message-id:reply-to; bh=iZi32kKGXPJwrymH/JDhdKjf4l+5JJKqssbPiCMEQ8E=; b=EPwPFbJrg6iKcmIMHYMoo7kw2yAmHy0tgbZf1ou0kzP9FTEu1L1F86TsITcpDgH9Pi 0MJxOCbLapJMSUWFetDKAQZO4uGl97RP8uKHwxEeSQBTJDImd1K8mnKiP9dDLDP56ZE6 axFutKdi9jc5SuIZ92WW19jg18q6/mf3ykXRE= X-Google-DKIM-Signature: v=1; a=rsa-sha256; c=relaxed/relaxed; d=1e100.net; s=20230601; t=1760256799; x=1760861599; h=cc:to:from:subject:message-id:date:x-gm-message-state:from:to:cc :subject:date:message-id:reply-to; bh=iZi32kKGXPJwrymH/JDhdKjf4l+5JJKqssbPiCMEQ8E=; b=tX9Hr0T4zpWrdNO9STfVfGqt1vJzIwisRzCdD1A+8wSNJTlB//8Xvy1jceuVl37Ja1 IbSbgeFx8uCRYqhgAaREHp+w1RzkgBduioQGmQtYpQdSGnhKKdA/2tSBD+pKiqRAvjaq O1q+xSwviZuMx9NOEdONxJK7YhSR4wGkt2omtrsAqH+lvMhKWNJF8x8thFQ0uloCT/rk OUeIgS2LnpofNVCW4IfbvHzQCQjH6StiAkaw/HUY+vJ4rwU1E8cXcyPngkRo+fnNl9Av HqoQZdGAet3MtOblp8A73kC6/foiMxmoAvnQKoiNB/PRCYCjwwike4QxURlnc28r/vSn fvow== X-Gm-Message-State: AOJu0YynD40nexd6bgrLfFDB+qey/MEg5qbvZ0tiN1VtiocZN61g+8zf Z7W2lqPLby7GN7GXloRGGNr8aOS6iUG9apiexFEQnBaF1WOkS++HfrkDq/Y804jopV9W3IwDCRo s9mtrwZ/RxePOwgRO0ArqjjaUPTr254mLPj1KuYhXlEsaVPpqgS5x X-Gm-Gg: ASbGnctPoux9zKOiJg5DL6sjwrQuPwdqzRnl/6e4p8WBcZVt+036gmbHnS1jsy+WPRP GfbPPynjoVrwdcv/HCamhIpes7HvZVz6H/jUT+DenCjfR0jy0QxJksLJ4a514z54kpXhU/hcb4h yKXnREuSpY3pKIg1mV/DgozJaNd1zWwHI1yHY1ctw8+TCyyBbSfgwxJmLCfkBYJ4MfUljKPBwb5 vkVDh/a/gNnhwH3pfnLMU2CImwuJjTgQhXBVpenph4XSsgUByirxx3+hkPXKZCGMSxxYzUzBvKG 3QA6L0DlpU5nz7Hfoe2bgewbk0vf4eA/BOqO0H1Ub93n3dqExg== X-Google-Smtp-Source: AGHT+IGxf1+9usKAIrIhY1V90odjq73ofagd+gVGoUKbM5Uk1yFZHCvswdnuZK0pMp3K07jg8EreeodqNdUU X-Received: by 2002:a05:6602:14d5:b0:93b:c6aa:5e14 with SMTP id ca18e2360f4ac-93bd18f6adamr2312583039f.7.1760256798727; Sun, 12 Oct 2025 01:13:18 -0700 (PDT) Received: from postal.iol.unh.edu (postal.iol.unh.edu. [2606:4100:3880:1234::84]) by smtp-relay.gmail.com with ESMTPS id ca18e2360f4ac-93e2594f67csm45339339f.6.2025.10.12.01.13.18 (version=TLS1_2 cipher=ECDHE-ECDSA-AES128-GCM-SHA256 bits=128/128); Sun, 12 Oct 2025 01:13:18 -0700 (PDT) X-Relaying-Domain: iol.unh.edu Date: Sun, 12 Oct 2025 01:13:18 -0700 (PDT) Message-ID: <68eb631e.6b0a0220.55359.9222SMTPIN_ADDED_MISSING@mx.google.com> Received: from [172.21.0.2] (unknown [172.18.0.240]) by postal.iol.unh.edu (Postfix) with ESMTP id 3ED5D6051830; Sun, 12 Oct 2025 04:13:18 -0400 (EDT) Subject: |SUCCESS| [GIT MASTER] 3b43ce3f4a54468e7ef65760c2fd7b4d6ee6d9fc From: dpdklab@iol.unh.edu To: Test Report Cc: dpdk-test-reports@iol.unh.edu, Xueming Li , Christian Ehrhardt , Kevin Traynor , Luca Boccassi Content-Type: text/plain X-BeenThere: test-report@dpdk.org X-Mailman-Version: 2.1.29 Precedence: list List-Id: automatic DPDK test reports List-Unsubscribe: , List-Archive: List-Post: List-Help: List-Subscribe: , Errors-To: test-report-bounces@dpdk.org _Testing PASS_ Branch: tags/v22.11 3b43ce3f4a54468e7ef65760c2fd7b4d6ee6d9fc --> testing pass Upstream job id: Generic-DPDK-Compile-Meson#433461 Test environment and result as below: +------------------------------+--------------------+ | Environment | dpdk_meson_compile | +==============================+====================+ | Ubuntu 24.04 | PASS | +------------------------------+--------------------+ | Red Hat Enterprise Linux 9.5 | PASS | +------------------------------+--------------------+ | Ubuntu 20.04 | PASS | +------------------------------+--------------------+ | Fedora Linux 42 | PASS | +------------------------------+--------------------+ | Ubuntu 22.04 | PASS | +------------------------------+--------------------+ | Debian GNU/Linux 12 | PASS | +------------------------------+--------------------+ | CentOS Stream 10 | PASS | +------------------------------+--------------------+ | CentOS Stream 9 | PASS | +------------------------------+--------------------+ Ubuntu 24.04 Kernel: 5.4 Compiler: gcc gcc (Ubuntu 13.3.0-6ubuntu2~24.04) 13.3.0 Red Hat Enterprise Linux 9.5 Kernel: 5.4 Compiler: gcc gcc (GCC) 11.5.0 20240719 (Red Hat 11.5.0-2) Ubuntu 20.04 Kernel: 5.4 Compiler: gcc gcc (Ubuntu 9.4.0-1ubuntu1~20.04.2) 9.4.0 Fedora Linux 42 Kernel: 5.4 Compiler: clang gcc (GCC) 15.2.1 20250808 (Red Hat 15.2.1-1) Ubuntu 22.04 Kernel: 5.4 Compiler: gcc gcc (Ubuntu 11.4.0-1ubuntu1~22.04) 11.4.0 Debian GNU/Linux 12 Kernel: 5.4 Compiler: gcc gcc (Debian 12.2.0-14+deb12u1) 12.2.0 CentOS Stream 10 Kernel: 5.4 Compiler: gcc gcc (GCC) 14.2.1 20250110 (Red Hat 14.2.1-8) CentOS Stream 9 Kernel: 5.4 Compiler: gcc gcc (GCC) 11.5.0 20240719 (Red Hat 11.5.0-11) To view detailed results, visit: https://lab.dpdk.org/results/dashboard/tarballs/35177/ UNH-IOL DPDK Community Lab To manage your email subscriptions, visit: https://lab.dpdk.org/results/dashboard/preferences/subscriptions/