From mboxrd@z Thu Jan 1 00:00:00 1970 Return-Path: Received: from mails.dpdk.org (mails.dpdk.org [217.70.189.124]) by inbox.dpdk.org (Postfix) with ESMTP id BC00248920 for ; Mon, 13 Oct 2025 06:20:37 +0200 (CEST) Received: from mails.dpdk.org (localhost [127.0.0.1]) by mails.dpdk.org (Postfix) with ESMTP id 920D64013F; Mon, 13 Oct 2025 06:20:37 +0200 (CEST) Received: from mail-il1-f226.google.com (mail-il1-f226.google.com [209.85.166.226]) by mails.dpdk.org (Postfix) with ESMTP id D175F4013F for ; Mon, 13 Oct 2025 06:20:35 +0200 (CEST) Received: by mail-il1-f226.google.com with SMTP id e9e14a558f8ab-425911e5661so15382015ab.1 for ; Sun, 12 Oct 2025 21:20:35 -0700 (PDT) DKIM-Signature: v=1; a=rsa-sha256; c=relaxed/relaxed; d=iol.unh.edu; s=unh-iol; t=1760329235; x=1760934035; darn=dpdk.org; h=references:in-reply-to:cc:to:from:subject:message-id:date:from:to :cc:subject:date:message-id:reply-to; bh=d/pB7DSR91PDpqVj5Kegq9du3lqyAhld6gT0D6930DM=; b=TKi3b/UOlP9zLnmjww7mLhxrP6UbMLBspjcisQAHlZTekvcx0mR+yf2uDUhyjAfNb5 7ZUKbQI2QbiTFXrSGxuI5Jh3wGbuMJWeTJpvSpnDFq+deH3kf/z2ugRlcmfkqMeJnVJ9 rNF5XPKrhJQvu7lpqJeUh1RmFXPkHqItVu/2Q= X-Google-DKIM-Signature: v=1; a=rsa-sha256; c=relaxed/relaxed; d=1e100.net; s=20230601; t=1760329235; x=1760934035; h=references:in-reply-to:cc:to:from:subject:message-id:date :x-gm-message-state:from:to:cc:subject:date:message-id:reply-to; bh=d/pB7DSR91PDpqVj5Kegq9du3lqyAhld6gT0D6930DM=; b=QRphNof0CEQFDU04D7Nq9MCK4Ll6q4xqlx3FaVTweT0lP3CAri0eWy+yO/uYXuyj77 ec8+Fby6w46LYMI5Cw4FNMuXWDbJ9cOiBGP6LIPr6TOa1DEXaedqdpiSTmWutpFE/7DD iJeXk/OBfc7ZR9MQZ+sm+VAexqkKyv9fvII1BdO4mOWEiUkQxFFFa4HRkhOn/Mqz5I4s h+70yRkKC4zjXNq60Xwx4eWmEkN+H9DT4VNokwxavLDUGOOETjr7Vcg0pMwa/v6bBnJ3 qYc2CluDxGzfP3QNxpaTYw/t5m+uN6RzrpBXPLigmkPn5XCfpZkxwHjeSKF+CO2qP/5I V5zQ== X-Gm-Message-State: AOJu0YzVDNeGSWyC4eQkz0c7504NSZQduktVpHClU3TDHnAV9uB3jML8 P2uoMDTIbvwGUglXuGZ50aOOOkvdK53aL6KjY4qvD9TuZ51dFIy/qrU/VJUlrGSidZ/qPx5+Jy/ UL65Plwc82o5Kgww2Go/OD/JeBoESXJyr8CzFxdQGBXdK X-Gm-Gg: ASbGnctPOpAHvtfDEqQMCW5MDaP9dmVg3F1Ug7TnPeQOTVo2/hyhPCss2FPYGe+0FM/ eyif3hJej5/GzjCGoHPBbJ9KHb0QHEzRlrqZnOttYK08/8aIRlSxUux1r1s/k3uTVJRt8EmxRW7 w0X7kIMFgSFVoCmFUawnRw/KNdu5JHlVNIbhP+3roKAP39+QqMePy2NO3mK6T+FHo+S4c3SjrDh FuLGMaWCuTI29KHG58ad7AxugQsoFW+N78lmhT2ZRCnwrI1KR497cjJnI2ci9EDJG08RGZe2dpd hrKIFwOBl7t16kcKCaMahAKIcKCeDumxbiPZRUkug/s+tmqpT58D09S7NUwQMKnIOGf0u+ci X-Google-Smtp-Source: AGHT+IHuLlNfzwq/647anXxRthG/asjGkv8V6Lz1WIB0lBy4naUWPsxR1Htdxpd9wJBvep7yfld5xNw98A7i X-Received: by 2002:a05:6e02:3e02:b0:42f:9db5:26c4 with SMTP id e9e14a558f8ab-42f9db52ae1mr123947605ab.13.1760329235173; Sun, 12 Oct 2025 21:20:35 -0700 (PDT) Received: from postal.iol.unh.edu (postal.iol.unh.edu. [132.177.123.84]) by smtp-relay.gmail.com with ESMTPS id e9e14a558f8ab-42f90360596sm7952545ab.31.2025.10.12.21.20.35 (version=TLS1_2 cipher=ECDHE-ECDSA-AES128-GCM-SHA256 bits=128/128); Sun, 12 Oct 2025 21:20:35 -0700 (PDT) X-Relaying-Domain: iol.unh.edu Date: Sun, 12 Oct 2025 21:20:35 -0700 (PDT) Message-ID: <68ec7e13.050a0220.28b3f3.8750SMTPIN_ADDED_MISSING@mx.google.com> Received: from [172.21.0.2] (unknown [172.18.0.240]) by postal.iol.unh.edu (Postfix) with ESMTP id BD7496051830; Mon, 13 Oct 2025 00:20:34 -0400 (EDT) Subject: |SUCCESS| pw157458-157470 [PATCH] [v3,13/13] app/dma-perf: fix wrong From: dpdklab@iol.unh.edu To: Test Report Cc: dpdk-test-reports@iol.unh.edu In-Reply-To: <20251013030236.3861-14-fengchengwen@huawei.com> References: <20251013030236.3861-14-fengchengwen@huawei.com> Content-Type: text/plain X-BeenThere: test-report@dpdk.org X-Mailman-Version: 2.1.29 Precedence: list List-Id: automatic DPDK test reports List-Unsubscribe: , List-Archive: List-Post: List-Help: List-Subscribe: , Errors-To: test-report-bounces@dpdk.org Test-Label: iol-unit-amd64-testing Test-Status: SUCCESS http://dpdk.org/patch/157470 _Testing PASS_ Submitter: Chengwen Feng Date: Monday, October 13 2025 03:02:36 DPDK git baseline: Repo:dpdk Branch: master CommitID:2b403dd8fb37d0ba13723e44ffc7ee2c2795f838 157458-157470 --> testing pass Upstream job id: Generic-VM-Unit-Test-DPDK#31736 Test environment and result as below: +-------------------------------+----------------+ | Environment | dpdk_unit_test | +===============================+================+ | Red Hat Enterprise Linux 8.10 | PASS | +-------------------------------+----------------+ | CentOS Stream 9 | PASS | +-------------------------------+----------------+ | Red Hat Enterprise Linux 9.5 | PASS | +-------------------------------+----------------+ | Ubuntu 22.04 | PASS | +-------------------------------+----------------+ | Ubuntu 20.04 | PASS | +-------------------------------+----------------+ | Fedora Linux 41 | PASS | +-------------------------------+----------------+ | Debian GNU/Linux 12 | PASS | +-------------------------------+----------------+ | Fedora Linux 42 | PASS | +-------------------------------+----------------+ | Fedora Linux 40 | PASS | +-------------------------------+----------------+ | CentOS Stream 10 | PASS | +-------------------------------+----------------+ | Ubuntu 24.04 | PASS | +-------------------------------+----------------+ | Windows Server 2022 | PASS | +-------------------------------+----------------+ Red Hat Enterprise Linux 8.10 Kernel: 5.15 Compiler: gcc gcc (GCC) 8.5.0 20210514 (Red Hat 8.5.0-22) CentOS Stream 9 Kernel: 5.15 Compiler: gcc gcc (GCC) 11.5.0 20240719 (Red Hat 11.5.0-11) Red Hat Enterprise Linux 9.5 Kernel: 5.15 Compiler: gcc gcc (GCC) 11.5.0 20240719 (Red Hat 11.5.0-2) Ubuntu 22.04 Kernel: 5.15 Compiler: gcc gcc (Ubuntu 11.4.0-1ubuntu1~22.04) 11.4.0 Ubuntu 20.04 Kernel: 5.15 Compiler: gcc gcc (Ubuntu 9.4.0-1ubuntu1~20.04.2) 9.4.0 Fedora Linux 41 Kernel: 5.15 Compiler: gcc gcc (GCC) 14.3.1 20250523 (Red Hat 14.3.1-1) Debian GNU/Linux 12 Kernel: 5.15 Compiler: gcc gcc (Debian 12.2.0-14+deb12u1) 12.2.0 Fedora Linux 42 Kernel: 5.15 Compiler: clang gcc (GCC) 15.2.1 20250808 (Red Hat 15.2.1-1) Fedora Linux 40 Kernel: 5.15 Compiler: gcc gcc (GCC) 14.2.1 20240912 (Red Hat 14.2.1-3) CentOS Stream 10 Kernel: 5.15 Compiler: gcc gcc (GCC) 14.2.1 20250110 (Red Hat 14.2.1-8) Ubuntu 24.04 Kernel: 5.15 Compiler: gcc gcc (Ubuntu 13.3.0-6ubuntu2~24.04) 13.3.0 Windows Server 2022 Kernel: 10.0.20348.2031 Compiler: clang 15.0.7, gcc 14.1.0 (MinGW), and MSVC VS 19.39.33521 To view detailed results, visit: https://lab.dpdk.org/results/dashboard/patchsets/34257/ UNH-IOL DPDK Community Lab To manage your email subscriptions, visit: https://lab.dpdk.org/results/dashboard/preferences/subscriptions/