From mboxrd@z Thu Jan 1 00:00:00 1970 Return-Path: Received: from mails.dpdk.org (mails.dpdk.org [217.70.189.124]) by inbox.dpdk.org (Postfix) with ESMTP id 26B9F48920 for ; Mon, 13 Oct 2025 06:32:33 +0200 (CEST) Received: from mails.dpdk.org (localhost [127.0.0.1]) by mails.dpdk.org (Postfix) with ESMTP id 21DF94013F; Mon, 13 Oct 2025 06:32:33 +0200 (CEST) Received: from mail-il1-f226.google.com (mail-il1-f226.google.com [209.85.166.226]) by mails.dpdk.org (Postfix) with ESMTP id BC3994013F for ; Mon, 13 Oct 2025 06:32:31 +0200 (CEST) Received: by mail-il1-f226.google.com with SMTP id e9e14a558f8ab-42d7ef9a402so17150075ab.0 for ; Sun, 12 Oct 2025 21:32:31 -0700 (PDT) DKIM-Signature: v=1; a=rsa-sha256; c=relaxed/relaxed; d=iol.unh.edu; s=unh-iol; t=1760329951; x=1760934751; darn=dpdk.org; h=references:in-reply-to:cc:to:from:subject:message-id:date:from:to :cc:subject:date:message-id:reply-to; bh=92ltEhrMCTjIoWcjtjbnun3SoUpIyiB2kDygefjAvy4=; b=CTK4UIZcxHnwG7VwTRoAsNTeWztZ9XOKFWq3MB9yapOReoLp3IWJMH56j9NjQwFIam KmOvetynikE1jxoVPyvxtG/KHAWCQUVaeFp23IiVcS9KmLOSpx2488ZYcJPzkNFx0pCI tw3YxIn4UcYVSgOhwiCtCkfYGagOA5zljMD+E= X-Google-DKIM-Signature: v=1; a=rsa-sha256; c=relaxed/relaxed; d=1e100.net; s=20230601; t=1760329951; x=1760934751; h=references:in-reply-to:cc:to:from:subject:message-id:date :x-gm-message-state:from:to:cc:subject:date:message-id:reply-to; bh=92ltEhrMCTjIoWcjtjbnun3SoUpIyiB2kDygefjAvy4=; b=DKUbN7r2xPHyPG2PVTP3BUWJzC23HOM+GNny9oYfhMLG4x8F5XBY6AIxf0x+SjlSad OSNCMZx3/rjONBcldDnGUOwC/OkSLyVaRVD91z/+SXwvxS9aYOboTajpDI9+4tEJr5JO Fq/UW6PRP+5wXURR1iBOpxNQ5j8Fexz3n9X1cQDmD6KKrpB1q3LYxs+SvMYD7o8R7RKJ EGPceVQzYbVvCfOvBYS3/qPMrh6AK4Yu5qpQPsXjzjkeqG+7jnLwJF2M9ytX5TsVFsRc 4Q25s5217OlrTT/cNCZrKhWl3Vb/RCHYhpLoKtkIIdkjBVe6RiM74x8HHEreHFJTt+e5 NElw== X-Gm-Message-State: AOJu0YydfpQJa337aXExrml/7nDlApJ9bXPctXKWQTbRxxnRdbzwzaNP ZfDdZy7h/rvbp3K89+9DasWPgh2QFSmU0/co7szfMsnC3t/6uHodCM8GR0XaPainCxoAq5Aqmbk J2dXw8XbvT8xyIAH26yfGWB/qyHN8MnNeuYAvHrP4Qv0bF6KZBJEzeBeEFsKC X-Gm-Gg: ASbGncv0E6DOy/mKf8OcDU6UPbDXVioOSIRq/cnRj+cCUEBFj2A3bJwZvvNNobWDGH0 KFDagTLXL2/MUjDE1aBJFmVNn4710NWgSfR8WXCHwN8pKACdc3RYYVpSPJjREdUvCHb03B0UENM H27d8BUVwtryMuGgE+njxJUHFhhqTkCGLyT0x/7jdkEARDbTUG7h2w/i9F0myRWMZiWLK4qhxXW Rf80xc9mH7yC29Xsx1rgRX2tkwb3u1VoM1mzy5k3dEaL7uxF1zkmh34cwR5i4s9RJW1neJZMiV0 ph6QsrrC8CCi+VouJtcB30xZK9VVSbjTipe60hkJWuwj+ebxiQ== X-Google-Smtp-Source: AGHT+IHv9lKtqyVYO//bwEZiDz0COxta7SqOyfxQr2/TT2sujFewJa8D28ehbX6RrDlyi9R1eEwegUq4AdLX X-Received: by 2002:a05:6e02:2489:b0:42f:9649:56b4 with SMTP id e9e14a558f8ab-42f96495934mr142048355ab.13.1760329951091; Sun, 12 Oct 2025 21:32:31 -0700 (PDT) Received: from postal.iol.unh.edu (postal.iol.unh.edu. [2606:4100:3880:1234::84]) by smtp-relay.gmail.com with ESMTPS id 8926c6da1cb9f-58f71469689sm766073173.32.2025.10.12.21.32.31 (version=TLS1_2 cipher=ECDHE-ECDSA-AES128-GCM-SHA256 bits=128/128); Sun, 12 Oct 2025 21:32:31 -0700 (PDT) X-Relaying-Domain: iol.unh.edu Date: Sun, 12 Oct 2025 21:32:31 -0700 (PDT) Message-ID: <68ec80df.050a0220.135af2.52d6SMTPIN_ADDED_MISSING@mx.google.com> Received: from [172.21.0.2] (unknown [172.18.0.240]) by postal.iol.unh.edu (Postfix) with ESMTP id 741FC6051830; Mon, 13 Oct 2025 00:32:30 -0400 (EDT) Subject: |SUCCESS| pw157458-157470 [PATCH] [v3,13/13] app/dma-perf: fix wrong From: dpdklab@iol.unh.edu To: Test Report Cc: dpdk-test-reports@iol.unh.edu In-Reply-To: <20251013030236.3861-14-fengchengwen@huawei.com> References: <20251013030236.3861-14-fengchengwen@huawei.com> Content-Type: text/plain X-BeenThere: test-report@dpdk.org X-Mailman-Version: 2.1.29 Precedence: list List-Id: automatic DPDK test reports List-Unsubscribe: , List-Archive: List-Post: List-Help: List-Subscribe: , Errors-To: test-report-bounces@dpdk.org Test-Label: iol-unit-amd64-testing Test-Status: SUCCESS http://dpdk.org/patch/157470 _Testing PASS_ Submitter: Chengwen Feng Date: Monday, October 13 2025 03:02:36 DPDK git baseline: Repo:dpdk Branch: master CommitID:2b403dd8fb37d0ba13723e44ffc7ee2c2795f838 157458-157470 --> testing pass Upstream job id: Generic-VM-Unit-Test-DPDK#31737 Test environment and result as below: +-------------------------------+----------------+ | Environment | dpdk_unit_test | +===============================+================+ | Red Hat Enterprise Linux 8.10 | PASS | +-------------------------------+----------------+ | CentOS Stream 9 | PASS | +-------------------------------+----------------+ | Red Hat Enterprise Linux 9.5 | PASS | +-------------------------------+----------------+ | Ubuntu 22.04 | PASS | +-------------------------------+----------------+ | Ubuntu 20.04 | PASS | +-------------------------------+----------------+ | Fedora Linux 41 | PASS | +-------------------------------+----------------+ | Debian GNU/Linux 12 | PASS | +-------------------------------+----------------+ | Fedora Linux 42 | PASS | +-------------------------------+----------------+ | Fedora Linux 40 | PASS | +-------------------------------+----------------+ | CentOS Stream 10 | PASS | +-------------------------------+----------------+ | Ubuntu 24.04 | PASS | +-------------------------------+----------------+ | Windows Server 2022 | PASS | +-------------------------------+----------------+ Red Hat Enterprise Linux 8.10 Kernel: 5.15 Compiler: gcc gcc (GCC) 8.5.0 20210514 (Red Hat 8.5.0-22) CentOS Stream 9 Kernel: 5.15 Compiler: gcc gcc (GCC) 11.5.0 20240719 (Red Hat 11.5.0-11) Red Hat Enterprise Linux 9.5 Kernel: 5.15 Compiler: gcc gcc (GCC) 11.5.0 20240719 (Red Hat 11.5.0-2) Ubuntu 22.04 Kernel: 5.15 Compiler: gcc gcc (Ubuntu 11.4.0-1ubuntu1~22.04) 11.4.0 Ubuntu 20.04 Kernel: 5.15 Compiler: gcc gcc (Ubuntu 9.4.0-1ubuntu1~20.04.2) 9.4.0 Fedora Linux 41 Kernel: 5.15 Compiler: gcc gcc (GCC) 14.3.1 20250523 (Red Hat 14.3.1-1) Debian GNU/Linux 12 Kernel: 5.15 Compiler: gcc gcc (Debian 12.2.0-14+deb12u1) 12.2.0 Fedora Linux 42 Kernel: 5.15 Compiler: clang gcc (GCC) 15.2.1 20250808 (Red Hat 15.2.1-1) Fedora Linux 40 Kernel: 5.15 Compiler: gcc gcc (GCC) 14.2.1 20240912 (Red Hat 14.2.1-3) CentOS Stream 10 Kernel: 5.15 Compiler: gcc gcc (GCC) 14.2.1 20250110 (Red Hat 14.2.1-8) Ubuntu 24.04 Kernel: 5.15 Compiler: gcc gcc (Ubuntu 13.3.0-6ubuntu2~24.04) 13.3.0 Windows Server 2022 Kernel: 10.0.20348.2031 Compiler: clang 15.0.7, gcc 14.1.0 (MinGW), and MSVC VS 19.39.33521 To view detailed results, visit: https://lab.dpdk.org/results/dashboard/patchsets/34257/ UNH-IOL DPDK Community Lab To manage your email subscriptions, visit: https://lab.dpdk.org/results/dashboard/preferences/subscriptions/