From mboxrd@z Thu Jan 1 00:00:00 1970 Return-Path: Received: from mails.dpdk.org (mails.dpdk.org [217.70.189.124]) by inbox.dpdk.org (Postfix) with ESMTP id B7AB148920 for ; Mon, 13 Oct 2025 06:58:49 +0200 (CEST) Received: from mails.dpdk.org (localhost [127.0.0.1]) by mails.dpdk.org (Postfix) with ESMTP id B0A564013F; Mon, 13 Oct 2025 06:58:49 +0200 (CEST) Received: from mail-pg1-f225.google.com (mail-pg1-f225.google.com [209.85.215.225]) by mails.dpdk.org (Postfix) with ESMTP id 688FF4013F for ; Mon, 13 Oct 2025 06:58:48 +0200 (CEST) Received: by mail-pg1-f225.google.com with SMTP id 41be03b00d2f7-b679450ecb6so1595527a12.2 for ; Sun, 12 Oct 2025 21:58:48 -0700 (PDT) DKIM-Signature: v=1; a=rsa-sha256; c=relaxed/relaxed; d=iol.unh.edu; s=unh-iol; t=1760331527; x=1760936327; darn=dpdk.org; h=references:in-reply-to:cc:to:from:subject:message-id:date:from:to :cc:subject:date:message-id:reply-to; bh=QsH/+HYvRbfRufnIkq81FjAbuOdve/l9EDEu0WD9OZo=; b=N23mgG95iI2o2TdmstDXGg/h7t1qUTz79K0VeinVmP3xh+gqh1XxFyWuqI4sIE2+AF Isg6U+Aan/ThhWkOyyPSWbBtGcn6UNh1+qS5HDCBDRqquQmy3yLIdFv3msfDqLWPu/RY 8UIfpOolLJWEz+VI4gHkd9bZVnUvtmgGp4Yaw= X-Google-DKIM-Signature: v=1; a=rsa-sha256; c=relaxed/relaxed; d=1e100.net; s=20230601; t=1760331527; x=1760936327; h=references:in-reply-to:cc:to:from:subject:message-id:date :x-gm-message-state:from:to:cc:subject:date:message-id:reply-to; bh=QsH/+HYvRbfRufnIkq81FjAbuOdve/l9EDEu0WD9OZo=; b=Hz/2SR5KcqoOrvD7K8s5WZv2WAX95rYIQVmaKGOoX66mlvPRpmzi2wUM8yljXtpigM ftFDmGX+h616ty9v6/XrHJ+31BIwZTeYIz2XeDB5XtSlnapeSKyKYqP7OY4i56vWr0G3 kZMdmuyT4Ho9Ozjf1Dc9WlcCBFz+lHhCpf59pGI9S2Q+8QGtR9qR7kyXPm1WN1yFzbhz HtWye9iA/mb+4SjVlvQFRdjwyWzLh3hNfI4qQ7s0eDoavfEhbWff5v6RRV48/Og6iGxD aChpgSxcyuI0+gDD553M/Cy8BbD8txdSxG5ABNvu2o1xzUSfKjDs29ZNDHJcGC4l6Apb PI+Q== X-Gm-Message-State: AOJu0YzpPscxL6tbRaeI1YDEg6aflLMbWTN1eRKst9PHwpZybPTCdSIw 5DeIqVjSIJGfKhQXLQKHvXcfRkVMF0Yea24/QRMeXZQtuYCFqdIZjtT3dzHPwfUpec/R4kPKrIz wHZPSbkux3KbyDAede+ZcUvFgGbtnr6BJxwkZKPCBdQWqUfF3LCbuLgm7rvls X-Gm-Gg: ASbGnctkuS/bXhNeu80vNsPj38ZzqbUSi0/utVXR/Ruu8rkWPeJK7b7CYwfajswT2NE 0hVlegPRe1AvcC3s23a8+5PMkv70YtQuNaqqTzOBnP906/7wcz8BgVIetPRa00NjIqxuzaoB04m WiwqdQq+O3sZIpJHh7Hloivnub+cAeaxXoXKi9/PO44qAFSdUF3YyzTgP2xFNsNSaRPl4lVgfm/ zdi0I76kaEJatftZb2szQ7ebwHRGtm68UZnJCBnxzEjmA268+EK0gC5MkxjYHN/Z+r1ECB8EjNJ fZ93pZ6Xnbx0pMng9yRKlybUAAtUXcsZVczVx+LK10faXZjdAQ== X-Google-Smtp-Source: AGHT+IH9sZaUE8QASkLGF8Kyr7J3jfQiDZpuSJgVcnXbHWHcnfF3p4bbo7Dc5T8wfmPL2YaLvqk/s0Gko8vB X-Received: by 2002:a17:903:3c4f:b0:25c:5bda:53a8 with SMTP id d9443c01a7336-290272b5529mr240894965ad.37.1760331527122; Sun, 12 Oct 2025 21:58:47 -0700 (PDT) Received: from postal.iol.unh.edu (postal.iol.unh.edu. [2606:4100:3880:1234::84]) by smtp-relay.gmail.com with ESMTPS id d9443c01a7336-29034f2dbc0sm10136725ad.53.2025.10.12.21.58.47 (version=TLS1_2 cipher=ECDHE-ECDSA-AES128-GCM-SHA256 bits=128/128); Sun, 12 Oct 2025 21:58:47 -0700 (PDT) X-Relaying-Domain: iol.unh.edu Date: Sun, 12 Oct 2025 21:58:47 -0700 (PDT) Message-ID: <68ec8707.170a0220.160eee.29fdSMTPIN_ADDED_MISSING@mx.google.com> Received: from [172.21.0.17] (unknown [172.18.0.240]) by postal.iol.unh.edu (Postfix) with ESMTP id 595006051830; Mon, 13 Oct 2025 00:58:46 -0400 (EDT) Subject: |SUCCESS| pw157458-157470 [PATCH] [v3,13/13] app/dma-perf: fix wrong From: dpdklab@iol.unh.edu To: Test Report Cc: dpdk-test-reports@iol.unh.edu In-Reply-To: <20251013030236.3861-14-fengchengwen@huawei.com> References: <20251013030236.3861-14-fengchengwen@huawei.com> Content-Type: text/plain X-BeenThere: test-report@dpdk.org X-Mailman-Version: 2.1.29 Precedence: list List-Id: automatic DPDK test reports List-Unsubscribe: , List-Archive: List-Post: List-Help: List-Subscribe: , Errors-To: test-report-bounces@dpdk.org Test-Label: iol-compile-amd64-testing Test-Status: SUCCESS http://dpdk.org/patch/157470 _Testing PASS_ Submitter: Chengwen Feng Date: Monday, October 13 2025 03:02:36 DPDK git baseline: Repo:dpdk Branch: master CommitID:2b403dd8fb37d0ba13723e44ffc7ee2c2795f838 157458-157470 --> testing pass Upstream job id: Generic-DPDK-Compile-Meson#433514 Test environment and result as below: +-------------------------------+--------------------+-------------------+-------------------------+------------------+-------------------+----------------------+ | Environment | dpdk_meson_compile | dpdk_compile_spdk | dpdk_llvm_clang_compile | dpdk_compile_ovs | dpdk_msvc_compile | dpdk_mingw64_compile | +===============================+====================+===================+=========================+==================+===================+======================+ | CentOS Stream 9 | PASS | PASS | SKIPPED | SKIPPED | SKIPPED | SKIPPED | +-------------------------------+--------------------+-------------------+-------------------------+------------------+-------------------+----------------------+ | Ubuntu 20.04 | PASS | SKIPPED | SKIPPED | SKIPPED | SKIPPED | SKIPPED | +-------------------------------+--------------------+-------------------+-------------------------+------------------+-------------------+----------------------+ | Debian GNU/Linux 12 | PASS | PASS | SKIPPED | SKIPPED | SKIPPED | SKIPPED | +-------------------------------+--------------------+-------------------+-------------------------+------------------+-------------------+----------------------+ | FreeBSD 14.2 | PASS | SKIPPED | SKIPPED | SKIPPED | SKIPPED | SKIPPED | +-------------------------------+--------------------+-------------------+-------------------------+------------------+-------------------+----------------------+ | CentOS Stream 10 | PASS | SKIPPED | SKIPPED | SKIPPED | SKIPPED | SKIPPED | +-------------------------------+--------------------+-------------------+-------------------------+------------------+-------------------+----------------------+ | Fedora Linux 42 | PASS | PASS | SKIPPED | PASS | SKIPPED | SKIPPED | +-------------------------------+--------------------+-------------------+-------------------------+------------------+-------------------+----------------------+ | openSUSE Leap 15.6 | PASS | SKIPPED | SKIPPED | SKIPPED | SKIPPED | SKIPPED | +-------------------------------+--------------------+-------------------+-------------------------+------------------+-------------------+----------------------+ | Red Hat Enterprise Linux 8.10 | PASS | SKIPPED | SKIPPED | SKIPPED | SKIPPED | SKIPPED | +-------------------------------+--------------------+-------------------+-------------------------+------------------+-------------------+----------------------+ | Red Hat Enterprise Linux 9.5 | PASS | SKIPPED | SKIPPED | SKIPPED | SKIPPED | SKIPPED | +-------------------------------+--------------------+-------------------+-------------------------+------------------+-------------------+----------------------+ | Ubuntu 22.04 | PASS | PASS | SKIPPED | SKIPPED | SKIPPED | SKIPPED | +-------------------------------+--------------------+-------------------+-------------------------+------------------+-------------------+----------------------+ | Ubuntu 24.04 | PASS | PASS | SKIPPED | PASS | SKIPPED | SKIPPED | +-------------------------------+--------------------+-------------------+-------------------------+------------------+-------------------+----------------------+ | Alpine Linux 3.22.0 | PASS | SKIPPED | SKIPPED | SKIPPED | SKIPPED | SKIPPED | +-------------------------------+--------------------+-------------------+-------------------------+------------------+-------------------+----------------------+ | Windows Server 2022 | SKIPPED | SKIPPED | PASS | SKIPPED | PASS | PASS | +-------------------------------+--------------------+-------------------+-------------------------+------------------+-------------------+----------------------+ CentOS Stream 9 Kernel: 5.15 Compiler: gcc gcc (GCC) 11.5.0 20240719 (Red Hat 11.5.0-11) Ubuntu 20.04 Kernel: 4.19 Compiler: gcc gcc (Ubuntu 9.4.0-1ubuntu1~20.04.2) 9.4.0 Debian GNU/Linux 12 Kernel: 5.15 Compiler: gcc gcc (Debian 12.2.0-14+deb12u1) 12.2.0 FreeBSD 14.2 Kernel: 14.2-RELEASE Compiler: clang 18.1.6 CentOS Stream 10 Kernel: 5.15 Compiler: gcc gcc (GCC) 14.2.1 20250110 (Red Hat 14.2.1-8) Fedora Linux 42 Kernel: 5.15 Compiler: clang gcc (GCC) 15.2.1 20250808 (Red Hat 15.2.1-1) openSUSE Leap 15.6 Kernel: 5.15 Compiler: gcc gcc (SUSE Linux) 7.5.0 Red Hat Enterprise Linux 8.10 Kernel: 5.15 Compiler: gcc gcc (GCC) 8.5.0 20210514 (Red Hat 8.5.0-22) Red Hat Enterprise Linux 9.5 Kernel: 5.15 Compiler: gcc gcc (GCC) 11.5.0 20240719 (Red Hat 11.5.0-2) Ubuntu 22.04 Kernel: 5.15 Compiler: gcc gcc (Ubuntu 11.4.0-1ubuntu1~22.04) 11.4.0 Ubuntu 24.04 Kernel: 5.15 Compiler: gcc gcc (Ubuntu 13.3.0-6ubuntu2~24.04) 13.3.0 Alpine Linux 3.22.0 Kernel: 5.15 Compiler: gcc gcc (Alpine 14.2.0) 14.2.0 Windows Server 2022 Kernel: 10.0.20348.2031 Compiler: clang 15.0.7, gcc 14.1.0 (MinGW), and MSVC VS 19.39.33521 To view detailed results, visit: https://lab.dpdk.org/results/dashboard/patchsets/34257/ UNH-IOL DPDK Community Lab To manage your email subscriptions, visit: https://lab.dpdk.org/results/dashboard/preferences/subscriptions/