From mboxrd@z Thu Jan 1 00:00:00 1970 Return-Path: Received: from mails.dpdk.org (mails.dpdk.org [217.70.189.124]) by inbox.dpdk.org (Postfix) with ESMTP id E8FD848920 for ; Mon, 13 Oct 2025 07:08:47 +0200 (CEST) Received: from mails.dpdk.org (localhost [127.0.0.1]) by mails.dpdk.org (Postfix) with ESMTP id B29D04013F; Mon, 13 Oct 2025 07:08:47 +0200 (CEST) Received: from mail-il1-f226.google.com (mail-il1-f226.google.com [209.85.166.226]) by mails.dpdk.org (Postfix) with ESMTP id D1EE54013F for ; Mon, 13 Oct 2025 07:08:46 +0200 (CEST) Received: by mail-il1-f226.google.com with SMTP id e9e14a558f8ab-42f8d7f116eso15416205ab.2 for ; Sun, 12 Oct 2025 22:08:46 -0700 (PDT) DKIM-Signature: v=1; a=rsa-sha256; c=relaxed/relaxed; d=iol.unh.edu; s=unh-iol; t=1760332126; x=1760936926; darn=dpdk.org; h=references:in-reply-to:cc:to:from:subject:message-id:date:from:to :cc:subject:date:message-id:reply-to; bh=1zOMp3uJ5RF007nSw2aLpvx+3JqW5MdQfv6WyACi9NU=; b=ZfyZcRd7SGIsluAWcn7ZEy1ik+rZmGw3BNOQND/Oeg2kL0D/xtKUvkvhY7eIUF7ov+ XaMjhoBBY2pLb0dF/UEXVEG3AcwQnk6kmXerEkNSxAW0iKzshdMxDc8P+JvV1h3eyeb4 7afzeXymLGy/hee6hSewtYDqIeaGfTZZ+/Oj4= X-Google-DKIM-Signature: v=1; a=rsa-sha256; c=relaxed/relaxed; d=1e100.net; s=20230601; t=1760332126; x=1760936926; h=references:in-reply-to:cc:to:from:subject:message-id:date :x-gm-message-state:from:to:cc:subject:date:message-id:reply-to; bh=1zOMp3uJ5RF007nSw2aLpvx+3JqW5MdQfv6WyACi9NU=; b=UP7JNaiEK9h7KFsjZnXgy5r0T7Z/ttNsC6wCy3zyRo9ffA5ZbQ9lwo6SYC0Qg1Tsgf A/rSiiCGUsJtjjJpNMZ9Wlqsop7iZXnejsZu+dLQIc/4H7HQY80OhX0wOXKY9HuQNW+S PyS5REv+rL2+Zv/ntJnmrxEFkXT90anJpiEDUXfgU0gnIZPdD3ebteOlwFCej385ir40 eYPR48q5/GbnB06N1p2OuWBscATSfAqKtHY9tYwhGT4c2c7eAgXHcBBc0f68U3hL8Q0j oUwmkOvmZC1uZKHFFt+cdUk8X7QYcWymqM9yacuIkdRCSldSo+OGIYGCv8cZUs8ZPoei bO9w== X-Gm-Message-State: AOJu0Yxnuk9BJVN+05jMQM19s6A1r9OuPPzQhofKhbdiwKAh+8gvPk6x K9504mrjqcdu8pqBIaf/fC/GTEaiRZTZxM7bU4H1NWgLafiwqsFRjCPgrYS/ZeTsgy48/wkAB1G YiacBr+YuJpKlgHmLWLF2AKsIX8d2/3X5BZRS0l+AV9V8 X-Gm-Gg: ASbGncuudmor5FogZz5AcIcxlrEaC8jCcW9qfCkHMacPlXlqTW4WNasoyGDkqhODaaC ExJNwf0XvsUPNhAVbYn6KKR9xlE4vzPVIMRsN2an7+DzDaaEHaoaMpVJcabG3wJbWVdaWLR43O0 Cadrmpi9Ql/meVl20JAU9emuLUtLtkImPiO8rUe8tb1DfC+JCw/XJV9IzW3D3XYn9bwtW80B2Xd cYPvfLhlvL5a9/H+8t6okzOqcmetPC471KKsfspgJb9Iy5RInEcmXPNADVEOYM3mWD7yRcURhB6 AAYl7PMolnYzte6ZSyXrjgkpdHBxGhy/eETN34BJ5oq4tctBMvYG2yBJaRNi0HkGuvRgizUj X-Google-Smtp-Source: AGHT+IGiUXmZM8VknTkpD1Cz7kvBFemDdCWELbxvkiEYP4TkrUbDW4sRHqIM2zrbmKxEoUcPTLikyHLICBwv X-Received: by 2002:a05:6e02:1c29:b0:42a:f84b:9e7f with SMTP id e9e14a558f8ab-42f873ebd1amr203521715ab.15.1760332125989; Sun, 12 Oct 2025 22:08:45 -0700 (PDT) Received: from postal.iol.unh.edu (postal.iol.unh.edu. [132.177.123.84]) by smtp-relay.gmail.com with ESMTPS id 8926c6da1cb9f-58f6daf6255sm770766173.19.2025.10.12.22.08.45 (version=TLS1_2 cipher=ECDHE-ECDSA-AES128-GCM-SHA256 bits=128/128); Sun, 12 Oct 2025 22:08:45 -0700 (PDT) X-Relaying-Domain: iol.unh.edu Date: Sun, 12 Oct 2025 22:08:45 -0700 (PDT) Message-ID: <68ec895d.050a0220.5cba2.5ef3SMTPIN_ADDED_MISSING@mx.google.com> Received: from [172.21.0.2] (unknown [172.18.0.240]) by postal.iol.unh.edu (Postfix) with ESMTP id 872DE6051830; Mon, 13 Oct 2025 01:08:45 -0400 (EDT) Subject: |SUCCESS| pw157458-157470 [PATCH] [v3,13/13] app/dma-perf: fix wrong From: dpdklab@iol.unh.edu To: Test Report Cc: dpdk-test-reports@iol.unh.edu In-Reply-To: <20251013030236.3861-14-fengchengwen@huawei.com> References: <20251013030236.3861-14-fengchengwen@huawei.com> Content-Type: text/plain X-BeenThere: test-report@dpdk.org X-Mailman-Version: 2.1.29 Precedence: list List-Id: automatic DPDK test reports List-Unsubscribe: , List-Archive: List-Post: List-Help: List-Subscribe: , Errors-To: test-report-bounces@dpdk.org Test-Label: iol-unit-arm64-testing Test-Status: SUCCESS http://dpdk.org/patch/157470 _Testing PASS_ Submitter: Chengwen Feng Date: Monday, October 13 2025 03:02:36 DPDK git baseline: Repo:dpdk Branch: master CommitID:2b403dd8fb37d0ba13723e44ffc7ee2c2795f838 157458-157470 --> testing pass Upstream job id: Generic-Unit-Test-DPDK#380598 Test environment and result as below: +------------------------------+----------------+--------------+---------------------------+------------------------------+ | Environment | dpdk_unit_test | lpm_autotest | cryptodev_sw_zuc_autotest | cryptodev_sw_snow3g_autotest | +==============================+================+==============+===========================+==============================+ | Fedora Linux 41 | PASS | SKIPPED | SKIPPED | SKIPPED | +------------------------------+----------------+--------------+---------------------------+------------------------------+ | Ubuntu 24.04 | PASS | SKIPPED | SKIPPED | SKIPPED | +------------------------------+----------------+--------------+---------------------------+------------------------------+ | Fedora Linux 40 | PASS | SKIPPED | SKIPPED | SKIPPED | +------------------------------+----------------+--------------+---------------------------+------------------------------+ | Ubuntu 22.04 | PASS | SKIPPED | SKIPPED | SKIPPED | +------------------------------+----------------+--------------+---------------------------+------------------------------+ | Ubuntu 20.04 | PASS | PASS | SKIPPED | SKIPPED | +------------------------------+----------------+--------------+---------------------------+------------------------------+ | CentOS Stream 10 | PASS | SKIPPED | SKIPPED | SKIPPED | +------------------------------+----------------+--------------+---------------------------+------------------------------+ | Red Hat Enterprise Linux 9.5 | PASS | SKIPPED | SKIPPED | SKIPPED | +------------------------------+----------------+--------------+---------------------------+------------------------------+ | CentOS Stream 9 | PASS | SKIPPED | SKIPPED | SKIPPED | +------------------------------+----------------+--------------+---------------------------+------------------------------+ | Fedora Linux 42 | PASS | SKIPPED | SKIPPED | SKIPPED | +------------------------------+----------------+--------------+---------------------------+------------------------------+ | Debian GNU/Linux 12 | PASS | SKIPPED | SKIPPED | SKIPPED | +------------------------------+----------------+--------------+---------------------------+------------------------------+ | Debian 12 (arm) | SKIPPED | SKIPPED | PASS | PASS | +------------------------------+----------------+--------------+---------------------------+------------------------------+ Fedora Linux 41 Kernel: 5.4 Compiler: gcc gcc (GCC) 14.3.1 20250523 (Red Hat 14.3.1-1) Ubuntu 24.04 Kernel: 5.4 Compiler: gcc gcc (Ubuntu 13.3.0-6ubuntu2~24.04) 13.3.0 Fedora Linux 40 Kernel: 5.4 Compiler: clang gcc (GCC) 14.2.1 20240912 (Red Hat 14.2.1-3) Ubuntu 22.04 Kernel: 5.4 Compiler: gcc gcc (Ubuntu 11.4.0-1ubuntu1~22.04) 11.4.0 Ubuntu 20.04 Kernel: 5.4 Compiler: gcc gcc (Ubuntu 9.4.0-1ubuntu1~20.04.2) 9.4.0 CentOS Stream 10 Kernel: 5.4 Compiler: gcc gcc (GCC) 14.2.1 20250110 (Red Hat 14.2.1-8) Red Hat Enterprise Linux 9.5 Kernel: 5.4 Compiler: gcc gcc (GCC) 11.5.0 20240719 (Red Hat 11.5.0-2) CentOS Stream 9 Kernel: 5.4 Compiler: gcc gcc (GCC) 11.5.0 20240719 (Red Hat 11.5.0-11) Fedora Linux 42 Kernel: 5.4 Compiler: clang gcc (GCC) 15.2.1 20250808 (Red Hat 15.2.1-1) Debian GNU/Linux 12 Kernel: 5.4 Compiler: gcc gcc (Debian 12.2.0-14+deb12u1) 12.2.0 Debian 12 (arm) Kernel: Depends on container host Compiler: gcc (Debian 12.2.0-14) 12.2.0 To view detailed results, visit: https://lab.dpdk.org/results/dashboard/patchsets/34257/ UNH-IOL DPDK Community Lab To manage your email subscriptions, visit: https://lab.dpdk.org/results/dashboard/preferences/subscriptions/