From mboxrd@z Thu Jan 1 00:00:00 1970 Return-Path: Received: from mails.dpdk.org (mails.dpdk.org [217.70.189.124]) by inbox.dpdk.org (Postfix) with ESMTP id B36B048920 for ; Mon, 13 Oct 2025 07:47:12 +0200 (CEST) Received: from mails.dpdk.org (localhost [127.0.0.1]) by mails.dpdk.org (Postfix) with ESMTP id AE1324013F; Mon, 13 Oct 2025 07:47:12 +0200 (CEST) Received: from mail-io1-f97.google.com (mail-io1-f97.google.com [209.85.166.97]) by mails.dpdk.org (Postfix) with ESMTP id 40D934013F for ; Mon, 13 Oct 2025 07:47:12 +0200 (CEST) Received: by mail-io1-f97.google.com with SMTP id ca18e2360f4ac-9379a062ca8so144680739f.2 for ; Sun, 12 Oct 2025 22:47:12 -0700 (PDT) DKIM-Signature: v=1; a=rsa-sha256; c=relaxed/relaxed; d=iol.unh.edu; s=unh-iol; t=1760334431; x=1760939231; darn=dpdk.org; h=cc:to:from:subject:message-id:date:from:to:cc:subject:date :message-id:reply-to; bh=8W//tsFimYcPN1RH8WcVx/KYvf3hNP/Kz0fwMQGsUog=; b=TubRq3Mh3I2DJN9i6M+NY5EGCBBmd2h0cNVxNqx0rpXyVz76XhMcR4j4vrbmgHcL1O pCVuPaS74C4jTyOQ1LYOSWhm2snz67Jyuhho5lH2zbtyPh/gqhOItYzIqh9Iua/HjzRb gLJxVaxS1sKq8brzvcszvkjvwYGVTXOfys9hw= X-Google-DKIM-Signature: v=1; a=rsa-sha256; c=relaxed/relaxed; d=1e100.net; s=20230601; t=1760334431; x=1760939231; h=cc:to:from:subject:message-id:date:x-gm-message-state:from:to:cc :subject:date:message-id:reply-to; bh=8W//tsFimYcPN1RH8WcVx/KYvf3hNP/Kz0fwMQGsUog=; b=Jb02pCoEfR5EK524czvdbuta1eJ8ZFgPqMjH/Z/UmX3CoW5f+la523AYITHDH7fnub z32QOjMsrkDJiGMH4C59yseZZwwLiWqwws7uH+ylJruvO0ybZf7iJNcRH0UUZKKzLFuJ RgchiuQFRhLFomHTIc2NwQxEGWVXizx6oZMtjwLVke5YB5ur4WhDjyPVaQIl5Z416yYh YgT8VoAHUOWDq5fQ1djSKbV0NNKgxwJkzRLTkBotMwHt01ZcWex8dahPoV/jqDeQ6d7G AiATwQJwlW+oJkRs04e3wPxDd3MTGUa0mZJMxI7Y2IGAzIW7pQNg95oYwh5MP+wOZPVh MhjQ== X-Gm-Message-State: AOJu0YxJv9TPX6ftRUUIkaD4nHpVVvXRvz/enStrNl1SK1HkAK/mNPYi McTWvEpgwaqI71kVMZS1/fDYjpjFZGAAXNPDTuxP3E/RgVepJZfGkwKd+m7HTsO4orcW4opAXKX kUDkO2Fz7oi5D1ez2HWcm6QhM5s8gjaay1wXO X-Gm-Gg: ASbGnctUxzqTrY16TeMKCftknuMkv4M5Y1OeE5cSp9SmQH4A2+vV+qcLBazMLcBuHr1 v2ttaxPZx9qEZ2sr4Ef6+AvV8rmnvYVSmrRO2OKKjJ4s4XU5jC7hv+TrPuwapWlNZJvDj5n06+A 1S4GCWFGj7t57CMf7nR5hDrqIEM4v6EyokVuFjxZz0Ut+ZIn5Mc6ha5yC9XkTzpE1PnIhQXvzXb NjUFFjrdwQuxH6MJXztYnU/br7PIADmOmuvzXa8txhJ4IfyoHvcXj9ywZdJfy7Xuh8wZgI3/k3E OfdL0rSjsyZRkkT2CeOFF74EPMTUMVR7K72ED8TQpijyOhwrLUUG49RbqF0/709ZU6Vrye8o X-Google-Smtp-Source: AGHT+IFbZFhcIMaKbmZwLosAGvLhIFFUWVDPNXC5gRTH7UFtjYXx/ke1HNUilByta45fc/CTIJwfkPzmy/RM X-Received: by 2002:a05:6e02:1fed:b0:42d:876e:61bd with SMTP id e9e14a558f8ab-42f87418fa6mr191819535ab.28.1760334431515; Sun, 12 Oct 2025 22:47:11 -0700 (PDT) Received: from postal.iol.unh.edu (postal.iol.unh.edu. [132.177.123.84]) by smtp-relay.gmail.com with ESMTPS id 8926c6da1cb9f-58f71469849sm797041173.30.2025.10.12.22.47.11 (version=TLS1_2 cipher=ECDHE-ECDSA-AES128-GCM-SHA256 bits=128/128); Sun, 12 Oct 2025 22:47:11 -0700 (PDT) X-Relaying-Domain: iol.unh.edu Date: Sun, 12 Oct 2025 22:47:11 -0700 (PDT) Message-ID: <68ec925f.050a0220.16095f.8729SMTPIN_ADDED_MISSING@mx.google.com> Received: from [172.21.0.2] (unknown [172.18.0.240]) by postal.iol.unh.edu (Postfix) with ESMTP id 16DAC6051830; Mon, 13 Oct 2025 01:47:11 -0400 (EDT) Subject: |SUCCESS| [GIT MASTER] b287e404643aeab5bb5db084c142789df187844e From: dpdklab@iol.unh.edu To: Test Report Cc: dpdk-test-reports@iol.unh.edu, Xueming Li , Christian Ehrhardt , Kevin Traynor , Luca Boccassi Content-Type: text/plain X-BeenThere: test-report@dpdk.org X-Mailman-Version: 2.1.29 Precedence: list List-Id: automatic DPDK test reports List-Unsubscribe: , List-Archive: List-Post: List-Help: List-Subscribe: , Errors-To: test-report-bounces@dpdk.org _Testing PASS_ Branch: tags/v24.11 b287e404643aeab5bb5db084c142789df187844e --> testing pass Upstream job id: Generic-DPDK-Compile-Meson#433608 Test environment and result as below: +-------------------------------+--------------------+-------------------+------------------+-------------------+-------------------------+----------------------+ | Environment | dpdk_meson_compile | dpdk_compile_spdk | dpdk_compile_ovs | dpdk_msvc_compile | dpdk_llvm_clang_compile | dpdk_mingw64_compile | +===============================+====================+===================+==================+===================+=========================+======================+ | CentOS Stream 10 | PASS | SKIPPED | SKIPPED | SKIPPED | SKIPPED | SKIPPED | +-------------------------------+--------------------+-------------------+------------------+-------------------+-------------------------+----------------------+ | CentOS Stream 9 | PASS | PASS | SKIPPED | SKIPPED | SKIPPED | SKIPPED | +-------------------------------+--------------------+-------------------+------------------+-------------------+-------------------------+----------------------+ | Debian GNU/Linux 12 | PASS | PASS | SKIPPED | SKIPPED | SKIPPED | SKIPPED | +-------------------------------+--------------------+-------------------+------------------+-------------------+-------------------------+----------------------+ | openSUSE Leap 15.6 | PASS | SKIPPED | SKIPPED | SKIPPED | SKIPPED | SKIPPED | +-------------------------------+--------------------+-------------------+------------------+-------------------+-------------------------+----------------------+ | Fedora Linux 42 | PASS | PASS | PASS | SKIPPED | SKIPPED | SKIPPED | +-------------------------------+--------------------+-------------------+------------------+-------------------+-------------------------+----------------------+ | Red Hat Enterprise Linux 8.10 | PASS | SKIPPED | SKIPPED | SKIPPED | SKIPPED | SKIPPED | +-------------------------------+--------------------+-------------------+------------------+-------------------+-------------------------+----------------------+ | Red Hat Enterprise Linux 9.5 | PASS | SKIPPED | SKIPPED | SKIPPED | SKIPPED | SKIPPED | +-------------------------------+--------------------+-------------------+------------------+-------------------+-------------------------+----------------------+ | Ubuntu 20.04 | PASS | SKIPPED | SKIPPED | SKIPPED | SKIPPED | SKIPPED | +-------------------------------+--------------------+-------------------+------------------+-------------------+-------------------------+----------------------+ | Ubuntu 22.04 | PASS | PASS | SKIPPED | SKIPPED | SKIPPED | SKIPPED | +-------------------------------+--------------------+-------------------+------------------+-------------------+-------------------------+----------------------+ | Ubuntu 24.04 | PASS | PASS | PASS | SKIPPED | SKIPPED | SKIPPED | +-------------------------------+--------------------+-------------------+------------------+-------------------+-------------------------+----------------------+ | Alpine Linux 3.22.0 | PASS | SKIPPED | SKIPPED | SKIPPED | SKIPPED | SKIPPED | +-------------------------------+--------------------+-------------------+------------------+-------------------+-------------------------+----------------------+ | FreeBSD 14.2 | PASS | SKIPPED | SKIPPED | SKIPPED | SKIPPED | SKIPPED | +-------------------------------+--------------------+-------------------+------------------+-------------------+-------------------------+----------------------+ | Windows Server 2022 | SKIPPED | SKIPPED | SKIPPED | PASS | PASS | PASS | +-------------------------------+--------------------+-------------------+------------------+-------------------+-------------------------+----------------------+ CentOS Stream 10 Kernel: 5.15 Compiler: gcc gcc (GCC) 14.2.1 20250110 (Red Hat 14.2.1-8) CentOS Stream 9 Kernel: 5.15 Compiler: gcc gcc (GCC) 11.5.0 20240719 (Red Hat 11.5.0-11) Debian GNU/Linux 12 Kernel: 5.15 Compiler: gcc gcc (Debian 12.2.0-14+deb12u1) 12.2.0 openSUSE Leap 15.6 Kernel: 5.15 Compiler: gcc gcc (SUSE Linux) 7.5.0 Fedora Linux 42 Kernel: 5.15 Compiler: clang gcc (GCC) 15.2.1 20250808 (Red Hat 15.2.1-1) Red Hat Enterprise Linux 8.10 Kernel: 5.15 Compiler: gcc gcc (GCC) 8.5.0 20210514 (Red Hat 8.5.0-22) Red Hat Enterprise Linux 9.5 Kernel: 5.15 Compiler: gcc gcc (GCC) 11.5.0 20240719 (Red Hat 11.5.0-2) Ubuntu 20.04 Kernel: 5.15 Compiler: gcc gcc (Ubuntu 9.4.0-1ubuntu1~20.04.2) 9.4.0 Ubuntu 22.04 Kernel: 5.15 Compiler: gcc gcc (Ubuntu 11.4.0-1ubuntu1~22.04) 11.4.0 Ubuntu 24.04 Kernel: 5.15 Compiler: gcc gcc (Ubuntu 13.3.0-6ubuntu2~24.04) 13.3.0 Alpine Linux 3.22.0 Kernel: 5.15 Compiler: gcc gcc (Alpine 14.2.0) 14.2.0 FreeBSD 14.2 Kernel: 14.2-RELEASE Compiler: clang 18.1.6 Windows Server 2022 Kernel: 10.0.20348.2031 Compiler: clang 15.0.7, gcc 14.1.0 (MinGW), and MSVC VS 19.39.33521 To view detailed results, visit: https://lab.dpdk.org/results/dashboard/tarballs/35183/ UNH-IOL DPDK Community Lab To manage your email subscriptions, visit: https://lab.dpdk.org/results/dashboard/preferences/subscriptions/