From mboxrd@z Thu Jan 1 00:00:00 1970 Return-Path: Received: from mails.dpdk.org (mails.dpdk.org [217.70.189.124]) by inbox.dpdk.org (Postfix) with ESMTP id E7FF848920 for ; Mon, 13 Oct 2025 07:55:20 +0200 (CEST) Received: from mails.dpdk.org (localhost [127.0.0.1]) by mails.dpdk.org (Postfix) with ESMTP id D2EA64013F; Mon, 13 Oct 2025 07:55:20 +0200 (CEST) Received: from mail-io1-f97.google.com (mail-io1-f97.google.com [209.85.166.97]) by mails.dpdk.org (Postfix) with ESMTP id 87BDC4013F for ; Mon, 13 Oct 2025 07:55:19 +0200 (CEST) Received: by mail-io1-f97.google.com with SMTP id ca18e2360f4ac-911520e43edso167651339f.0 for ; Sun, 12 Oct 2025 22:55:19 -0700 (PDT) DKIM-Signature: v=1; a=rsa-sha256; c=relaxed/relaxed; d=iol.unh.edu; s=unh-iol; t=1760334919; x=1760939719; darn=dpdk.org; h=references:in-reply-to:cc:to:from:subject:message-id:date:from:to :cc:subject:date:message-id:reply-to; bh=clBoJbINIwHAnP3K19xqPQcqAHa3k2jg5+U+1H/FFx8=; b=IWR6TvFoZ7XbWTUICTWmZm7r++qUC+RO2PLX1QwewwYQZgLb50sEfj8GC959kurVGD aTdOaMi6QrVIEJ1mEaLOKqVi4Tk2e8HPwQW/EdyEN4IbgAoZcGIC8gKahPgdDAIi7BOo dMIIMocdKBeN/Xu47MEHeSkYiYmyHQLw+Lfg4= X-Google-DKIM-Signature: v=1; a=rsa-sha256; c=relaxed/relaxed; d=1e100.net; s=20230601; t=1760334919; x=1760939719; h=references:in-reply-to:cc:to:from:subject:message-id:date :x-gm-message-state:from:to:cc:subject:date:message-id:reply-to; bh=clBoJbINIwHAnP3K19xqPQcqAHa3k2jg5+U+1H/FFx8=; b=Cj/0NrJ2radhp50T2k2JrAznJw0szZVDmHbn2QurhjPu/kWV0HMiZJqvZ1ucICBCSs 3MLrH/65UPM9FbF6Tl4z65ClFkBT8YKl9a/GTDNpvZRsH0ob8PeElE3lb0cUATAURfk2 oGAuaK8CTxcsaKfimHMT5KAAhHA/GvLGJ4TNnk1+5ED0GXfkKoZk+D1by6T/ikZSOxMB Zqlbz1gzyNnQus7DfUWqwpesxYk6+SS1qwEJuNu/Ypnuujqn9cL4rVUZA8N5aFT6UYWm Cy/ypSxZ7zJYqxUvlFAF6GcBxkZb2lymfVlCtediTkrwPJimAuAJmh5Bb/nGJ9le3AiP mQ/A== X-Gm-Message-State: AOJu0YwTt2VW3HZDPtpKlWPVqPTL2HtM/vE/nVxDnYVxfkG0ecSmfcL5 7TQwMdZLaWC/8XnqInnibIWMCcmNh3LmMDHaacPQhXgHkvCtFTu04/UAsXEyaxpmpJqnk/Qd7rK RRxEJHm2CnvhWylaa5V3xr5njrcYJX7GcWCdbeIbfoi+QM2n3aIU6CC87JhmO X-Gm-Gg: ASbGncsRcT6je3eORGTS3kJtEDGwYlB6Yht6OYZULC5In/MPXPoeC6aIeZ4pFwgxeRX RxYfmfkensHE8XtYkrZFeWygKBy5ajOmWYxtAQl3xB5ikKPTS307fhI2HPh9S0+FMcYrFOVBzjf Wd22v2x/yJboBjrEb9nwUroFdz5b7ApoXGXIHeDwRNV+J73aRaMpYcill+LPvZsX7KSlhywBK+p uBDznqGgZwnLTZY8nsgCpo9mpJtjkW4CAKTbZwUq7bJvYUv6rUPNBwhz9tgnKBV7hPt/x7VT4QZ iU0LQBPykRCWyLZmiqfZT07KKM0NL3Yr+0eLhfQohJaEPEOQ/g== X-Google-Smtp-Source: AGHT+IEPFGPfLcPSc8FD6ayFLNuV+C97fCv7jwHIzN+/HVXZYlfEhwOkzmGibLpLwVj+uB97T5wlhN0gT1vc X-Received: by 2002:a05:6602:4c81:b0:93e:4a31:fd76 with SMTP id ca18e2360f4ac-93e4a32001fmr21617539f.19.1760334918838; Sun, 12 Oct 2025 22:55:18 -0700 (PDT) Received: from postal.iol.unh.edu (postal.iol.unh.edu. [2606:4100:3880:1234::84]) by smtp-relay.gmail.com with ESMTPS id ca18e2360f4ac-93e25950898sm58489339f.5.2025.10.12.22.55.18 (version=TLS1_2 cipher=ECDHE-ECDSA-AES128-GCM-SHA256 bits=128/128); Sun, 12 Oct 2025 22:55:18 -0700 (PDT) X-Relaying-Domain: iol.unh.edu Date: Sun, 12 Oct 2025 22:55:18 -0700 (PDT) Message-ID: <68ec9446.5e0a0220.207411.ccfeSMTPIN_ADDED_MISSING@mx.google.com> Received: from [172.21.0.2] (unknown [172.18.0.240]) by postal.iol.unh.edu (Postfix) with ESMTP id 64C956051830; Mon, 13 Oct 2025 01:55:18 -0400 (EDT) Subject: |SUCCESS| pw157472 [PATCH] [v3,1/1] lib/dma: introduce inter-process From: dpdklab@iol.unh.edu To: Test Report Cc: dpdk-test-reports@iol.unh.edu In-Reply-To: <20251013042136.1727540-1-vattunuru@marvell.com> References: <20251013042136.1727540-1-vattunuru@marvell.com> Content-Type: text/plain X-BeenThere: test-report@dpdk.org X-Mailman-Version: 2.1.29 Precedence: list List-Id: automatic DPDK test reports List-Unsubscribe: , List-Archive: List-Post: List-Help: List-Subscribe: , Errors-To: test-report-bounces@dpdk.org Test-Label: iol-compile-amd64-testing Test-Status: SUCCESS http://dpdk.org/patch/157472 _Testing PASS_ Submitter: Vamsi Krishna Date: Monday, October 13 2025 04:21:36 DPDK git baseline: Repo:dpdk Branch: master CommitID:2b403dd8fb37d0ba13723e44ffc7ee2c2795f838 157472 --> testing pass Upstream job id: Windows-Compile-DPDK-Native#31574 Test environment and result as below: +-------------------------------+--------------------+-------------------------+-------------------+-------------------+------------------+----------------------+ | Environment | dpdk_meson_compile | dpdk_llvm_clang_compile | dpdk_compile_spdk | dpdk_msvc_compile | dpdk_compile_ovs | dpdk_mingw64_compile | +===============================+====================+=========================+===================+===================+==================+======================+ | Ubuntu 20.04 | PASS | SKIPPED | SKIPPED | SKIPPED | SKIPPED | SKIPPED | +-------------------------------+--------------------+-------------------------+-------------------+-------------------+------------------+----------------------+ | CentOS Stream 9 | PASS | SKIPPED | PASS | SKIPPED | SKIPPED | SKIPPED | +-------------------------------+--------------------+-------------------------+-------------------+-------------------+------------------+----------------------+ | CentOS Stream 10 | PASS | SKIPPED | SKIPPED | SKIPPED | SKIPPED | SKIPPED | +-------------------------------+--------------------+-------------------------+-------------------+-------------------+------------------+----------------------+ | Debian GNU/Linux 12 | PASS | SKIPPED | PASS | SKIPPED | SKIPPED | SKIPPED | +-------------------------------+--------------------+-------------------------+-------------------+-------------------+------------------+----------------------+ | FreeBSD 14.2 | PASS | SKIPPED | SKIPPED | SKIPPED | SKIPPED | SKIPPED | +-------------------------------+--------------------+-------------------------+-------------------+-------------------+------------------+----------------------+ | Fedora Linux 42 | PASS | SKIPPED | PASS | SKIPPED | PASS | SKIPPED | +-------------------------------+--------------------+-------------------------+-------------------+-------------------+------------------+----------------------+ | openSUSE Leap 15.6 | PASS | SKIPPED | SKIPPED | SKIPPED | SKIPPED | SKIPPED | +-------------------------------+--------------------+-------------------------+-------------------+-------------------+------------------+----------------------+ | Red Hat Enterprise Linux 8.10 | PASS | SKIPPED | SKIPPED | SKIPPED | SKIPPED | SKIPPED | +-------------------------------+--------------------+-------------------------+-------------------+-------------------+------------------+----------------------+ | Red Hat Enterprise Linux 9.5 | PASS | SKIPPED | SKIPPED | SKIPPED | SKIPPED | SKIPPED | +-------------------------------+--------------------+-------------------------+-------------------+-------------------+------------------+----------------------+ | Ubuntu 22.04 | PASS | SKIPPED | PASS | SKIPPED | SKIPPED | SKIPPED | +-------------------------------+--------------------+-------------------------+-------------------+-------------------+------------------+----------------------+ | Ubuntu 24.04 | PASS | SKIPPED | PASS | SKIPPED | PASS | SKIPPED | +-------------------------------+--------------------+-------------------------+-------------------+-------------------+------------------+----------------------+ | Alpine Linux 3.22.0 | PASS | SKIPPED | SKIPPED | SKIPPED | SKIPPED | SKIPPED | +-------------------------------+--------------------+-------------------------+-------------------+-------------------+------------------+----------------------+ | Windows Server 2022 | SKIPPED | PASS | SKIPPED | PASS | SKIPPED | PASS | +-------------------------------+--------------------+-------------------------+-------------------+-------------------+------------------+----------------------+ Ubuntu 20.04 Kernel: 4.19 Compiler: gcc gcc (Ubuntu 9.4.0-1ubuntu1~20.04.2) 9.4.0 CentOS Stream 9 Kernel: 5.15 Compiler: gcc gcc (GCC) 11.5.0 20240719 (Red Hat 11.5.0-11) CentOS Stream 10 Kernel: 5.15 Compiler: gcc gcc (GCC) 14.2.1 20250110 (Red Hat 14.2.1-8) Debian GNU/Linux 12 Kernel: 5.15 Compiler: gcc gcc (Debian 12.2.0-14+deb12u1) 12.2.0 FreeBSD 14.2 Kernel: 14.2-RELEASE Compiler: clang 18.1.6 Fedora Linux 42 Kernel: 5.15 Compiler: clang gcc (GCC) 15.2.1 20250808 (Red Hat 15.2.1-1) openSUSE Leap 15.6 Kernel: 5.15 Compiler: gcc gcc (SUSE Linux) 7.5.0 Red Hat Enterprise Linux 8.10 Kernel: 5.15 Compiler: gcc gcc (GCC) 8.5.0 20210514 (Red Hat 8.5.0-22) Red Hat Enterprise Linux 9.5 Kernel: 5.15 Compiler: gcc gcc (GCC) 11.5.0 20240719 (Red Hat 11.5.0-2) Ubuntu 22.04 Kernel: 5.15 Compiler: gcc gcc (Ubuntu 11.4.0-1ubuntu1~22.04) 11.4.0 Ubuntu 24.04 Kernel: 5.15 Compiler: gcc gcc (Ubuntu 13.3.0-6ubuntu2~24.04) 13.3.0 Alpine Linux 3.22.0 Kernel: 5.15 Compiler: gcc gcc (Alpine 14.2.0) 14.2.0 Windows Server 2022 Kernel: 10.0.20348.2031 Compiler: clang 15.0.7, gcc 14.1.0 (MinGW), and MSVC VS 19.39.33521 To view detailed results, visit: https://lab.dpdk.org/results/dashboard/patchsets/34259/ UNH-IOL DPDK Community Lab To manage your email subscriptions, visit: https://lab.dpdk.org/results/dashboard/preferences/subscriptions/