From mboxrd@z Thu Jan 1 00:00:00 1970 Return-Path: Received: from mails.dpdk.org (mails.dpdk.org [217.70.189.124]) by inbox.dpdk.org (Postfix) with ESMTP id 0279648922 for ; Mon, 13 Oct 2025 08:17:42 +0200 (CEST) Received: from mails.dpdk.org (localhost [127.0.0.1]) by mails.dpdk.org (Postfix) with ESMTP id D7F0C4013F; Mon, 13 Oct 2025 08:17:42 +0200 (CEST) Received: from mail-vk1-f225.google.com (mail-vk1-f225.google.com [209.85.221.225]) by mails.dpdk.org (Postfix) with ESMTP id E612E4021E for ; Mon, 13 Oct 2025 08:17:40 +0200 (CEST) Received: by mail-vk1-f225.google.com with SMTP id 71dfb90a1353d-554ff1682c8so489053e0c.1 for ; Sun, 12 Oct 2025 23:17:40 -0700 (PDT) DKIM-Signature: v=1; a=rsa-sha256; c=relaxed/relaxed; d=iol.unh.edu; s=unh-iol; t=1760336260; x=1760941060; darn=dpdk.org; h=cc:to:from:subject:message-id:date:from:to:cc:subject:date :message-id:reply-to; bh=i8WV9SVH/oFdEcCasDPwrTCMmzgcwP9BBRf8xmiWCAU=; b=aDL9I8aSam3gU2vWYEZzIveGRAgKVijb28jlGF6yICrny1ocS4aVhXGZWyynXLQ1+8 +gDklh74UP5jEQTi4cx+7TlVr8poOEfcQiMIWXk1ywwCW0NvG8WuvAt4whRaD9QnuuD6 vepNZg8diQsWrTXKz09HdparA4nj/3wciwVto= X-Google-DKIM-Signature: v=1; a=rsa-sha256; c=relaxed/relaxed; d=1e100.net; s=20230601; t=1760336260; x=1760941060; h=cc:to:from:subject:message-id:date:x-gm-message-state:from:to:cc :subject:date:message-id:reply-to; bh=i8WV9SVH/oFdEcCasDPwrTCMmzgcwP9BBRf8xmiWCAU=; b=EMza7WT5Jy5jMKa2D2kvwlzHxOUKKfKV4KEa3+iunvOVJ1aHyzGuNxi7Shv7j7Eme0 56M6618aUqK0nVWJc7SOO/jUUID0Ui6lLsulE7iGSPWzJxxkVjyGjpmkGsl8zsYkPyDt S980sgQDlSBJZw5+fI4biyBz3kTjOQHtln6K/3cCjxBldiOC2gOCdiwle7OMmp2bkUAN rRfPZtM0QTdlwwUZIIrbbSEhuwshnDpcT0ljEoClWl9x7icBdTCC1q3OXFGNiOYKQ7e2 4zV41nZS8t7H7jEdbq9wGC079nKJfU19wyShIBWxvCPSE4AXoposoFcUIQ0rx+5gLFv7 OJWw== X-Gm-Message-State: AOJu0YzA09E7nkcuhbvx1pp1cCAEsT+FuvYD81mLw6ji2k/i9ET2wxqr sZ+ZU+k6PAU7fXJ/WWLSsavEEpDkaUnsZ6RnKywq3isKX3vg6Ry2vnUL2J8Pbm+Jr8yME28kE67 pkQqF+a5AiIqjFlppxj/cEWnyrkw2ZOmxxjfhObbRf+lC+JmKZRBD X-Gm-Gg: ASbGnctvBs9h7yUHTpUiq8WsXY+vtfqOI07VSzXmKYZgSXYHGb0tBBxyi3Ty/z4KMKe wx39mTxZcmiMGifEIUjlozHq8etb2FDQJ+/BAUWGGBVRemn/sPUdLlfNQdMwuULW0JMxnV8q1Ul oD2tSwx7E7FzLnLWAHdAJ5oXfxGsaPqaeilw1rGdXIjDbntw3VtohA6c3R8Y9x/neJ07IrBycr3 RDu5iuywpAeQPfYNo5TaTnjUQyNmO9KkbxyREf4gNvCEYeNMiDq8PRoaJ2HvA5q6BtSwrVO0COV /aTGq/KDocXcFi04fHUiMSis+uqomw94gHf0h5mH5ZUn3qj3TQ== X-Google-Smtp-Source: AGHT+IGLjKBBWQ6zI2ZZWL8upgZxuHJL7pvTYX1h6P3+mSl+XfSyf9/IBiMGX+ugVg5l2SFEg3BD1goX4ibV X-Received: by 2002:a05:6122:31a7:b0:544:c8bf:6509 with SMTP id 71dfb90a1353d-554b8aa8fa9mr8691924e0c.4.1760336260238; Sun, 12 Oct 2025 23:17:40 -0700 (PDT) Received: from postal.iol.unh.edu (postal.iol.unh.edu. [2606:4100:3880:1234::84]) by smtp-relay.gmail.com with ESMTPS id 71dfb90a1353d-554d7ff2fe5sm1072856e0c.6.2025.10.12.23.17.40 (version=TLS1_2 cipher=ECDHE-ECDSA-AES128-GCM-SHA256 bits=128/128); Sun, 12 Oct 2025 23:17:40 -0700 (PDT) X-Relaying-Domain: iol.unh.edu Date: Sun, 12 Oct 2025 23:17:40 -0700 (PDT) Message-ID: <68ec9984.050a0220.3a4767.4b43SMTPIN_ADDED_MISSING@mx.google.com> Received: from [172.21.0.3] (unknown [172.18.0.240]) by postal.iol.unh.edu (Postfix) with ESMTP id DEE0E60003E8; Mon, 13 Oct 2025 02:17:39 -0400 (EDT) Subject: |SUCCESS| [GIT MASTER] b287e404643aeab5bb5db084c142789df187844e From: dpdklab@iol.unh.edu To: Test Report Cc: dpdk-test-reports@iol.unh.edu, Xueming Li , Christian Ehrhardt , Kevin Traynor , Luca Boccassi Content-Type: text/plain X-BeenThere: test-report@dpdk.org X-Mailman-Version: 2.1.29 Precedence: list List-Id: automatic DPDK test reports List-Unsubscribe: , List-Archive: List-Post: List-Help: List-Subscribe: , Errors-To: test-report-bounces@dpdk.org _Testing PASS_ Branch: tags/v24.11 b287e404643aeab5bb5db084c142789df187844e --> testing pass Upstream job id: Generic-Unit-Test-DPDK#380687 Test environment and result as below: +-------------------------------+----------------+ | Environment | dpdk_unit_test | +===============================+================+ | CentOS Stream 9 | PASS | +-------------------------------+----------------+ | Fedora Linux 40 | PASS | +-------------------------------+----------------+ | Fedora Linux 41 | PASS | +-------------------------------+----------------+ | Debian GNU/Linux 12 | PASS | +-------------------------------+----------------+ | CentOS Stream 10 | PASS | +-------------------------------+----------------+ | Fedora Linux 42 | PASS | +-------------------------------+----------------+ | Ubuntu 22.04 | PASS | +-------------------------------+----------------+ | Red Hat Enterprise Linux 9.5 | PASS | +-------------------------------+----------------+ | Red Hat Enterprise Linux 8.10 | PASS | +-------------------------------+----------------+ | Ubuntu 20.04 | PASS | +-------------------------------+----------------+ | Ubuntu 24.04 | PASS | +-------------------------------+----------------+ | Windows Server 2022 | PASS | +-------------------------------+----------------+ CentOS Stream 9 Kernel: 5.15 Compiler: gcc gcc (GCC) 11.5.0 20240719 (Red Hat 11.5.0-11) Fedora Linux 40 Kernel: 5.15 Compiler: clang gcc (GCC) 14.2.1 20240912 (Red Hat 14.2.1-3) Fedora Linux 41 Kernel: 5.15 Compiler: gcc gcc (GCC) 14.3.1 20250523 (Red Hat 14.3.1-1) Debian GNU/Linux 12 Kernel: 5.15 Compiler: gcc gcc (Debian 12.2.0-14+deb12u1) 12.2.0 CentOS Stream 10 Kernel: 5.15 Compiler: gcc gcc (GCC) 14.2.1 20250110 (Red Hat 14.2.1-8) Fedora Linux 42 Kernel: 5.15 Compiler: gcc gcc (GCC) 15.2.1 20250808 (Red Hat 15.2.1-1) Ubuntu 22.04 Kernel: 5.15 Compiler: gcc gcc (Ubuntu 11.4.0-1ubuntu1~22.04) 11.4.0 Red Hat Enterprise Linux 9.5 Kernel: 5.15 Compiler: gcc gcc (GCC) 11.5.0 20240719 (Red Hat 11.5.0-2) Red Hat Enterprise Linux 8.10 Kernel: 5.15 Compiler: gcc gcc (GCC) 8.5.0 20210514 (Red Hat 8.5.0-22) Ubuntu 20.04 Kernel: 5.15 Compiler: gcc gcc (Ubuntu 9.4.0-1ubuntu1~20.04.2) 9.4.0 Ubuntu 24.04 Kernel: 5.15 Compiler: gcc gcc (Ubuntu 13.3.0-6ubuntu2~24.04) 13.3.0 Windows Server 2022 Kernel: 10.0.20348.2031 Compiler: clang 15.0.7, gcc 14.1.0 (MinGW), and MSVC VS 19.39.33521 To view detailed results, visit: https://lab.dpdk.org/results/dashboard/tarballs/35183/ UNH-IOL DPDK Community Lab To manage your email subscriptions, visit: https://lab.dpdk.org/results/dashboard/preferences/subscriptions/