From mboxrd@z Thu Jan 1 00:00:00 1970 Return-Path: Received: from mails.dpdk.org (mails.dpdk.org [217.70.189.124]) by inbox.dpdk.org (Postfix) with ESMTP id 6DB5848922 for ; Mon, 13 Oct 2025 08:41:35 +0200 (CEST) Received: from mails.dpdk.org (localhost [127.0.0.1]) by mails.dpdk.org (Postfix) with ESMTP id 453FE4013F; Mon, 13 Oct 2025 08:41:35 +0200 (CEST) Received: from mail-pf1-f227.google.com (mail-pf1-f227.google.com [209.85.210.227]) by mails.dpdk.org (Postfix) with ESMTP id 207624013F for ; Mon, 13 Oct 2025 08:41:34 +0200 (CEST) Received: by mail-pf1-f227.google.com with SMTP id d2e1a72fcca58-76e2ea933b7so3585936b3a.1 for ; Sun, 12 Oct 2025 23:41:34 -0700 (PDT) DKIM-Signature: v=1; a=rsa-sha256; c=relaxed/relaxed; d=iol.unh.edu; s=unh-iol; t=1760337693; x=1760942493; darn=dpdk.org; h=cc:to:from:subject:message-id:date:from:to:cc:subject:date :message-id:reply-to; bh=3OxS+F6FS4Sh2cRykcko/fDCHQq0mVCBzx1xQp/yvmI=; b=OpptDbA18CX+qEDJZvg/3pWgEp9F+Jh99002cXgBBK4WNhoLj4Q7ThLTdxhRIGGs7+ 7Le+RrkIj4zuF5zSwSQ4ZUpVgH9iydsB/BJsYG3f1IuaCGpsgSO26vs38CIkW7J53TWb aQJ847JHz2rNYfeOeXzKQTNe6fFr6nrkY8pjA= X-Google-DKIM-Signature: v=1; a=rsa-sha256; c=relaxed/relaxed; d=1e100.net; s=20230601; t=1760337693; x=1760942493; h=cc:to:from:subject:message-id:date:x-gm-message-state:from:to:cc :subject:date:message-id:reply-to; bh=3OxS+F6FS4Sh2cRykcko/fDCHQq0mVCBzx1xQp/yvmI=; b=DkzfUlIWrdqgQs/7Uo6IaPTNzsAHwSTIF1rLmsRF+fuijOSXLxb2VKjja4ZljB5PG/ AiyBeJhAFcvOoi2rK7TY8qF7YoGSMQC2Ob+qVK8jSQ0Bwpfs7TpIJRTKdzRwZA2AVte/ s0/6ZViCauDLM6YGg3va4bHrh7ayxeN0YI73VRo8UwSa0iuReEWcrLK82POA4RIUwYaK WEXb1rbUX/wqVMBfZUTc/DZxC8HMAElVdBhiXI9xmqsJPXuwuPQKVsHniNkvGOY7tj0m QkzvuYRgLfFkOgNWckkXDz7WH8sQQxOXGsMKVS7r7x03M58fNQD4idEDvqpXB17oD+UI MhPA== X-Gm-Message-State: AOJu0YzTaWe7S3Zn4eqZnrztwMvVmDdThKtFPDJAZh46hl92UBah7P3X QIlG5QGOhwfgtEyvYS0gXyevV8aI6k9F5xGoo+x44dWy9HwbT2FfNNQJTpakOgTZWy5Z01lKx8J m28+eV4vrc4zwHYiO3zXOah3pjStdZrySKtZB X-Gm-Gg: ASbGncscCw1fxbUU+NarCgY+4rr9US33Ck9XQxn2xRc5LRgo89aL3DCFpIRhkPCv5xh /IgIZ1u1Zv3QtnTkhZ8IeQRyWKo8h6FW/DsCq2Q5/ksniIayCL6DTrWuZTh+zZr2AEn06fhmclp 8iFQfDpJokHBAbwx3BUveWbEA08YLqqdZj98o0s4y5Kuj2SR5rFkZGxRbTeGdBRPNh77S9hu8rk BNcGn1rIJE/l4RAoGU2/AV6hPBPWiZqNiOhr5z2VNtsXbPsqjbx8dORZf7V2BDCmfyFfPT6BSYq 6ZkImAtaA05G9CXg35Ps+wEB+j05PlUhfX/0WYnv3L69MN5mdRp/DN2A4r5WXzNsCPg52sZR X-Google-Smtp-Source: AGHT+IGEXcvzpE1+GVYhXzkJgsirrsBpI1SztGq23OVfD3kLeKudDcBbANKXi+Hf2Mb4eNYbnpuTCQ+aje5W X-Received: by 2002:a05:6a20:a124:b0:243:78a:82cc with SMTP id adf61e73a8af0-32da8fcccbdmr23083565637.25.1760337693170; Sun, 12 Oct 2025 23:41:33 -0700 (PDT) Received: from postal.iol.unh.edu (postal.iol.unh.edu. [132.177.123.84]) by smtp-relay.gmail.com with ESMTPS id 98e67ed59e1d1-33b626ea0b6sm957009a91.7.2025.10.12.23.41.33 (version=TLS1_2 cipher=ECDHE-ECDSA-AES128-GCM-SHA256 bits=128/128); Sun, 12 Oct 2025 23:41:33 -0700 (PDT) X-Relaying-Domain: iol.unh.edu Date: Sun, 12 Oct 2025 23:41:33 -0700 (PDT) Message-ID: <68ec9f1d.170a0220.1c8e4b.f8b6SMTPIN_ADDED_MISSING@mx.google.com> Received: from [172.21.0.2] (unknown [172.18.0.240]) by postal.iol.unh.edu (Postfix) with ESMTP id 23ED66051830; Mon, 13 Oct 2025 02:41:32 -0400 (EDT) Subject: |WARNING| [GIT MASTER] 62f583c49bf67dd4d6733ece14e55fe6839e66d1 From: dpdklab@iol.unh.edu To: Test Report Cc: dpdk-test-reports@iol.unh.edu, Xueming Li , Christian Ehrhardt , Kevin Traynor , Luca Boccassi Content-Type: text/plain X-BeenThere: test-report@dpdk.org X-Mailman-Version: 2.1.29 Precedence: list List-Id: automatic DPDK test reports List-Unsubscribe: , List-Archive: List-Post: List-Help: List-Subscribe: , Errors-To: test-report-bounces@dpdk.org _Testing issues_ Branch: tags/v23.11 62f583c49bf67dd4d6733ece14e55fe6839e66d1 --> testing issues Upstream job id: Generic-Unit-Test-DPDK#380660 Test environment and result as below: +------------------------------+----------------+--------------+------------------------------+---------------------------+ | Environment | dpdk_unit_test | lpm_autotest | cryptodev_sw_snow3g_autotest | cryptodev_sw_zuc_autotest | +==============================+================+==============+==============================+===========================+ | Fedora Linux 42 | PASS | SKIPPED | SKIPPED | SKIPPED | +------------------------------+----------------+--------------+------------------------------+---------------------------+ | CentOS Stream 9 | PASS | SKIPPED | SKIPPED | SKIPPED | +------------------------------+----------------+--------------+------------------------------+---------------------------+ | Debian GNU/Linux 12 | PASS | SKIPPED | SKIPPED | SKIPPED | +------------------------------+----------------+--------------+------------------------------+---------------------------+ | CentOS Stream 10 | PASS | SKIPPED | SKIPPED | SKIPPED | +------------------------------+----------------+--------------+------------------------------+---------------------------+ | Fedora Linux 41 | PASS | SKIPPED | SKIPPED | SKIPPED | +------------------------------+----------------+--------------+------------------------------+---------------------------+ | Fedora Linux 40 | PASS | SKIPPED | SKIPPED | SKIPPED | +------------------------------+----------------+--------------+------------------------------+---------------------------+ | Ubuntu 20.04 | PASS | PASS | SKIPPED | SKIPPED | +------------------------------+----------------+--------------+------------------------------+---------------------------+ | Ubuntu 22.04 | PASS | SKIPPED | SKIPPED | SKIPPED | +------------------------------+----------------+--------------+------------------------------+---------------------------+ | Red Hat Enterprise Linux 9.5 | PASS | SKIPPED | SKIPPED | SKIPPED | +------------------------------+----------------+--------------+------------------------------+---------------------------+ | Ubuntu 24.04 | PASS | SKIPPED | SKIPPED | SKIPPED | +------------------------------+----------------+--------------+------------------------------+---------------------------+ | Debian 12 (arm) | SKIPPED | SKIPPED | PASS | PASS | +------------------------------+----------------+--------------+------------------------------+---------------------------+ Fedora Linux 42 Kernel: 5.4 Compiler: gcc gcc (GCC) 15.2.1 20250808 (Red Hat 15.2.1-1) CentOS Stream 9 Kernel: 5.4 Compiler: gcc gcc (GCC) 11.5.0 20240719 (Red Hat 11.5.0-11) Debian GNU/Linux 12 Kernel: 5.4 Compiler: gcc gcc (Debian 12.2.0-14+deb12u1) 12.2.0 CentOS Stream 10 Kernel: 5.4 Compiler: gcc gcc (GCC) 14.2.1 20250110 (Red Hat 14.2.1-8) Fedora Linux 41 Kernel: 5.4 Compiler: clang gcc (GCC) 14.3.1 20250523 (Red Hat 14.3.1-1) Fedora Linux 40 Kernel: 5.4 Compiler: clang gcc (GCC) 14.2.1 20240912 (Red Hat 14.2.1-3) Ubuntu 20.04 Kernel: 5.4 Compiler: gcc gcc (Ubuntu 9.4.0-1ubuntu1~20.04.2) 9.4.0 Ubuntu 22.04 Kernel: 5.4 Compiler: gcc gcc (Ubuntu 11.4.0-1ubuntu1~22.04) 11.4.0 Red Hat Enterprise Linux 9.5 Kernel: 5.4 Compiler: gcc gcc (GCC) 11.5.0 20240719 (Red Hat 11.5.0-2) Ubuntu 24.04 Kernel: 5.4 Compiler: gcc gcc (Ubuntu 13.3.0-6ubuntu2~24.04) 13.3.0 Debian 12 (arm) Kernel: Depends on container host Compiler: gcc (Debian 12.2.0-14) 12.2.0 To view detailed results, visit: https://lab.dpdk.org/results/dashboard/tarballs/35182/ UNH-IOL DPDK Community Lab To manage your email subscriptions, visit: https://lab.dpdk.org/results/dashboard/preferences/subscriptions/