From mboxrd@z Thu Jan 1 00:00:00 1970 Return-Path: Received: from mails.dpdk.org (mails.dpdk.org [217.70.189.124]) by inbox.dpdk.org (Postfix) with ESMTP id 0081D48922 for ; Mon, 13 Oct 2025 08:46:56 +0200 (CEST) Received: from mails.dpdk.org (localhost [127.0.0.1]) by mails.dpdk.org (Postfix) with ESMTP id C96FF4013F; Mon, 13 Oct 2025 08:46:56 +0200 (CEST) Received: from mail-il1-f225.google.com (mail-il1-f225.google.com [209.85.166.225]) by mails.dpdk.org (Postfix) with ESMTP id 6E4584013F for ; Mon, 13 Oct 2025 08:46:55 +0200 (CEST) Received: by mail-il1-f225.google.com with SMTP id e9e14a558f8ab-42f6100475aso17076845ab.1 for ; Sun, 12 Oct 2025 23:46:55 -0700 (PDT) DKIM-Signature: v=1; a=rsa-sha256; c=relaxed/relaxed; d=iol.unh.edu; s=unh-iol; t=1760338014; x=1760942814; darn=dpdk.org; h=references:in-reply-to:cc:to:from:subject:message-id:date:from:to :cc:subject:date:message-id:reply-to; bh=iHv959flFD9xPp0WoWuLS2cAb3uThHKsDB/F5qFVJ+o=; b=NLqBIdLtVC1tB7OGF/KqoF+/lMsjq3xzmLGIRqehCsogIAKYv5sOdq3itB6rvc7IzJ UxvAzfZd84h/tda6vMV7BTMkzF+wzlBmDYAyi+B4Ru07avI9aIe5y5nH4zP005kdG2jQ IavSq+SFwFZYE05/gqdxYfiEkwgTdRuAjkXfY= X-Google-DKIM-Signature: v=1; a=rsa-sha256; c=relaxed/relaxed; d=1e100.net; s=20230601; t=1760338014; x=1760942814; h=references:in-reply-to:cc:to:from:subject:message-id:date :x-gm-message-state:from:to:cc:subject:date:message-id:reply-to; bh=iHv959flFD9xPp0WoWuLS2cAb3uThHKsDB/F5qFVJ+o=; b=weCBQTjgpbj3W0ptIE4Ot2ZnvxpnWRuNaPJz9WQoLMoT5zfSQxAPwuKQywDRRhbNKv Z5Us0JzHFI9mM2MVHCmPTWRIrlhWJdrgmKQW3iXVZIiroyfVGKcN3/wdY0xORcIT47jm FEjWTDxGhp4QK36ENo5vqeTR6No+gWLx+gmZm92Hsu/mBy5bJJDRCcAbCNN6Mzp152GB 6YSV1jUI2gdF7AcvCJ1h8DLIZcGGXbDe/yTp2pF3gQyXYO5Hxc3PJqUTfdfTid69vF8H GVCYNuD1HPvR45BTNxZKvL92UqbdNQIbOtPSosw8YjLA3yipE2/YIhMC5/hrmnJWqgUQ YYcw== X-Gm-Message-State: AOJu0YyYgCJ4BgTFM0TLlANAk+ogm3egjCqkmc/CsQQTeQsMDhpFD9o6 5JgdOPX9Fyo9cFdTF5aqqZz4ahk6BPlDpu83j+GdsYEtPEcUgfwMVkB6r8YAfMVlJotiVgZYPCL RLgXPsJg0ZIy9Vg7m82DrzF5UvWw1AV9FiJa+xrxnSOh/ X-Gm-Gg: ASbGnctEslFH+OBr7LhIvaHXLTF46mnyuJ3AK/ycHyBBB7y9S0iQIRTtGcSwSV8vdSS Bn0CnFx4OQ2PQQHehpTRuskiT5hwEbUIEnqIsj/MIOVgTVT/ZHKwPXDH9HiFuVk4NN2TTjfZNT1 x3rOBmsofwpPT3Mxe0GlPNHNmpiDzLA9n8jFaaaLuByDsxEmXDcSA1t8mJJWgIXJrQGqIsN1jia nSllNAhYbpTW2qPVU/xJol9lJ1ahIJBlv7Tx5NkBMkbIIC6H7r/L9P5rq4jYTH/9CK8LVvIzYiL TquIQxEFaeA4sbCYlCStkt56fy7HpqvaW17XTQLvsBfS4VnDAhsZ9dQYB7Lt+ebVcrFnaNYF X-Google-Smtp-Source: AGHT+IGJjQhjgi3clpeyma+yjELNqgaINRTD1hCeJF3YaoEAl8QH7LPO2t3x332gDdQhYxM3hFc5C93zbGvH X-Received: by 2002:a05:6e02:3e05:b0:42f:9b39:75dd with SMTP id e9e14a558f8ab-42f9b397723mr135287995ab.14.1760338014646; Sun, 12 Oct 2025 23:46:54 -0700 (PDT) Received: from postal.iol.unh.edu (postal.iol.unh.edu. [132.177.123.84]) by smtp-relay.gmail.com with ESMTPS id 8926c6da1cb9f-58f7146954esm794135173.26.2025.10.12.23.46.54 (version=TLS1_2 cipher=ECDHE-ECDSA-AES128-GCM-SHA256 bits=128/128); Sun, 12 Oct 2025 23:46:54 -0700 (PDT) X-Relaying-Domain: iol.unh.edu Date: Sun, 12 Oct 2025 23:46:54 -0700 (PDT) Message-ID: <68eca05e.050a0220.6e149.6d7fSMTPIN_ADDED_MISSING@mx.google.com> Received: from [172.21.0.3] (unknown [172.18.0.240]) by postal.iol.unh.edu (Postfix) with ESMTP id 4848F6051830; Mon, 13 Oct 2025 02:46:54 -0400 (EDT) Subject: |SUCCESS| pw157472 [PATCH] [v3,1/1] lib/dma: introduce inter-process From: dpdklab@iol.unh.edu To: Test Report Cc: dpdk-test-reports@iol.unh.edu In-Reply-To: <20251013042136.1727540-1-vattunuru@marvell.com> References: <20251013042136.1727540-1-vattunuru@marvell.com> Content-Type: text/plain X-BeenThere: test-report@dpdk.org X-Mailman-Version: 2.1.29 Precedence: list List-Id: automatic DPDK test reports List-Unsubscribe: , List-Archive: List-Post: List-Help: List-Subscribe: , Errors-To: test-report-bounces@dpdk.org Test-Label: iol-unit-amd64-testing Test-Status: SUCCESS http://dpdk.org/patch/157472 _Testing PASS_ Submitter: Vamsi Krishna Date: Monday, October 13 2025 04:21:36 DPDK git baseline: Repo:dpdk Branch: master CommitID:2b403dd8fb37d0ba13723e44ffc7ee2c2795f838 157472 --> testing pass Upstream job id: Generic-VM-Unit-Test-DPDK#31745 Test environment and result as below: +-------------------------------+----------------+ | Environment | dpdk_unit_test | +===============================+================+ | CentOS Stream 10 | PASS | +-------------------------------+----------------+ | CentOS Stream 9 | PASS | +-------------------------------+----------------+ | Debian GNU/Linux 12 | PASS | +-------------------------------+----------------+ | Fedora Linux 42 | PASS | +-------------------------------+----------------+ | Fedora Linux 41 | PASS | +-------------------------------+----------------+ | Fedora Linux 40 | PASS | +-------------------------------+----------------+ | Ubuntu 20.04 | PASS | +-------------------------------+----------------+ | Red Hat Enterprise Linux 8.10 | PASS | +-------------------------------+----------------+ | Ubuntu 24.04 | PASS | +-------------------------------+----------------+ | Red Hat Enterprise Linux 9.5 | PASS | +-------------------------------+----------------+ | Ubuntu 22.04 | PASS | +-------------------------------+----------------+ | Windows Server 2022 | PASS | +-------------------------------+----------------+ CentOS Stream 10 Kernel: 5.15 Compiler: gcc gcc (GCC) 14.2.1 20250110 (Red Hat 14.2.1-8) CentOS Stream 9 Kernel: 5.15 Compiler: gcc gcc (GCC) 11.5.0 20240719 (Red Hat 11.5.0-11) Debian GNU/Linux 12 Kernel: 5.15 Compiler: gcc gcc (Debian 12.2.0-14+deb12u1) 12.2.0 Fedora Linux 42 Kernel: 5.15 Compiler: gcc gcc (GCC) 15.2.1 20250808 (Red Hat 15.2.1-1) Fedora Linux 41 Kernel: 5.15 Compiler: gcc gcc (GCC) 14.3.1 20250523 (Red Hat 14.3.1-1) Fedora Linux 40 Kernel: 5.15 Compiler: clang gcc (GCC) 14.2.1 20240912 (Red Hat 14.2.1-3) Ubuntu 20.04 Kernel: 5.15 Compiler: gcc gcc (Ubuntu 9.4.0-1ubuntu1~20.04.2) 9.4.0 Red Hat Enterprise Linux 8.10 Kernel: 5.15 Compiler: gcc gcc (GCC) 8.5.0 20210514 (Red Hat 8.5.0-22) Ubuntu 24.04 Kernel: 5.15 Compiler: gcc gcc (Ubuntu 13.3.0-6ubuntu2~24.04) 13.3.0 Red Hat Enterprise Linux 9.5 Kernel: 5.15 Compiler: gcc gcc (GCC) 11.5.0 20240719 (Red Hat 11.5.0-2) Ubuntu 22.04 Kernel: 5.15 Compiler: gcc gcc (Ubuntu 11.4.0-1ubuntu1~22.04) 11.4.0 Windows Server 2022 Kernel: 10.0.20348.2031 Compiler: clang 15.0.7, gcc 14.1.0 (MinGW), and MSVC VS 19.39.33521 To view detailed results, visit: https://lab.dpdk.org/results/dashboard/patchsets/34259/ UNH-IOL DPDK Community Lab To manage your email subscriptions, visit: https://lab.dpdk.org/results/dashboard/preferences/subscriptions/