From mboxrd@z Thu Jan 1 00:00:00 1970 Return-Path: Received: from mails.dpdk.org (mails.dpdk.org [217.70.189.124]) by inbox.dpdk.org (Postfix) with ESMTP id 9934148922 for ; Mon, 13 Oct 2025 08:53:40 +0200 (CEST) Received: from mails.dpdk.org (localhost [127.0.0.1]) by mails.dpdk.org (Postfix) with ESMTP id 8DEAB4013F; Mon, 13 Oct 2025 08:53:40 +0200 (CEST) Received: from mail-il1-f226.google.com (mail-il1-f226.google.com [209.85.166.226]) by mails.dpdk.org (Postfix) with ESMTP id A84BC4013F for ; Mon, 13 Oct 2025 08:53:39 +0200 (CEST) Received: by mail-il1-f226.google.com with SMTP id e9e14a558f8ab-425911e5661so15775225ab.1 for ; Sun, 12 Oct 2025 23:53:39 -0700 (PDT) DKIM-Signature: v=1; a=rsa-sha256; c=relaxed/relaxed; d=iol.unh.edu; s=unh-iol; t=1760338419; x=1760943219; darn=dpdk.org; h=references:in-reply-to:cc:to:from:subject:message-id:date:from:to :cc:subject:date:message-id:reply-to; bh=2Ny0zksJbDAlYLj9I2zoKF/E6VDjMPw3idHZDrDSVBk=; b=G0LBsD/AlcGBsV/VtFHkm6rUZOEKfYSBrVgQibQMETwclA2aKtD1w0jPSQWin4x7lQ 6tAE7bvhXEikyx2C8irNnkGUboCYp10vGDZzPV8/iP+4g7QPMqbNXNFRJTiG22ooY+xu ehGEuqkwRWM71Q6cux1+IGsMCdAJ9rJcwFsCI= X-Google-DKIM-Signature: v=1; a=rsa-sha256; c=relaxed/relaxed; d=1e100.net; s=20230601; t=1760338419; x=1760943219; h=references:in-reply-to:cc:to:from:subject:message-id:date :x-gm-message-state:from:to:cc:subject:date:message-id:reply-to; bh=2Ny0zksJbDAlYLj9I2zoKF/E6VDjMPw3idHZDrDSVBk=; b=iBejkxHCGytr5sZ/xftqcPt1DdODB00x8Ga9403RnQ87uQpGB5M+HsrD0Wn6foNca1 GmGxpgBvU9lZHZqakHTWoTrArIH3Wfdd5tltZf+Q+0gMUgjQa/4A3tJi3hFmGhOO9JRQ 9kBqiujt6ylpzOg8bjxmdubtXNn+e44Afe0FpdC+mZ7brkbHx6GgiAo4HkhQs0vU/gHK Bo4q6DuEzKddGh//4j1SMkI4tlcLGXtp3Rx2vbcn8fb0qe+nxAtlbgm3K0WyB6ya26En qnVUJalFo3tmhriTocWGfKj7sQvlqtmC2snZmDZhl81EhMX8ZKzf5N4Y0JXvmEmKDVyf 2OvA== X-Gm-Message-State: AOJu0Ywjq6EAjbFjGrV1cjzsAHJgNJF59TRvdKly7K4OIr6ZE4kqPU8K S0WBFOQWB80TDP95wiONSEtuAvy2H9kDFxPJvh921JQmCBnCWiILNppM3qjgdGMiU0EThuj7T2q xUg+rfgfzoBUPxQ6dPuyR8zC/0a7RwN7o6HmbOqzf/w4069j+cxC5g6TBfBrl X-Gm-Gg: ASbGnctG16nbYfPPPg46QK6yu38Hbsm3f/IJ4QJi6Ob0WIO9Q14SATeuqqRXhLJNSc0 Cj4RJg4TOQ+RV/HQJXiiTqnkGrA6YbX2pQ5q7v9RdnM6gYNeGzYW2YHcXqchqSMJm70iWe07NUW XfiyhBhLxN1vq4UrddYVOBVcMrXdSdsQX9tc2En1zdyIHyU/hOgtXiLDywtw6k/524I5/jzWa8M 7lx/ZaJrNZZ5J9ZyqZ0CLvQnkNd844F/enM4eDbkV1d3AwKEmWyJkHP7kD1u0nUsBGPCu0BPUWh Jo3Lo29N+7MCU18MblssrwHvJs6uytf9g0KKkIP6qKf9YbUnaA== X-Google-Smtp-Source: AGHT+IG/RQqatQtYWZmz2nlNRhvrZFAtrabjf2Kc/K2pGH0EYoSvNHFGh8XrsZsEa0R1vdqr0mxclMNQMB0I X-Received: by 2002:a05:6e02:3a10:b0:42f:8b00:f650 with SMTP id e9e14a558f8ab-42f8b00f815mr228377905ab.14.1760338418739; Sun, 12 Oct 2025 23:53:38 -0700 (PDT) Received: from postal.iol.unh.edu (postal.iol.unh.edu. [2606:4100:3880:1234::84]) by smtp-relay.gmail.com with ESMTPS id e9e14a558f8ab-42f90263653sm8019495ab.14.2025.10.12.23.53.38 (version=TLS1_2 cipher=ECDHE-ECDSA-AES128-GCM-SHA256 bits=128/128); Sun, 12 Oct 2025 23:53:38 -0700 (PDT) X-Relaying-Domain: iol.unh.edu Date: Sun, 12 Oct 2025 23:53:38 -0700 (PDT) Message-ID: <68eca1f2.920a0220.340445.86c7SMTPIN_ADDED_MISSING@mx.google.com> Received: from [172.21.0.4] (unknown [172.18.0.240]) by postal.iol.unh.edu (Postfix) with ESMTP id 476A66051830; Mon, 13 Oct 2025 02:53:38 -0400 (EDT) Subject: |SUCCESS| pw157458-157470 [PATCH] [v3,13/13] app/dma-perf: fix wrong From: dpdklab@iol.unh.edu To: Test Report Cc: dpdk-test-reports@iol.unh.edu In-Reply-To: <20251013030236.3861-14-fengchengwen@huawei.com> References: <20251013030236.3861-14-fengchengwen@huawei.com> Content-Type: text/plain X-BeenThere: test-report@dpdk.org X-Mailman-Version: 2.1.29 Precedence: list List-Id: automatic DPDK test reports List-Unsubscribe: , List-Archive: List-Post: List-Help: List-Subscribe: , Errors-To: test-report-bounces@dpdk.org Test-Label: iol-compile-arm64-testing Test-Status: SUCCESS http://dpdk.org/patch/157470 _Testing PASS_ Submitter: Chengwen Feng Date: Monday, October 13 2025 03:02:36 DPDK git baseline: Repo:dpdk Branch: master CommitID:2b403dd8fb37d0ba13723e44ffc7ee2c2795f838 157458-157470 --> testing pass Upstream job id: Generic-DPDK-Compile-Meson#433529 Test environment and result as below: +------------------------------+--------------------+ | Environment | dpdk_meson_compile | +==============================+====================+ | Red Hat Enterprise Linux 9.5 | PASS | +------------------------------+--------------------+ | Ubuntu 20.04 | PASS | +------------------------------+--------------------+ | Debian GNU/Linux 12 | PASS | +------------------------------+--------------------+ | Fedora Linux 42 | PASS | +------------------------------+--------------------+ | Ubuntu 24.04 | PASS | +------------------------------+--------------------+ | CentOS Stream 9 | PASS | +------------------------------+--------------------+ | CentOS Stream 10 | PASS | +------------------------------+--------------------+ | Ubuntu 22.04 | PASS | +------------------------------+--------------------+ Red Hat Enterprise Linux 9.5 Kernel: 5.4 Compiler: gcc gcc (GCC) 11.5.0 20240719 (Red Hat 11.5.0-2) Ubuntu 20.04 Kernel: 5.15 Compiler: aarch64-linux-gnu-gcc gcc (Ubuntu 9.4.0-1ubuntu1~20.04.2) 9.4.0 Debian GNU/Linux 12 Kernel: 5.4 Compiler: gcc gcc (Debian 12.2.0-14+deb12u1) 12.2.0 Fedora Linux 42 Kernel: 5.4 Compiler: gcc gcc (GCC) 15.2.1 20250808 (Red Hat 15.2.1-1) Ubuntu 24.04 Kernel: 5.4 Compiler: gcc gcc (Ubuntu 13.3.0-6ubuntu2~24.04) 13.3.0 CentOS Stream 9 Kernel: 5.4 Compiler: gcc gcc (GCC) 11.5.0 20240719 (Red Hat 11.5.0-11) CentOS Stream 10 Kernel: 5.4 Compiler: gcc gcc (GCC) 14.2.1 20250110 (Red Hat 14.2.1-8) Ubuntu 22.04 Kernel: 5.4 Compiler: gcc gcc (Ubuntu 11.4.0-1ubuntu1~22.04) 11.4.0 To view detailed results, visit: https://lab.dpdk.org/results/dashboard/patchsets/34257/ UNH-IOL DPDK Community Lab To manage your email subscriptions, visit: https://lab.dpdk.org/results/dashboard/preferences/subscriptions/