From mboxrd@z Thu Jan 1 00:00:00 1970 Return-Path: Received: from mails.dpdk.org (mails.dpdk.org [217.70.189.124]) by inbox.dpdk.org (Postfix) with ESMTP id 61E3C48922 for ; Mon, 13 Oct 2025 09:14:48 +0200 (CEST) Received: from mails.dpdk.org (localhost [127.0.0.1]) by mails.dpdk.org (Postfix) with ESMTP id 2631B4013F; Mon, 13 Oct 2025 09:14:48 +0200 (CEST) Received: from mail-oa1-f97.google.com (mail-oa1-f97.google.com [209.85.160.97]) by mails.dpdk.org (Postfix) with ESMTP id 2D2364013F for ; Mon, 13 Oct 2025 09:14:46 +0200 (CEST) Received: by mail-oa1-f97.google.com with SMTP id 586e51a60fabf-35ba7c71bfdso1940132fac.3 for ; Mon, 13 Oct 2025 00:14:46 -0700 (PDT) DKIM-Signature: v=1; a=rsa-sha256; c=relaxed/relaxed; d=iol.unh.edu; s=unh-iol; t=1760339685; x=1760944485; darn=dpdk.org; h=references:in-reply-to:cc:to:from:subject:message-id:date:from:to :cc:subject:date:message-id:reply-to; bh=kxkwP1U85vy/ZAcZhCHhd25EPq4XZ/bJm1qtJRG/h6w=; b=YiteWkfBYJSIpMCHm4ABszNtWGNWw3ZZRZLofYNabXB3Lj6PtTQY6nnZCgPj93SA7U pfee/5CApWqxpDVr4G34D986c1sorC3Dhpk/ymqKe78cDDRj+ZoL9AM4ojwk7U/UQ2OL nvBXcVqrBCv80ZtnKqX/gfyZ0Um2JI1rzPTms= X-Google-DKIM-Signature: v=1; a=rsa-sha256; c=relaxed/relaxed; d=1e100.net; s=20230601; t=1760339685; x=1760944485; h=references:in-reply-to:cc:to:from:subject:message-id:date :x-gm-message-state:from:to:cc:subject:date:message-id:reply-to; bh=kxkwP1U85vy/ZAcZhCHhd25EPq4XZ/bJm1qtJRG/h6w=; b=ehFWNu9Il+07cCgu+6B+4BUTjbYnFrGWFHS81F7dxC9wf/Td9S34ntoXSrjPE4zDFX I4EtJ50YSLQ1i2D2QCTUstImOOOeKn3Ff29dMEgGV/MqrvHxIqfTmrF6h/TD6g8z0g4Z eKkkE+ZZr4/deDeyVb1zfyXCjXQJaWkKyYHNh97Hn7N9hHJHchC8XLMo3wpEjM37trbZ 2znOEkJl8bT51vpkGuYabfwcDjXko6Xv1VuzrstmQ6zAu8oKkMP5qTuXaDq1xpPCNnXT J7rDkZ5841l4ismc3Hm/A0igLgIrqULf5HMgT9ADqgsQkDsK5AGDmtJRODJ3vWs6Vb1O LfgQ== X-Gm-Message-State: AOJu0YwK4Als7UuKrObkfqydJYSdW3vIxlzmbLPgzk0D4HwH94oT3jQb 3j3/AMuuJDzHGB2a1uYNsNat17uy0kV1mJI6r80M/fJS7Rf4P5EDFmt6kPqjRaNfECYHbMqGpKO 2F6xIz/6p3H2voGPvKapCCCplQbV2yYbTroGoiwUwZte3 X-Gm-Gg: ASbGncujCinL3T9Pkcs2JSiM4h80GIqTqNfMDSFGI3sj1gNtUXG+K74hvaO/4WV1PMs Koz5sMIFYB7FcmbwAX9V0Pm3vclmWNBtjdEEoQexf0Sstn5Zf0N9CUhMhVOX4GHfkKPUe36wF/w k3J24mP08NBXZ2M4yqbfsk39MfOYQ2WLJ3d66ZGGMJc/aYLrYyMsiGKhNPsjHif6obQAyut2Oa0 qk7P38Kd2Pv6OJq2s5VnSxo0xQQx79W8N+yB4RjEMkIZz91lplE2Y+6EVMyikt0Bxq/W9eJam9V GLVo6xrFxugyPhPyjBF7yjcEAhxHPj7y60xiWlS4oYKHjHpvfUqxJsnk7iXXnowsT6RiKgfo X-Google-Smtp-Source: AGHT+IFe1vqXkUVowVC+II1ERxBCKxiw+y3iGQBiefOyAjmNTgnzfKS9Cd99CvdqUtUrnbWqVZ2KskOzPKYw X-Received: by 2002:a05:6870:322d:b0:332:8147:25b3 with SMTP id 586e51a60fabf-3c0fa95b792mr10451485fac.47.1760339685353; Mon, 13 Oct 2025 00:14:45 -0700 (PDT) Received: from postal.iol.unh.edu (postal.iol.unh.edu. [132.177.123.84]) by smtp-relay.gmail.com with ESMTPS id 586e51a60fabf-3c8c8f7668esm859086fac.24.2025.10.13.00.14.45 (version=TLS1_2 cipher=ECDHE-ECDSA-AES128-GCM-SHA256 bits=128/128); Mon, 13 Oct 2025 00:14:45 -0700 (PDT) X-Relaying-Domain: iol.unh.edu Date: Mon, 13 Oct 2025 00:14:45 -0700 (PDT) Message-ID: <68eca6e5.050a0220.270a3f.9989SMTPIN_ADDED_MISSING@mx.google.com> Received: from [172.21.0.2] (unknown [172.18.0.240]) by postal.iol.unh.edu (Postfix) with ESMTP id E70A76051830; Mon, 13 Oct 2025 03:14:44 -0400 (EDT) Subject: |SUCCESS| pw157473 [PATCH] [v2] eal/x86: enable timeout in AMD power From: dpdklab@iol.unh.edu To: Test Report Cc: dpdk-test-reports@iol.unh.edu In-Reply-To: <20251013055158.3037400-1-sivaprasad.tummala@amd.com> References: <20251013055158.3037400-1-sivaprasad.tummala@amd.com> Content-Type: text/plain X-BeenThere: test-report@dpdk.org X-Mailman-Version: 2.1.29 Precedence: list List-Id: automatic DPDK test reports List-Unsubscribe: , List-Archive: List-Post: List-Help: List-Subscribe: , Errors-To: test-report-bounces@dpdk.org Test-Label: iol-compile-amd64-testing Test-Status: SUCCESS http://dpdk.org/patch/157473 _Testing PASS_ Submitter: Sivaprasad Tummala Date: Monday, October 13 2025 05:51:57 DPDK git baseline: Repo:dpdk Branch: master CommitID:2b403dd8fb37d0ba13723e44ffc7ee2c2795f838 157473 --> testing pass Upstream job id: Generic-DPDK-Compile-Meson#433640 Test environment and result as below: +-------------------------------+--------------------+-------------------+------------------+-------------------------+-------------------+----------------------+ | Environment | dpdk_meson_compile | dpdk_compile_spdk | dpdk_compile_ovs | dpdk_llvm_clang_compile | dpdk_msvc_compile | dpdk_mingw64_compile | +===============================+====================+===================+==================+=========================+===================+======================+ | CentOS Stream 9 | PASS | PASS | SKIPPED | SKIPPED | SKIPPED | SKIPPED | +-------------------------------+--------------------+-------------------+------------------+-------------------------+-------------------+----------------------+ | Ubuntu 20.04 | PASS | SKIPPED | SKIPPED | SKIPPED | SKIPPED | SKIPPED | +-------------------------------+--------------------+-------------------+------------------+-------------------------+-------------------+----------------------+ | FreeBSD 14.2 | PASS | SKIPPED | SKIPPED | SKIPPED | SKIPPED | SKIPPED | +-------------------------------+--------------------+-------------------+------------------+-------------------------+-------------------+----------------------+ | openSUSE Leap 15.6 | PASS | SKIPPED | SKIPPED | SKIPPED | SKIPPED | SKIPPED | +-------------------------------+--------------------+-------------------+------------------+-------------------------+-------------------+----------------------+ | CentOS Stream 10 | PASS | SKIPPED | SKIPPED | SKIPPED | SKIPPED | SKIPPED | +-------------------------------+--------------------+-------------------+------------------+-------------------------+-------------------+----------------------+ | Fedora Linux 42 | PASS | PASS | PASS | SKIPPED | SKIPPED | SKIPPED | +-------------------------------+--------------------+-------------------+------------------+-------------------------+-------------------+----------------------+ | Debian GNU/Linux 12 | PASS | PASS | SKIPPED | SKIPPED | SKIPPED | SKIPPED | +-------------------------------+--------------------+-------------------+------------------+-------------------------+-------------------+----------------------+ | Ubuntu 24.04 | PASS | PASS | PASS | SKIPPED | SKIPPED | SKIPPED | +-------------------------------+--------------------+-------------------+------------------+-------------------------+-------------------+----------------------+ | Red Hat Enterprise Linux 8.10 | PASS | SKIPPED | SKIPPED | SKIPPED | SKIPPED | SKIPPED | +-------------------------------+--------------------+-------------------+------------------+-------------------------+-------------------+----------------------+ | Ubuntu 22.04 | PASS | PASS | SKIPPED | SKIPPED | SKIPPED | SKIPPED | +-------------------------------+--------------------+-------------------+------------------+-------------------------+-------------------+----------------------+ | Red Hat Enterprise Linux 9.5 | PASS | SKIPPED | SKIPPED | SKIPPED | SKIPPED | SKIPPED | +-------------------------------+--------------------+-------------------+------------------+-------------------------+-------------------+----------------------+ | Alpine Linux 3.22.0 | PASS | SKIPPED | SKIPPED | SKIPPED | SKIPPED | SKIPPED | +-------------------------------+--------------------+-------------------+------------------+-------------------------+-------------------+----------------------+ | Windows Server 2022 | SKIPPED | SKIPPED | SKIPPED | PASS | PASS | PASS | +-------------------------------+--------------------+-------------------+------------------+-------------------------+-------------------+----------------------+ CentOS Stream 9 Kernel: 5.15 Compiler: gcc gcc (GCC) 11.5.0 20240719 (Red Hat 11.5.0-11) Ubuntu 20.04 Kernel: 4.19 Compiler: gcc gcc (Ubuntu 9.4.0-1ubuntu1~20.04.2) 9.4.0 FreeBSD 14.2 Kernel: 14.2-RELEASE Compiler: clang 18.1.6 openSUSE Leap 15.6 Kernel: 5.15 Compiler: gcc gcc (SUSE Linux) 7.5.0 CentOS Stream 10 Kernel: 5.15 Compiler: gcc gcc (GCC) 14.2.1 20250110 (Red Hat 14.2.1-8) Fedora Linux 42 Kernel: 5.15 Compiler: gcc gcc (GCC) 15.2.1 20250808 (Red Hat 15.2.1-1) Debian GNU/Linux 12 Kernel: 5.15 Compiler: gcc gcc (Debian 12.2.0-14+deb12u1) 12.2.0 Ubuntu 24.04 Kernel: 5.15 Compiler: gcc gcc (Ubuntu 13.3.0-6ubuntu2~24.04) 13.3.0 Red Hat Enterprise Linux 8.10 Kernel: 5.15 Compiler: gcc gcc (GCC) 8.5.0 20210514 (Red Hat 8.5.0-22) Ubuntu 22.04 Kernel: 5.15 Compiler: gcc gcc (Ubuntu 11.4.0-1ubuntu1~22.04) 11.4.0 Red Hat Enterprise Linux 9.5 Kernel: 5.15 Compiler: gcc gcc (GCC) 11.5.0 20240719 (Red Hat 11.5.0-2) Alpine Linux 3.22.0 Kernel: 5.15 Compiler: gcc gcc (Alpine 14.2.0) 14.2.0 Windows Server 2022 Kernel: 10.0.20348.2031 Compiler: clang 15.0.7, gcc 14.1.0 (MinGW), and MSVC VS 19.39.33521 To view detailed results, visit: https://lab.dpdk.org/results/dashboard/patchsets/34260/ UNH-IOL DPDK Community Lab To manage your email subscriptions, visit: https://lab.dpdk.org/results/dashboard/preferences/subscriptions/