From mboxrd@z Thu Jan 1 00:00:00 1970 Return-Path: Received: from mails.dpdk.org (mails.dpdk.org [217.70.189.124]) by inbox.dpdk.org (Postfix) with ESMTP id 3FEE148922 for ; Mon, 13 Oct 2025 09:15:03 +0200 (CEST) Received: from mails.dpdk.org (localhost [127.0.0.1]) by mails.dpdk.org (Postfix) with ESMTP id 385584013F; Mon, 13 Oct 2025 09:15:03 +0200 (CEST) Received: from mail-pf1-f225.google.com (mail-pf1-f225.google.com [209.85.210.225]) by mails.dpdk.org (Postfix) with ESMTP id E71394013F for ; Mon, 13 Oct 2025 09:15:01 +0200 (CEST) Received: by mail-pf1-f225.google.com with SMTP id d2e1a72fcca58-781997d195aso2748693b3a.3 for ; Mon, 13 Oct 2025 00:15:01 -0700 (PDT) DKIM-Signature: v=1; a=rsa-sha256; c=relaxed/relaxed; d=iol.unh.edu; s=unh-iol; t=1760339701; x=1760944501; darn=dpdk.org; h=references:in-reply-to:cc:to:from:subject:message-id:date:from:to :cc:subject:date:message-id:reply-to; bh=OwPgNQBkRnlUC0DZvOl7Xwzy379hASnkLtWhbK4CSuk=; b=DFra/orUrE159dot6HUHJrpewXB22VKSln9FpT3WsyTnLsN5BaBkPUAPgNLXF8iVEe Gxqyh+OrxG5/i0Ys39FcB7d4V/ggkXWGsPChy0oEI1R1nUo5KFWRiVOO8B3kPqkfquq4 27E9UNU6HSDkDNhF0TZN/RPDYcT54ZEcB41yo= X-Google-DKIM-Signature: v=1; a=rsa-sha256; c=relaxed/relaxed; d=1e100.net; s=20230601; t=1760339701; x=1760944501; h=references:in-reply-to:cc:to:from:subject:message-id:date :x-gm-message-state:from:to:cc:subject:date:message-id:reply-to; bh=OwPgNQBkRnlUC0DZvOl7Xwzy379hASnkLtWhbK4CSuk=; b=bhYSXW3EqftUF15xavGVhfKZ4FaPV5EEJ3ywGwfAHDfPkXTYcxH73b1Ct0LLd5chk2 CjOhDQQPkOUfsbK+hTVUppl6jVsmT5W/u5K/Edo8aq5rlnQWn3vcv68BLG6+w903ri7D 6amognrU8ZFoo3EJXy99L2CnQlDLX90/f2Y8NuS86Vjhigp3TFhSeZc9Ru4W2+v4WsuG c8WJhmI/w2iHYtxatwofszZ7JKgv4BI4wiLlbu8H4368LqH7C9Nt6tbbwyKCuwNDPRsb lI1mwMp+bQVjG2ELIyPamWndu/h7MTZ8yE2ktrITpJTAhasdmmSAmFpztaW/J3LX5Mc+ j8qw== X-Gm-Message-State: AOJu0Yx04WqdzWDFep3Z26JqLyK3sHTEpYT0cu6lfx+0d5c/BXm93V8Q C5tPBmtujw24EJZKfEDH88JtVco6yj3l2hXjL8FfCB7TPiaRDXC4tu6K6Oh7lkUDdw7kPwlKZyK RoqKu5tHeUh6exJ2si2kpHxtwKOtJwSkBTXnS+/i3uC45Nd4F9NVSdnegpL7f X-Gm-Gg: ASbGncu4OJ7L04MM6XDU7E6ubf4WgUeEwiZQ/p9NbAOpZnljHE44+usQF+RRI4LUeEc E/Jp9gZAbdFZLRt+Q9uJgq+jpf5VRyz2jjoNmgL9sKrA9LYPZhX92kbjbKuQnl72Sg+/CGOpOse DgbUr2wWKf9iE6XgObEdslR8Qw/6cr4z0nH0jUcxx1+OoconZdMIXQjxP1hhk2YHXVTNx6/CC3G EV9pb5J1sGn6b5ZlzyhynQTTZHzjt/S+GFHb9CcObTJgQL7HpUppdwj4t/02VcRbTazqFB3ruBD 36rW7qpX/0z4mVMO1muTcHcSz2mJ6fC3BTn8qijLgX2QdbsyRA== X-Google-Smtp-Source: AGHT+IGo1U5S37K/907HuFb+3n8f6O7eCUKA8t39ftKPu3EXXW9zger/Vsx5PA7cVxMlabpT0wkI2b85h5Hq X-Received: by 2002:a17:903:1b44:b0:26c:87f9:9ea7 with SMTP id d9443c01a7336-2902741f6demr246004715ad.59.1760339700977; Mon, 13 Oct 2025 00:15:00 -0700 (PDT) Received: from postal.iol.unh.edu (postal.iol.unh.edu. [2606:4100:3880:1234::84]) by smtp-relay.gmail.com with ESMTPS id d9443c01a7336-29034e23631sm10817335ad.25.2025.10.13.00.15.00 (version=TLS1_2 cipher=ECDHE-ECDSA-AES128-GCM-SHA256 bits=128/128); Mon, 13 Oct 2025 00:15:00 -0700 (PDT) X-Relaying-Domain: iol.unh.edu Date: Mon, 13 Oct 2025 00:15:00 -0700 (PDT) Message-ID: <68eca6f4.170a0220.2438f8.5708SMTPIN_ADDED_MISSING@mx.google.com> Received: from [172.21.0.2] (unknown [172.18.0.240]) by postal.iol.unh.edu (Postfix) with ESMTP id 7941F6051830; Mon, 13 Oct 2025 03:15:00 -0400 (EDT) Subject: |SUCCESS| pw157473 [PATCH] [v2] eal/x86: enable timeout in AMD power From: dpdklab@iol.unh.edu To: Test Report Cc: dpdk-test-reports@iol.unh.edu In-Reply-To: <20251013055158.3037400-1-sivaprasad.tummala@amd.com> References: <20251013055158.3037400-1-sivaprasad.tummala@amd.com> Content-Type: text/plain X-BeenThere: test-report@dpdk.org X-Mailman-Version: 2.1.29 Precedence: list List-Id: automatic DPDK test reports List-Unsubscribe: , List-Archive: List-Post: List-Help: List-Subscribe: , Errors-To: test-report-bounces@dpdk.org Test-Label: iol-compile-amd64-testing Test-Status: SUCCESS http://dpdk.org/patch/157473 _Testing PASS_ Submitter: Sivaprasad Tummala Date: Monday, October 13 2025 05:51:57 DPDK git baseline: Repo:dpdk Branch: master CommitID:2b403dd8fb37d0ba13723e44ffc7ee2c2795f838 157473 --> testing pass Upstream job id: Windows-Compile-DPDK-Native#31576 Test environment and result as below: +-------------------------------+--------------------+-------------------+------------------+-------------------------+-------------------+----------------------+ | Environment | dpdk_meson_compile | dpdk_compile_spdk | dpdk_compile_ovs | dpdk_llvm_clang_compile | dpdk_msvc_compile | dpdk_mingw64_compile | +===============================+====================+===================+==================+=========================+===================+======================+ | CentOS Stream 9 | PASS | PASS | SKIPPED | SKIPPED | SKIPPED | SKIPPED | +-------------------------------+--------------------+-------------------+------------------+-------------------------+-------------------+----------------------+ | Ubuntu 20.04 | PASS | SKIPPED | SKIPPED | SKIPPED | SKIPPED | SKIPPED | +-------------------------------+--------------------+-------------------+------------------+-------------------------+-------------------+----------------------+ | FreeBSD 14.2 | PASS | SKIPPED | SKIPPED | SKIPPED | SKIPPED | SKIPPED | +-------------------------------+--------------------+-------------------+------------------+-------------------------+-------------------+----------------------+ | openSUSE Leap 15.6 | PASS | SKIPPED | SKIPPED | SKIPPED | SKIPPED | SKIPPED | +-------------------------------+--------------------+-------------------+------------------+-------------------------+-------------------+----------------------+ | CentOS Stream 10 | PASS | SKIPPED | SKIPPED | SKIPPED | SKIPPED | SKIPPED | +-------------------------------+--------------------+-------------------+------------------+-------------------------+-------------------+----------------------+ | Fedora Linux 42 | PASS | PASS | PASS | SKIPPED | SKIPPED | SKIPPED | +-------------------------------+--------------------+-------------------+------------------+-------------------------+-------------------+----------------------+ | Debian GNU/Linux 12 | PASS | PASS | SKIPPED | SKIPPED | SKIPPED | SKIPPED | +-------------------------------+--------------------+-------------------+------------------+-------------------------+-------------------+----------------------+ | Ubuntu 24.04 | PASS | PASS | PASS | SKIPPED | SKIPPED | SKIPPED | +-------------------------------+--------------------+-------------------+------------------+-------------------------+-------------------+----------------------+ | Red Hat Enterprise Linux 8.10 | PASS | SKIPPED | SKIPPED | SKIPPED | SKIPPED | SKIPPED | +-------------------------------+--------------------+-------------------+------------------+-------------------------+-------------------+----------------------+ | Ubuntu 22.04 | PASS | PASS | SKIPPED | SKIPPED | SKIPPED | SKIPPED | +-------------------------------+--------------------+-------------------+------------------+-------------------------+-------------------+----------------------+ | Red Hat Enterprise Linux 9.5 | PASS | SKIPPED | SKIPPED | SKIPPED | SKIPPED | SKIPPED | +-------------------------------+--------------------+-------------------+------------------+-------------------------+-------------------+----------------------+ | Alpine Linux 3.22.0 | PASS | SKIPPED | SKIPPED | SKIPPED | SKIPPED | SKIPPED | +-------------------------------+--------------------+-------------------+------------------+-------------------------+-------------------+----------------------+ | Windows Server 2022 | SKIPPED | SKIPPED | SKIPPED | PASS | PASS | PASS | +-------------------------------+--------------------+-------------------+------------------+-------------------------+-------------------+----------------------+ CentOS Stream 9 Kernel: 5.15 Compiler: gcc gcc (GCC) 11.5.0 20240719 (Red Hat 11.5.0-11) Ubuntu 20.04 Kernel: 4.19 Compiler: gcc gcc (Ubuntu 9.4.0-1ubuntu1~20.04.2) 9.4.0 FreeBSD 14.2 Kernel: 14.2-RELEASE Compiler: clang 18.1.6 openSUSE Leap 15.6 Kernel: 5.15 Compiler: gcc gcc (SUSE Linux) 7.5.0 CentOS Stream 10 Kernel: 5.15 Compiler: gcc gcc (GCC) 14.2.1 20250110 (Red Hat 14.2.1-8) Fedora Linux 42 Kernel: 5.15 Compiler: gcc gcc (GCC) 15.2.1 20250808 (Red Hat 15.2.1-1) Debian GNU/Linux 12 Kernel: 5.15 Compiler: gcc gcc (Debian 12.2.0-14+deb12u1) 12.2.0 Ubuntu 24.04 Kernel: 5.15 Compiler: gcc gcc (Ubuntu 13.3.0-6ubuntu2~24.04) 13.3.0 Red Hat Enterprise Linux 8.10 Kernel: 5.15 Compiler: gcc gcc (GCC) 8.5.0 20210514 (Red Hat 8.5.0-22) Ubuntu 22.04 Kernel: 5.15 Compiler: gcc gcc (Ubuntu 11.4.0-1ubuntu1~22.04) 11.4.0 Red Hat Enterprise Linux 9.5 Kernel: 5.15 Compiler: gcc gcc (GCC) 11.5.0 20240719 (Red Hat 11.5.0-2) Alpine Linux 3.22.0 Kernel: 5.15 Compiler: gcc gcc (Alpine 14.2.0) 14.2.0 Windows Server 2022 Kernel: 10.0.20348.2031 Compiler: clang 15.0.7, gcc 14.1.0 (MinGW), and MSVC VS 19.39.33521 To view detailed results, visit: https://lab.dpdk.org/results/dashboard/patchsets/34260/ UNH-IOL DPDK Community Lab To manage your email subscriptions, visit: https://lab.dpdk.org/results/dashboard/preferences/subscriptions/