From mboxrd@z Thu Jan 1 00:00:00 1970 Return-Path: Received: from mails.dpdk.org (mails.dpdk.org [217.70.189.124]) by inbox.dpdk.org (Postfix) with ESMTP id 1CF8548922 for ; Mon, 13 Oct 2025 09:23:02 +0200 (CEST) Received: from mails.dpdk.org (localhost [127.0.0.1]) by mails.dpdk.org (Postfix) with ESMTP id F01694013F; Mon, 13 Oct 2025 09:23:01 +0200 (CEST) Received: from mail-il1-f228.google.com (mail-il1-f228.google.com [209.85.166.228]) by mails.dpdk.org (Postfix) with ESMTP id C0F704013F for ; Mon, 13 Oct 2025 09:23:00 +0200 (CEST) Received: by mail-il1-f228.google.com with SMTP id e9e14a558f8ab-42f9ba7e70aso11950525ab.2 for ; Mon, 13 Oct 2025 00:23:00 -0700 (PDT) DKIM-Signature: v=1; a=rsa-sha256; c=relaxed/relaxed; d=iol.unh.edu; s=unh-iol; t=1760340180; x=1760944980; darn=dpdk.org; h=references:in-reply-to:cc:to:from:subject:message-id:date:from:to :cc:subject:date:message-id:reply-to; bh=NlkgdAU8aakg1J5xgde9++xD6vM3gqduUUj8VyTBP8I=; b=GukghTPHbEIsMV4A1Bry9hSEUDAPPMIaP21WjdeGrdn1c7EF0k48hOb9BtBgkTSVt3 RyHfr6w2rwLjZz8vm8aL+h5pP+WAKsBDplQLPELhga/qfKeL/YEC+/iKGQYpNjzShxhN huomd8TDPMxNWnHn4ATnZt9NcjLNq5EzQ/P4c= X-Google-DKIM-Signature: v=1; a=rsa-sha256; c=relaxed/relaxed; d=1e100.net; s=20230601; t=1760340180; x=1760944980; h=references:in-reply-to:cc:to:from:subject:message-id:date :x-gm-message-state:from:to:cc:subject:date:message-id:reply-to; bh=NlkgdAU8aakg1J5xgde9++xD6vM3gqduUUj8VyTBP8I=; b=KghZkJySga6QgzigotMubM+RofWi/cFXlIKPjXTm79GAc0rm77xpYfVEqZl/Az0xP3 eKGmLYsQUD+XcCxkF3Wn85AegfoOjFcP1Mm1QntQ3mGhVwFxRiDas/gFPnUoWzZIwiiz sOCbE5LHFbnK4HtXwMe8aeiglC1eajKJm4/04v/DYHnoZdzxvNgyurw9zwAnNxxRjlpf Nqv50GITq9VeczZgDfRJlRn1dwyQ+YlJ7Pay/S2/SJyTuyzNnRLRWlOZMuC7UxggqlmY XpXyb/r+oC1yFT5oWFmGa2NFpgDjZBk4STJON9Zfoa5PesfrQQ/RG6O0UN5XJbKHITfV uP3Q== X-Gm-Message-State: AOJu0Yx6gcmmhMUASg35gYDgkdfunGXJ24Z4YSz5EJgVIEyMzQ4PiUqI y+IXeNP/RN4zrQwlTkV/2RWvxf6XCfYNWMqCWKQzdA9BbsQkgE6EPxU8B7nviz7x/XrtV0mNOZX tVP3ilkszdjBzrGTUukhl6dDw+cqRJrFOGQjC+VLsrP0J X-Gm-Gg: ASbGncvoRqcXq9CUWXW4IydPCzwX4U9fYmYn6gFUWUw3tfnanyqEiPnSod5Idfxu3Ur eelz8UpIc0RWu3KnB7XV4Vj+kc1lUpb+rCvuJ15hQJGdZ8kewUt1I4zT1POl9Sdl9vrPTHkcog5 EkCBfwk0vZQ4dGU2q6CbZydKysYdsLFSjxMDUvYhcuFYnPAeYybHv/05lNNwzdTSgsP1H2p2BB1 uvB3wJnMTXt4rom38qBotWqIny2c4IXa5lmZsa2nYgV2j25HmzvdFI12XYAztjrOkoltTNjTVT4 o3TyFivGRQmmNinHKJbij/lxTI1VwzDVj/UJmYqfLISycknPLhyufe/WJntYhK4TDVcDXCnw X-Google-Smtp-Source: AGHT+IGLdGWhGrojA+tEMjUm0rP55w1HoHSqCB6yJg3i03hAuNBNAsVd80BG0s++1208YtQ+5Lu6fr5QlKfN X-Received: by 2002:a05:6e02:1a87:b0:42d:844d:277e with SMTP id e9e14a558f8ab-42f8742ebe9mr212388095ab.32.1760340180001; Mon, 13 Oct 2025 00:23:00 -0700 (PDT) Received: from postal.iol.unh.edu (postal.iol.unh.edu. [132.177.123.84]) by smtp-relay.gmail.com with ESMTPS id e9e14a558f8ab-42f9034daa7sm8255395ab.30.2025.10.13.00.22.59 (version=TLS1_2 cipher=ECDHE-ECDSA-AES128-GCM-SHA256 bits=128/128); Mon, 13 Oct 2025 00:22:59 -0700 (PDT) X-Relaying-Domain: iol.unh.edu Date: Mon, 13 Oct 2025 00:22:59 -0700 (PDT) Message-ID: <68eca8d3.050a0220.387006.a202SMTPIN_ADDED_MISSING@mx.google.com> Received: from [172.21.0.3] (unknown [172.18.0.240]) by postal.iol.unh.edu (Postfix) with ESMTP id 521A66051830; Mon, 13 Oct 2025 03:22:59 -0400 (EDT) Subject: |SUCCESS| pw157473 [PATCH] [v2] eal/x86: enable timeout in AMD power From: dpdklab@iol.unh.edu To: Test Report Cc: dpdk-test-reports@iol.unh.edu In-Reply-To: <20251013055158.3037400-1-sivaprasad.tummala@amd.com> References: <20251013055158.3037400-1-sivaprasad.tummala@amd.com> Content-Type: text/plain X-BeenThere: test-report@dpdk.org X-Mailman-Version: 2.1.29 Precedence: list List-Id: automatic DPDK test reports List-Unsubscribe: , List-Archive: List-Post: List-Help: List-Subscribe: , Errors-To: test-report-bounces@dpdk.org Test-Label: iol-unit-amd64-testing Test-Status: SUCCESS http://dpdk.org/patch/157473 _Testing PASS_ Submitter: Sivaprasad Tummala Date: Monday, October 13 2025 05:51:57 DPDK git baseline: Repo:dpdk Branch: master CommitID:2b403dd8fb37d0ba13723e44ffc7ee2c2795f838 157473 --> testing pass Upstream job id: Generic-VM-Unit-Test-DPDK#31746 Test environment and result as below: +-------------------------------+----------------+ | Environment | dpdk_unit_test | +===============================+================+ | Fedora Linux 42 | PASS | +-------------------------------+----------------+ | Fedora Linux 40 | PASS | +-------------------------------+----------------+ | CentOS Stream 10 | PASS | +-------------------------------+----------------+ | Fedora Linux 41 | PASS | +-------------------------------+----------------+ | Red Hat Enterprise Linux 8.10 | PASS | +-------------------------------+----------------+ | Red Hat Enterprise Linux 9.5 | PASS | +-------------------------------+----------------+ | Debian GNU/Linux 12 | PASS | +-------------------------------+----------------+ | CentOS Stream 9 | PASS | +-------------------------------+----------------+ | Ubuntu 22.04 | PASS | +-------------------------------+----------------+ | Ubuntu 20.04 | PASS | +-------------------------------+----------------+ | Ubuntu 24.04 | PASS | +-------------------------------+----------------+ | Windows Server 2022 | PASS | +-------------------------------+----------------+ Fedora Linux 42 Kernel: 5.15 Compiler: clang gcc (GCC) 15.2.1 20250808 (Red Hat 15.2.1-1) Fedora Linux 40 Kernel: 5.15 Compiler: clang gcc (GCC) 14.2.1 20240912 (Red Hat 14.2.1-3) CentOS Stream 10 Kernel: 5.15 Compiler: gcc gcc (GCC) 14.2.1 20250110 (Red Hat 14.2.1-8) Fedora Linux 41 Kernel: 5.15 Compiler: clang gcc (GCC) 14.3.1 20250523 (Red Hat 14.3.1-1) Red Hat Enterprise Linux 8.10 Kernel: 5.15 Compiler: gcc gcc (GCC) 8.5.0 20210514 (Red Hat 8.5.0-22) Red Hat Enterprise Linux 9.5 Kernel: 5.15 Compiler: gcc gcc (GCC) 11.5.0 20240719 (Red Hat 11.5.0-2) Debian GNU/Linux 12 Kernel: 5.15 Compiler: gcc gcc (Debian 12.2.0-14+deb12u1) 12.2.0 CentOS Stream 9 Kernel: 5.15 Compiler: gcc gcc (GCC) 11.5.0 20240719 (Red Hat 11.5.0-11) Ubuntu 22.04 Kernel: 5.15 Compiler: gcc gcc (Ubuntu 11.4.0-1ubuntu1~22.04) 11.4.0 Ubuntu 20.04 Kernel: 5.15 Compiler: gcc gcc (Ubuntu 9.4.0-1ubuntu1~20.04.2) 9.4.0 Ubuntu 24.04 Kernel: 5.15 Compiler: gcc gcc (Ubuntu 13.3.0-6ubuntu2~24.04) 13.3.0 Windows Server 2022 Kernel: 10.0.20348.2031 Compiler: clang 15.0.7, gcc 14.1.0 (MinGW), and MSVC VS 19.39.33521 To view detailed results, visit: https://lab.dpdk.org/results/dashboard/patchsets/34260/ UNH-IOL DPDK Community Lab To manage your email subscriptions, visit: https://lab.dpdk.org/results/dashboard/preferences/subscriptions/