From mboxrd@z Thu Jan 1 00:00:00 1970 Return-Path: Received: from mails.dpdk.org (mails.dpdk.org [217.70.189.124]) by inbox.dpdk.org (Postfix) with ESMTP id BA02848922 for ; Mon, 13 Oct 2025 09:30:59 +0200 (CEST) Received: from mails.dpdk.org (localhost [127.0.0.1]) by mails.dpdk.org (Postfix) with ESMTP id B32334013F; Mon, 13 Oct 2025 09:30:59 +0200 (CEST) Received: from mail-pj1-f97.google.com (mail-pj1-f97.google.com [209.85.216.97]) by mails.dpdk.org (Postfix) with ESMTP id E55054013F for ; Mon, 13 Oct 2025 09:30:58 +0200 (CEST) Received: by mail-pj1-f97.google.com with SMTP id 98e67ed59e1d1-33b5a3e8ae2so2610532a91.1 for ; Mon, 13 Oct 2025 00:30:58 -0700 (PDT) DKIM-Signature: v=1; a=rsa-sha256; c=relaxed/relaxed; d=iol.unh.edu; s=unh-iol; t=1760340658; x=1760945458; darn=dpdk.org; h=references:in-reply-to:cc:to:from:subject:message-id:date:from:to :cc:subject:date:message-id:reply-to; bh=WErRrn4AbpOeHC8UjI80qp8WQkI/6xoGbdJ/B1NyGWQ=; b=XVNd+95imtFyixHNL6UqNJfwIpDuncPD7omvfWcn/tfJaWS4l+QtRa9fWveQQ3njHR MGJ6FMjW8VsEXnskEBb9JbGjrcN/kFyALYmRnt23Ql5Mg12n0LQNwLWo5ZWE+YF4hdr5 xzxv7/wA87pLaUFQw+gG5JFg5VY1ZPipMHrq0= X-Google-DKIM-Signature: v=1; a=rsa-sha256; c=relaxed/relaxed; d=1e100.net; s=20230601; t=1760340658; x=1760945458; h=references:in-reply-to:cc:to:from:subject:message-id:date :x-gm-message-state:from:to:cc:subject:date:message-id:reply-to; bh=WErRrn4AbpOeHC8UjI80qp8WQkI/6xoGbdJ/B1NyGWQ=; b=Fvme2EnSp11gyjdh0DFR9oxNZJkA9FL7GuriRA2mzqQliYBeyeQqOXoS+LR7NVnvoB j6K7oc43rkNFElIFA7npGIzYCCWxi+TnTdsNjMx+X/GRGMMsWfPkcGBkYtxXZ+Adkh7u HdNaqN4CZiN/OAf+pzTATM1MhjaOLCnDIetaQ/wJATfgiUkf3itHYDZcMqsA+4kprfwa BVInZoHUK0iFUYs4f9Ju7e2DZzy8dNpVF3GZ8CsC5chyxXF9HFXMBrRVciPRr3TxJbL1 qvGPiOuo855MnJPpGLb0fyD2dtzGqMJ/0qF6H81QMs6REk/og4ySDK8n9v5ST2ebGjsy BJ8Q== X-Gm-Message-State: AOJu0YyMm5mfJD5g/Q4m32/OTDQA0sVR+6lhZl1GxrFFOfkQNsygqcMZ HjNg52qk+sgkd8AlH3vOajvL0jFY3IV8xhkmNiOFIkAxHoOX3Kp4gxQoZPs1irP/SxWzjsqv4lv y5KZqMUH4lgPvtpdp91dcS550Nb4x0t9Kvcu4j8MFrF5mXy77CVyxKJ2L8Oq7 X-Gm-Gg: ASbGnctwnTpoWdJmrYTzQQdpNkqipqojRaQ40ncUOo5JLsSt07sI+5rbdaPqhrkSKPH ppKWAIaogSb1iAwfr9dGz5aOzVrLV2i3U/lA21H//a+Q6Ir3oIUM2T9fbnE6DS+cPD5SlsVLOj8 Gu18q7Xt+UxnAigsE9rS875KmXXFVixujf3ihreWH7Udf+5P8rgIznU6Rh6IId/PydoPJVqA6B4 4GO9+dtnmwV6UoBLF+3MFxifJaHdo9L9BdzjoVSPe/uO5YAhzoy7jY70KLUO6Li3ZlUvCUGCGeU d4nY47FE+sTTnp9q4G3TTw5H1RiFTXUDHGsJPqlBZUmuzgDS8g== X-Google-Smtp-Source: AGHT+IHbKxpoP9kt0SkaBD6Nb2Adfj/yCzxVUaJ9FZf3bzbU3saNieZG41YREv1z/GXZ2WCxFOlGlDdVFqrF X-Received: by 2002:a17:902:fc4d:b0:265:62b6:c51a with SMTP id d9443c01a7336-28ec9caf04fmr266839625ad.23.1760340658045; Mon, 13 Oct 2025 00:30:58 -0700 (PDT) Received: from postal.iol.unh.edu (postal.iol.unh.edu. [2606:4100:3880:1234::84]) by smtp-relay.gmail.com with ESMTPS id 98e67ed59e1d1-33b61a85229sm868613a91.4.2025.10.13.00.30.57 (version=TLS1_2 cipher=ECDHE-ECDSA-AES128-GCM-SHA256 bits=128/128); Mon, 13 Oct 2025 00:30:58 -0700 (PDT) X-Relaying-Domain: iol.unh.edu Date: Mon, 13 Oct 2025 00:30:58 -0700 (PDT) Message-ID: <68ecaab2.170a0220.3334b7.a9d5SMTPIN_ADDED_MISSING@mx.google.com> Received: from [172.21.0.3] (unknown [172.18.0.240]) by postal.iol.unh.edu (Postfix) with ESMTP id 3FB796051830; Mon, 13 Oct 2025 03:30:57 -0400 (EDT) Subject: |SUCCESS| pw157473 [PATCH] [v2] eal/x86: enable timeout in AMD power From: dpdklab@iol.unh.edu To: Test Report Cc: dpdk-test-reports@iol.unh.edu In-Reply-To: <20251013055158.3037400-1-sivaprasad.tummala@amd.com> References: <20251013055158.3037400-1-sivaprasad.tummala@amd.com> Content-Type: text/plain X-BeenThere: test-report@dpdk.org X-Mailman-Version: 2.1.29 Precedence: list List-Id: automatic DPDK test reports List-Unsubscribe: , List-Archive: List-Post: List-Help: List-Subscribe: , Errors-To: test-report-bounces@dpdk.org Test-Label: iol-unit-amd64-testing Test-Status: SUCCESS http://dpdk.org/patch/157473 _Testing PASS_ Submitter: Sivaprasad Tummala Date: Monday, October 13 2025 05:51:57 DPDK git baseline: Repo:dpdk Branch: master CommitID:2b403dd8fb37d0ba13723e44ffc7ee2c2795f838 157473 --> testing pass Upstream job id: Generic-VM-Unit-Test-DPDK#31747 Test environment and result as below: +-------------------------------+----------------+ | Environment | dpdk_unit_test | +===============================+================+ | Fedora Linux 42 | PASS | +-------------------------------+----------------+ | Fedora Linux 40 | PASS | +-------------------------------+----------------+ | CentOS Stream 10 | PASS | +-------------------------------+----------------+ | Fedora Linux 41 | PASS | +-------------------------------+----------------+ | Red Hat Enterprise Linux 8.10 | PASS | +-------------------------------+----------------+ | Red Hat Enterprise Linux 9.5 | PASS | +-------------------------------+----------------+ | Debian GNU/Linux 12 | PASS | +-------------------------------+----------------+ | CentOS Stream 9 | PASS | +-------------------------------+----------------+ | Ubuntu 22.04 | PASS | +-------------------------------+----------------+ | Ubuntu 20.04 | PASS | +-------------------------------+----------------+ | Ubuntu 24.04 | PASS | +-------------------------------+----------------+ | Windows Server 2022 | PASS | +-------------------------------+----------------+ Fedora Linux 42 Kernel: 5.15 Compiler: clang gcc (GCC) 15.2.1 20250808 (Red Hat 15.2.1-1) Fedora Linux 40 Kernel: 5.15 Compiler: clang gcc (GCC) 14.2.1 20240912 (Red Hat 14.2.1-3) CentOS Stream 10 Kernel: 5.15 Compiler: gcc gcc (GCC) 14.2.1 20250110 (Red Hat 14.2.1-8) Fedora Linux 41 Kernel: 5.15 Compiler: clang gcc (GCC) 14.3.1 20250523 (Red Hat 14.3.1-1) Red Hat Enterprise Linux 8.10 Kernel: 5.15 Compiler: gcc gcc (GCC) 8.5.0 20210514 (Red Hat 8.5.0-22) Red Hat Enterprise Linux 9.5 Kernel: 5.15 Compiler: gcc gcc (GCC) 11.5.0 20240719 (Red Hat 11.5.0-2) Debian GNU/Linux 12 Kernel: 5.15 Compiler: gcc gcc (Debian 12.2.0-14+deb12u1) 12.2.0 CentOS Stream 9 Kernel: 5.15 Compiler: gcc gcc (GCC) 11.5.0 20240719 (Red Hat 11.5.0-11) Ubuntu 22.04 Kernel: 5.15 Compiler: gcc gcc (Ubuntu 11.4.0-1ubuntu1~22.04) 11.4.0 Ubuntu 20.04 Kernel: 5.15 Compiler: gcc gcc (Ubuntu 9.4.0-1ubuntu1~20.04.2) 9.4.0 Ubuntu 24.04 Kernel: 5.15 Compiler: gcc gcc (Ubuntu 13.3.0-6ubuntu2~24.04) 13.3.0 Windows Server 2022 Kernel: 10.0.20348.2031 Compiler: clang 15.0.7, gcc 14.1.0 (MinGW), and MSVC VS 19.39.33521 To view detailed results, visit: https://lab.dpdk.org/results/dashboard/patchsets/34260/ UNH-IOL DPDK Community Lab To manage your email subscriptions, visit: https://lab.dpdk.org/results/dashboard/preferences/subscriptions/