From mboxrd@z Thu Jan 1 00:00:00 1970 Return-Path: Received: from mails.dpdk.org (mails.dpdk.org [217.70.189.124]) by inbox.dpdk.org (Postfix) with ESMTP id 32D9548922 for ; Mon, 13 Oct 2025 09:55:02 +0200 (CEST) Received: from mails.dpdk.org (localhost [127.0.0.1]) by mails.dpdk.org (Postfix) with ESMTP id 151554013F; Mon, 13 Oct 2025 09:55:02 +0200 (CEST) Received: from mail-il1-f228.google.com (mail-il1-f228.google.com [209.85.166.228]) by mails.dpdk.org (Postfix) with ESMTP id DD6244013F for ; Mon, 13 Oct 2025 09:55:00 +0200 (CEST) Received: by mail-il1-f228.google.com with SMTP id e9e14a558f8ab-42f8e93c54eso38004025ab.1 for ; Mon, 13 Oct 2025 00:55:00 -0700 (PDT) DKIM-Signature: v=1; a=rsa-sha256; c=relaxed/relaxed; d=iol.unh.edu; s=unh-iol; t=1760342100; x=1760946900; darn=dpdk.org; h=cc:to:from:subject:message-id:date:from:to:cc:subject:date :message-id:reply-to; bh=YvEkiyLwDIxSOwSDj+yZOKnzaGdPpe21dRsT+XX60rs=; b=d3XpcLpdFkMX155sX4PPkoDAK30QFtyHF3Y74SQ4nqCmZQ3MJ4CKLF1toaGCS+BgBc E4O8RGBm7A3132Q7XtXrxUJRnxHKUFSkPpX/Hfd8iLuGTtYx+rw0gKHpM13Ajv/noeTO /B/7cErfwBQ6bP4t7IJ5CLYhVDKGk3Hv3T0UU= X-Google-DKIM-Signature: v=1; a=rsa-sha256; c=relaxed/relaxed; d=1e100.net; s=20230601; t=1760342100; x=1760946900; h=cc:to:from:subject:message-id:date:x-gm-message-state:from:to:cc :subject:date:message-id:reply-to; bh=YvEkiyLwDIxSOwSDj+yZOKnzaGdPpe21dRsT+XX60rs=; b=AX4yGjFd6JIfjQ8CV//QoR1lwT2kzQZXiFlE0XYLr0ktu1kbMdfKoRZl+cKvqXH7Lo iBrtK3whF7RloyXAR9xH47ltUe8QBK7NWXm7irWzb1Wk5W/CnubgvnrvQou1JMNrA9q5 k4fRs++qrdSfNuyim2/v9K54MR2PEwQYCyf/z1d0wl5maiIRrpEzyEAy6KXnwdxM107c dcuI8BAnwRehE/61+CxLNmiYb5pW3+1Wds2PBNuaGkPG/VWuSafcNVgf1Ar2+GiYm9b5 yJ+7CQBMUtN7Gdy0TVAh+GSz/cnM0NgHWPiVDmfBJGY6GBgfkwfXdhlPJkBPjMKlInuw wGuw== X-Gm-Message-State: AOJu0YxVhb0sa8WZq8qq6UphNzpMMe8CYonSwM9ssMydr0bNr3inUgV/ 7cKsGg2ZNmHvUw5bPtjdZZj/TaRLK0HHPqF8f604bBRdYY9P9beFdKqWFaU7kcYvgfm26FqzAoL Yd1POWwln0FrqFl5ejQJ0yS7eVvJSh6psH7YBgyUsx3iSeb69zVGR X-Gm-Gg: ASbGncsJi0/NtM1MLyY1MOcZSP/lpT9B5YdWsTDubHqaSqhWpIhtm2YdF2DcWpm68nq A0wCLnFigC1YzrpvwL1EVflm+TPXSEDmxHdOUBhNZqlOdzJUAVRLyTEJ4njyOiauX3xGIi0n+Rf +31ldD241hM/YwOLV1lMA1+uiBfFjtyzZjBS3ij6MHfsAOuZwE1kW6SFl3axfw3JG7sFBkvMU1R zvHEdqA7ryxiBHKbp66ZnFAFKh0M8ZwKsApKyeQy2rvXs4lbg6Tg+oycXmyYt1zEVwHkCJT0Xcg SvyMQvp9wfpp2lUXvPii2UxujwweZMCWtsTifWin73sescNEbA== X-Google-Smtp-Source: AGHT+IGqFosoGrYNLJ6ltkEz0RFbaY5Yw0Dt5fveZWBGfWcCXf16BYcg8fvHVIFiMY4O7kA13lmcsBNZO8Uz X-Received: by 2002:a05:6e02:1486:b0:42f:9bb5:1c4a with SMTP id e9e14a558f8ab-42f9bb5213amr138570035ab.27.1760342100218; Mon, 13 Oct 2025 00:55:00 -0700 (PDT) Received: from postal.iol.unh.edu (postal.iol.unh.edu. [2606:4100:3880:1234::84]) by smtp-relay.gmail.com with ESMTPS id 8926c6da1cb9f-58f71e1db42sm740692173.40.2025.10.13.00.55.00 (version=TLS1_2 cipher=ECDHE-ECDSA-AES128-GCM-SHA256 bits=128/128); Mon, 13 Oct 2025 00:55:00 -0700 (PDT) X-Relaying-Domain: iol.unh.edu Date: Mon, 13 Oct 2025 00:55:00 -0700 (PDT) Message-ID: <68ecb054.050a0220.27748d.3d1fSMTPIN_ADDED_MISSING@mx.google.com> Received: from [172.21.0.2] (unknown [172.18.0.240]) by postal.iol.unh.edu (Postfix) with ESMTP id B147C6051830; Mon, 13 Oct 2025 03:54:59 -0400 (EDT) Subject: |SUCCESS| [GIT MASTER] b287e404643aeab5bb5db084c142789df187844e From: dpdklab@iol.unh.edu To: Test Report Cc: dpdk-test-reports@iol.unh.edu, Xueming Li , Christian Ehrhardt , Kevin Traynor , Luca Boccassi Content-Type: text/plain X-BeenThere: test-report@dpdk.org X-Mailman-Version: 2.1.29 Precedence: list List-Id: automatic DPDK test reports List-Unsubscribe: , List-Archive: List-Post: List-Help: List-Subscribe: , Errors-To: test-report-bounces@dpdk.org _Testing PASS_ Branch: tags/v24.11 b287e404643aeab5bb5db084c142789df187844e --> testing pass Upstream job id: Generic-Unit-Test-DPDK#380688 Test environment and result as below: +------------------------------+----------------+--------------+---------------------------+------------------------------+ | Environment | dpdk_unit_test | lpm_autotest | cryptodev_sw_zuc_autotest | cryptodev_sw_snow3g_autotest | +==============================+================+==============+===========================+==============================+ | CentOS Stream 9 | PASS | SKIPPED | SKIPPED | SKIPPED | +------------------------------+----------------+--------------+---------------------------+------------------------------+ | Fedora Linux 41 | PASS | SKIPPED | SKIPPED | SKIPPED | +------------------------------+----------------+--------------+---------------------------+------------------------------+ | CentOS Stream 10 | PASS | SKIPPED | SKIPPED | SKIPPED | +------------------------------+----------------+--------------+---------------------------+------------------------------+ | Fedora Linux 42 | PASS | SKIPPED | SKIPPED | SKIPPED | +------------------------------+----------------+--------------+---------------------------+------------------------------+ | Fedora Linux 40 | PASS | SKIPPED | SKIPPED | SKIPPED | +------------------------------+----------------+--------------+---------------------------+------------------------------+ | Debian GNU/Linux 12 | PASS | SKIPPED | SKIPPED | SKIPPED | +------------------------------+----------------+--------------+---------------------------+------------------------------+ | Red Hat Enterprise Linux 9.5 | PASS | SKIPPED | SKIPPED | SKIPPED | +------------------------------+----------------+--------------+---------------------------+------------------------------+ | Ubuntu 20.04 | PASS | PASS | SKIPPED | SKIPPED | +------------------------------+----------------+--------------+---------------------------+------------------------------+ | Ubuntu 24.04 | PASS | SKIPPED | SKIPPED | SKIPPED | +------------------------------+----------------+--------------+---------------------------+------------------------------+ | Ubuntu 22.04 | PASS | SKIPPED | SKIPPED | SKIPPED | +------------------------------+----------------+--------------+---------------------------+------------------------------+ | Debian 12 (arm) | SKIPPED | SKIPPED | PASS | PASS | +------------------------------+----------------+--------------+---------------------------+------------------------------+ CentOS Stream 9 Kernel: 5.4 Compiler: gcc gcc (GCC) 11.5.0 20240719 (Red Hat 11.5.0-11) Fedora Linux 41 Kernel: 5.4 Compiler: gcc gcc (GCC) 14.3.1 20250523 (Red Hat 14.3.1-1) CentOS Stream 10 Kernel: 5.4 Compiler: gcc gcc (GCC) 14.2.1 20250110 (Red Hat 14.2.1-8) Fedora Linux 42 Kernel: 5.4 Compiler: gcc gcc (GCC) 15.2.1 20250808 (Red Hat 15.2.1-1) Fedora Linux 40 Kernel: 5.4 Compiler: clang gcc (GCC) 14.2.1 20240912 (Red Hat 14.2.1-3) Debian GNU/Linux 12 Kernel: 5.4 Compiler: gcc gcc (Debian 12.2.0-14+deb12u1) 12.2.0 Red Hat Enterprise Linux 9.5 Kernel: 5.4 Compiler: gcc gcc (GCC) 11.5.0 20240719 (Red Hat 11.5.0-2) Ubuntu 20.04 Kernel: 5.4 Compiler: gcc gcc (Ubuntu 9.4.0-1ubuntu1~20.04.2) 9.4.0 Ubuntu 24.04 Kernel: 5.4 Compiler: gcc gcc (Ubuntu 13.3.0-6ubuntu2~24.04) 13.3.0 Ubuntu 22.04 Kernel: 5.4 Compiler: gcc gcc (Ubuntu 11.4.0-1ubuntu1~22.04) 11.4.0 Debian 12 (arm) Kernel: Depends on container host Compiler: gcc (Debian 12.2.0-14) 12.2.0 To view detailed results, visit: https://lab.dpdk.org/results/dashboard/tarballs/35183/ UNH-IOL DPDK Community Lab To manage your email subscriptions, visit: https://lab.dpdk.org/results/dashboard/preferences/subscriptions/