From mboxrd@z Thu Jan 1 00:00:00 1970 Return-Path: Received: from mails.dpdk.org (mails.dpdk.org [217.70.189.124]) by inbox.dpdk.org (Postfix) with ESMTP id 4DDAA48925 for ; Mon, 13 Oct 2025 10:30:34 +0200 (CEST) Received: from mails.dpdk.org (localhost [127.0.0.1]) by mails.dpdk.org (Postfix) with ESMTP id 492D84013F; Mon, 13 Oct 2025 10:30:34 +0200 (CEST) Received: from mail-pg1-f228.google.com (mail-pg1-f228.google.com [209.85.215.228]) by mails.dpdk.org (Postfix) with ESMTP id 11A1F4013F for ; Mon, 13 Oct 2025 10:30:33 +0200 (CEST) Received: by mail-pg1-f228.google.com with SMTP id 41be03b00d2f7-b5507d3ccd8so3310737a12.0 for ; Mon, 13 Oct 2025 01:30:32 -0700 (PDT) DKIM-Signature: v=1; a=rsa-sha256; c=relaxed/relaxed; d=iol.unh.edu; s=unh-iol; t=1760344232; x=1760949032; darn=dpdk.org; h=references:in-reply-to:cc:to:from:subject:message-id:date:from:to :cc:subject:date:message-id:reply-to; bh=nYDBx9w6WnsQgtRLxkonhvpJEmlT10lzomLRbblKx3Q=; b=C2BGEvuHZZMF18DmwvilQ+LDbguyUUG64FNQ7WafRNMpkj3BJ4QYCi7fGb5P/5JNuE Y1U2LD2LH0z0I00Wygcq9ItEJTc38DYxALOjgKtBnXUfebknAoNzBRDnapm429gGazdq 7kJKt/DDoBK/zptj6sJGg0Luh14P2XTVaYgog= X-Google-DKIM-Signature: v=1; a=rsa-sha256; c=relaxed/relaxed; d=1e100.net; s=20230601; t=1760344232; x=1760949032; h=references:in-reply-to:cc:to:from:subject:message-id:date :x-gm-message-state:from:to:cc:subject:date:message-id:reply-to; bh=nYDBx9w6WnsQgtRLxkonhvpJEmlT10lzomLRbblKx3Q=; b=kOSxfRi8F+dWVnHFCSdcpSAWgtwiRB2sPvhllsl4I2wA8P8s9vPGVBzGW2zhjhfPFf RwOFOldPm3qvktp0/4jXllJq46AnQgLfCUydlEwf4CgK/B2TQq644JB5tQki7DJ9lh5Y IHoBkawhvkgeM9MJcT5J73oXzMAJQR0rRXvqTR7DEbvfJ08K4KLLJ6vuw1JI3CESfGJr VLDJdxtgQEpv+j9VKLixkGww3LrFCVipzRB/kRiYuzJSsRXSCAW/TQqg1frA3q2MUHDg G+W/NbWRS57yYYROPee8W2BJbfQbsUp0tfpKK7TkaJBC5M8kEl6aRP3IviEpHfJGxiTx X47g== X-Gm-Message-State: AOJu0YxbNpeCaSXXWXljzJpaeMFeeWwcGimV71dO8apX2zWsKzx24V++ gZnhzqWuYbN6xqMMURgWCbA1C3Kyzp0B2/dzTMVKtfbfVfYum7qw3Rxe6P1U6tVv2zqyNVmhTOG +Z/UV+v3sd7KZVcHc2Qe0w0OUzFp/CKwTFPHXG99goYMu X-Gm-Gg: ASbGnctmurlegMazW69BIhYuKy1IbORql+5NgVjsz3aKCiQQRDOL2LN4hms8m+g5Y71 VaBWNbCqdElJzyZdg0qzJaPR4RwIJvoyZg1UoDsXflAZCKnAN2GcFk/CG8TOvYMl+n9eTBgkS30 m8IVTMTbp9DRGYml2uEdetbu6Wgn/bF2xoKfBTFtngRrOXtT5oKl4kqCIiGWxqS2j+4Wb+rcpju CUVnjoL3MMYM7SxOEF7P3nSLjjQMZAtTlMy+s3+CcwRmkVSUP4wI8kwzgFfZnCqJE5bGfiqbQ25 5ml4uox323OohSreBAgHuC7sv/IAYZP4O9zzYLdorT/trfHfusfX/8WH+5rfhzQbxzUAlKC2 X-Google-Smtp-Source: AGHT+IG5wXXyFJBA1is6/rPpY+EMvJ5ek1m2IDR8quP8/Y/CyL+Xf0ol2Ji/R7ucVOXN3/kp8PZiJIbkEplk X-Received: by 2002:a17:903:1aef:b0:250:1c22:e7b with SMTP id d9443c01a7336-290272e3a78mr269826145ad.43.1760344232123; Mon, 13 Oct 2025 01:30:32 -0700 (PDT) Received: from postal.iol.unh.edu (postal.iol.unh.edu. [132.177.123.84]) by smtp-relay.gmail.com with ESMTPS id d9443c01a7336-29034f2ca5dsm10929895ad.49.2025.10.13.01.30.32 (version=TLS1_2 cipher=ECDHE-ECDSA-AES128-GCM-SHA256 bits=128/128); Mon, 13 Oct 2025 01:30:32 -0700 (PDT) X-Relaying-Domain: iol.unh.edu Date: Mon, 13 Oct 2025 01:30:32 -0700 (PDT) Message-ID: <68ecb8a8.170a0220.1539ab.6c12SMTPIN_ADDED_MISSING@mx.google.com> Received: from [172.21.0.2] (unknown [172.18.0.240]) by postal.iol.unh.edu (Postfix) with ESMTP id 503156051830; Mon, 13 Oct 2025 04:30:31 -0400 (EDT) Subject: |SUCCESS| pw157474-157492 [PATCH] [v2,19/19] drivers: fix Klocwork i From: dpdklab@iol.unh.edu To: Test Report Cc: dpdk-test-reports@iol.unh.edu In-Reply-To: <20251013065949.200414-19-ndabilpuram@marvell.com> References: <20251013065949.200414-19-ndabilpuram@marvell.com> Content-Type: text/plain X-BeenThere: test-report@dpdk.org X-Mailman-Version: 2.1.29 Precedence: list List-Id: automatic DPDK test reports List-Unsubscribe: , List-Archive: List-Post: List-Help: List-Subscribe: , Errors-To: test-report-bounces@dpdk.org Test-Label: iol-compile-amd64-testing Test-Status: SUCCESS http://dpdk.org/patch/157492 _Testing PASS_ Submitter: Nithin Dabilpuram Date: Monday, October 13 2025 06:59:49 DPDK git baseline: Repo:dpdk-next-net-mrvl Branch: master CommitID:f3878b615e69a12087a6c5d212723478cfc79c31 157474-157492 --> testing pass Upstream job id: Windows-Compile-DPDK-Native#31578 Test environment and result as below: +-------------------------------+--------------------+-------------------+-------------------------+------------------+-------------------+----------------------+ | Environment | dpdk_meson_compile | dpdk_compile_spdk | dpdk_llvm_clang_compile | dpdk_compile_ovs | dpdk_msvc_compile | dpdk_mingw64_compile | +===============================+====================+===================+=========================+==================+===================+======================+ | CentOS Stream 9 | PASS | PASS | SKIPPED | SKIPPED | SKIPPED | SKIPPED | +-------------------------------+--------------------+-------------------+-------------------------+------------------+-------------------+----------------------+ | CentOS Stream 10 | PASS | SKIPPED | SKIPPED | SKIPPED | SKIPPED | SKIPPED | +-------------------------------+--------------------+-------------------+-------------------------+------------------+-------------------+----------------------+ | Debian GNU/Linux 12 | PASS | PASS | SKIPPED | SKIPPED | SKIPPED | SKIPPED | +-------------------------------+--------------------+-------------------+-------------------------+------------------+-------------------+----------------------+ | Ubuntu 20.04 | PASS | SKIPPED | SKIPPED | SKIPPED | SKIPPED | SKIPPED | +-------------------------------+--------------------+-------------------+-------------------------+------------------+-------------------+----------------------+ | Fedora Linux 42 | PASS | PASS | SKIPPED | PASS | SKIPPED | SKIPPED | +-------------------------------+--------------------+-------------------+-------------------------+------------------+-------------------+----------------------+ | openSUSE Leap 15.6 | PASS | SKIPPED | SKIPPED | SKIPPED | SKIPPED | SKIPPED | +-------------------------------+--------------------+-------------------+-------------------------+------------------+-------------------+----------------------+ | Red Hat Enterprise Linux 8.10 | PASS | SKIPPED | SKIPPED | SKIPPED | SKIPPED | SKIPPED | +-------------------------------+--------------------+-------------------+-------------------------+------------------+-------------------+----------------------+ | Red Hat Enterprise Linux 9.5 | PASS | SKIPPED | SKIPPED | SKIPPED | SKIPPED | SKIPPED | +-------------------------------+--------------------+-------------------+-------------------------+------------------+-------------------+----------------------+ | Ubuntu 22.04 | PASS | PASS | SKIPPED | SKIPPED | SKIPPED | SKIPPED | +-------------------------------+--------------------+-------------------+-------------------------+------------------+-------------------+----------------------+ | Ubuntu 24.04 | PASS | PASS | SKIPPED | PASS | SKIPPED | SKIPPED | +-------------------------------+--------------------+-------------------+-------------------------+------------------+-------------------+----------------------+ | FreeBSD 14.2 | PASS | SKIPPED | SKIPPED | SKIPPED | SKIPPED | SKIPPED | +-------------------------------+--------------------+-------------------+-------------------------+------------------+-------------------+----------------------+ | Alpine Linux 3.22.0 | PASS | SKIPPED | SKIPPED | SKIPPED | SKIPPED | SKIPPED | +-------------------------------+--------------------+-------------------+-------------------------+------------------+-------------------+----------------------+ | Windows Server 2022 | SKIPPED | SKIPPED | PASS | SKIPPED | PASS | PASS | +-------------------------------+--------------------+-------------------+-------------------------+------------------+-------------------+----------------------+ CentOS Stream 9 Kernel: 5.15 Compiler: gcc gcc (GCC) 11.5.0 20240719 (Red Hat 11.5.0-11) CentOS Stream 10 Kernel: 5.15 Compiler: gcc gcc (GCC) 14.2.1 20250110 (Red Hat 14.2.1-8) Debian GNU/Linux 12 Kernel: 5.15 Compiler: gcc gcc (Debian 12.2.0-14+deb12u1) 12.2.0 Ubuntu 20.04 Kernel: 4.19 Compiler: gcc gcc (Ubuntu 9.4.0-1ubuntu1~20.04.2) 9.4.0 Fedora Linux 42 Kernel: 5.15 Compiler: clang gcc (GCC) 15.2.1 20250808 (Red Hat 15.2.1-1) openSUSE Leap 15.6 Kernel: 5.15 Compiler: gcc gcc (SUSE Linux) 7.5.0 Red Hat Enterprise Linux 8.10 Kernel: 5.15 Compiler: gcc gcc (GCC) 8.5.0 20210514 (Red Hat 8.5.0-22) Red Hat Enterprise Linux 9.5 Kernel: 5.15 Compiler: gcc gcc (GCC) 11.5.0 20240719 (Red Hat 11.5.0-2) Ubuntu 22.04 Kernel: 5.15 Compiler: gcc gcc (Ubuntu 11.4.0-1ubuntu1~22.04) 11.4.0 Ubuntu 24.04 Kernel: 5.15 Compiler: gcc gcc (Ubuntu 13.3.0-6ubuntu2~24.04) 13.3.0 FreeBSD 14.2 Kernel: 14.2-RELEASE Compiler: clang 18.1.6 Alpine Linux 3.22.0 Kernel: 5.15 Compiler: gcc gcc (Alpine 14.2.0) 14.2.0 Windows Server 2022 Kernel: 10.0.20348.2031 Compiler: clang 15.0.7, gcc 14.1.0 (MinGW), and MSVC VS 19.39.33521 To view detailed results, visit: https://lab.dpdk.org/results/dashboard/patchsets/34261/ UNH-IOL DPDK Community Lab To manage your email subscriptions, visit: https://lab.dpdk.org/results/dashboard/preferences/subscriptions/