From mboxrd@z Thu Jan 1 00:00:00 1970 Return-Path: Received: from mails.dpdk.org (mails.dpdk.org [217.70.189.124]) by inbox.dpdk.org (Postfix) with ESMTP id 3EF1648925 for ; Mon, 13 Oct 2025 10:41:00 +0200 (CEST) Received: from mails.dpdk.org (localhost [127.0.0.1]) by mails.dpdk.org (Postfix) with ESMTP id 3A63C4013F; Mon, 13 Oct 2025 10:41:00 +0200 (CEST) Received: from mail-ua1-f100.google.com (mail-ua1-f100.google.com [209.85.222.100]) by mails.dpdk.org (Postfix) with ESMTP id D9F244013F for ; Mon, 13 Oct 2025 10:40:58 +0200 (CEST) Received: by mail-ua1-f100.google.com with SMTP id a1e0cc1a2514c-8e3d93c0626so2686924241.0 for ; Mon, 13 Oct 2025 01:40:58 -0700 (PDT) DKIM-Signature: v=1; a=rsa-sha256; c=relaxed/relaxed; d=iol.unh.edu; s=unh-iol; t=1760344858; x=1760949658; darn=dpdk.org; h=references:in-reply-to:cc:to:from:subject:message-id:date:from:to :cc:subject:date:message-id:reply-to; bh=erJ9zLohrlVVC2GMMIv0AOaABfR74Swi0RSXC0rOGFM=; b=N4Su8Bi0XeLX05xkaWrXaMuy+UXjbPOjTvNMka0OqRBr0470Luz8ruiyr3eEEGbFWI /HPvvu3TyIEvU93i73huZs3z7IM7bjP8GH5KOHEEessKr2itd8xYMjQ5HPOgkbxLiqqm Hy/H+y8PAtJaVeUJnWqCKw/GDOOnHK50cnZjw= X-Google-DKIM-Signature: v=1; a=rsa-sha256; c=relaxed/relaxed; d=1e100.net; s=20230601; t=1760344858; x=1760949658; h=references:in-reply-to:cc:to:from:subject:message-id:date :x-gm-message-state:from:to:cc:subject:date:message-id:reply-to; bh=erJ9zLohrlVVC2GMMIv0AOaABfR74Swi0RSXC0rOGFM=; b=DjrA/Wq8PFO4sPuTGvHq8scTYM4SqQakkw7fV758avehE6qs+iTTZCFNHFE7jCnaWD mxlMDbGXdY+pQMz2iOysivYwos7y8PXr6ycLDmgixVUy6en3X0o9Fw5wd9J48I7s9r7S g2XzzUNCXI+ksPdUdUuR0fIPigaYJ/N5xvLETRaqlOeV3oskIrxDDml2YyVoylDmk6Fj K2bI4wSFTFo0i87V1FiU9Ox8ApctDjNZFMTwBLvfoUzbDZr/okoi+WhDwKldUnMIDE3V v4P1fB6+lS+FbwtemprdGjVM3Andf+stal2lfeUoOB+RrnMMeBxrzYTfLzmEjbztJX2N cLsA== X-Gm-Message-State: AOJu0YxNnpSC0DzPXY1wsd07m7+odcNHFRewQG6V4YVJZEFi1Ty5KVlT jVe5YrtpBjGQgvJBjzUj6NK9jOLm5K97OGoD1kQvr5BLgSgMe0l8WPB8T+nhn7rlwvvrG36HDNK BZSe4mlff7q2Tw9HL+ade6bENMY1q9Z5aUaFjWj/Rq8/H X-Gm-Gg: ASbGnctSUq6YW1jDksBxCEwm2vb3T1bGH+FPrPOB2axBAelKRQaJ/o7HLvDs+n4aU1t UWBXC832GzsocJImoyBlOi1FH2gOZXvXxuPFyon9PB7RItaYgPDA0zh/PwVOa5XnUu7Sz2a0qg1 K/u1FAo2ACoPtRZhWfe8KXNdfyQq4+nFrnYW5jO6mbkOmU7FvnIo3YAZaKd3BVtR2MQ/FC6VIm1 BktkkTDNqNY6s9f/EVkG7jw7VUsRuDBHEnVb+uQcVbwRIBVF2Jtqqej6mognA9XG3d7s6IzbLHn lVYDT5JreL57LV5lvHrhnJeBYBVKmVhEFiqEO7br1LaQyE96mJ4yv/Syc/kidqkwUYGB9kK9 X-Google-Smtp-Source: AGHT+IFOCdtLi5XcmoYWseyTzUoSREXfLVm1RpOxUOhxcITFbrZkKdQc5XUu8UYUQ4YQKFO6PZHXfstsfhrl X-Received: by 2002:a05:6102:8392:10b0:59c:1727:f59d with SMTP id ada2fe7eead31-5d5d4d8c8b2mr8862595137.11.1760344858193; Mon, 13 Oct 2025 01:40:58 -0700 (PDT) Received: from postal.iol.unh.edu (postal.iol.unh.edu. [132.177.123.84]) by smtp-relay.gmail.com with ESMTPS id ada2fe7eead31-5d5fc4d87cfsm1243935137.0.2025.10.13.01.40.58 (version=TLS1_2 cipher=ECDHE-ECDSA-AES128-GCM-SHA256 bits=128/128); Mon, 13 Oct 2025 01:40:58 -0700 (PDT) X-Relaying-Domain: iol.unh.edu Date: Mon, 13 Oct 2025 01:40:58 -0700 (PDT) Message-ID: <68ecbb1a.050a0220.2f413a.cc8eSMTPIN_ADDED_MISSING@mx.google.com> Received: from [172.21.0.2] (unknown [172.18.0.240]) by postal.iol.unh.edu (Postfix) with ESMTP id E2BF46051830; Mon, 13 Oct 2025 04:40:57 -0400 (EDT) Subject: |SUCCESS| pw157474-157492 [PATCH] [v2,19/19] drivers: fix Klocwork i From: dpdklab@iol.unh.edu To: Test Report Cc: dpdk-test-reports@iol.unh.edu In-Reply-To: <20251013065949.200414-19-ndabilpuram@marvell.com> References: <20251013065949.200414-19-ndabilpuram@marvell.com> Content-Type: text/plain X-BeenThere: test-report@dpdk.org X-Mailman-Version: 2.1.29 Precedence: list List-Id: automatic DPDK test reports List-Unsubscribe: , List-Archive: List-Post: List-Help: List-Subscribe: , Errors-To: test-report-bounces@dpdk.org Test-Label: iol-unit-amd64-testing Test-Status: SUCCESS http://dpdk.org/patch/157492 _Testing PASS_ Submitter: Nithin Dabilpuram Date: Monday, October 13 2025 06:59:49 DPDK git baseline: Repo:dpdk-next-net-mrvl Branch: master CommitID:f3878b615e69a12087a6c5d212723478cfc79c31 157474-157492 --> testing pass Upstream job id: Generic-VM-Unit-Test-DPDK#31748 Test environment and result as below: +-------------------------------+----------------+ | Environment | dpdk_unit_test | +===============================+================+ | CentOS Stream 9 | PASS | +-------------------------------+----------------+ | CentOS Stream 10 | PASS | +-------------------------------+----------------+ | Fedora Linux 40 | PASS | +-------------------------------+----------------+ | Debian GNU/Linux 12 | PASS | +-------------------------------+----------------+ | Red Hat Enterprise Linux 8.10 | PASS | +-------------------------------+----------------+ | Fedora Linux 41 | PASS | +-------------------------------+----------------+ | Fedora Linux 42 | PASS | +-------------------------------+----------------+ | Ubuntu 22.04 | PASS | +-------------------------------+----------------+ | Ubuntu 20.04 | PASS | +-------------------------------+----------------+ | Ubuntu 24.04 | PASS | +-------------------------------+----------------+ | Red Hat Enterprise Linux 9.5 | PASS | +-------------------------------+----------------+ | Windows Server 2022 | PASS | +-------------------------------+----------------+ CentOS Stream 9 Kernel: 5.15 Compiler: gcc gcc (GCC) 11.5.0 20240719 (Red Hat 11.5.0-11) CentOS Stream 10 Kernel: 5.15 Compiler: gcc gcc (GCC) 14.2.1 20250110 (Red Hat 14.2.1-8) Fedora Linux 40 Kernel: 5.15 Compiler: clang gcc (GCC) 14.2.1 20240912 (Red Hat 14.2.1-3) Debian GNU/Linux 12 Kernel: 5.15 Compiler: gcc gcc (Debian 12.2.0-14+deb12u1) 12.2.0 Red Hat Enterprise Linux 8.10 Kernel: 5.15 Compiler: gcc gcc (GCC) 8.5.0 20210514 (Red Hat 8.5.0-22) Fedora Linux 41 Kernel: 5.15 Compiler: clang gcc (GCC) 14.3.1 20250523 (Red Hat 14.3.1-1) Fedora Linux 42 Kernel: 5.15 Compiler: clang gcc (GCC) 15.2.1 20250808 (Red Hat 15.2.1-1) Ubuntu 22.04 Kernel: 5.15 Compiler: gcc gcc (Ubuntu 11.4.0-1ubuntu1~22.04) 11.4.0 Ubuntu 20.04 Kernel: 5.15 Compiler: gcc gcc (Ubuntu 9.4.0-1ubuntu1~20.04.2) 9.4.0 Ubuntu 24.04 Kernel: 5.15 Compiler: gcc gcc (Ubuntu 13.3.0-6ubuntu2~24.04) 13.3.0 Red Hat Enterprise Linux 9.5 Kernel: 5.15 Compiler: gcc gcc (GCC) 11.5.0 20240719 (Red Hat 11.5.0-2) Windows Server 2022 Kernel: 10.0.20348.2031 Compiler: clang 15.0.7, gcc 14.1.0 (MinGW), and MSVC VS 19.39.33521 To view detailed results, visit: https://lab.dpdk.org/results/dashboard/patchsets/34261/ UNH-IOL DPDK Community Lab To manage your email subscriptions, visit: https://lab.dpdk.org/results/dashboard/preferences/subscriptions/