From mboxrd@z Thu Jan 1 00:00:00 1970 Return-Path: Received: from mails.dpdk.org (mails.dpdk.org [217.70.189.124]) by inbox.dpdk.org (Postfix) with ESMTP id 70B5348925 for ; Mon, 13 Oct 2025 10:42:29 +0200 (CEST) Received: from mails.dpdk.org (localhost [127.0.0.1]) by mails.dpdk.org (Postfix) with ESMTP id 6B0CD4013F; Mon, 13 Oct 2025 10:42:29 +0200 (CEST) Received: from mail-qv1-f100.google.com (mail-qv1-f100.google.com [209.85.219.100]) by mails.dpdk.org (Postfix) with ESMTP id 3F2574013F for ; Mon, 13 Oct 2025 10:42:28 +0200 (CEST) Received: by mail-qv1-f100.google.com with SMTP id 6a1803df08f44-796fe71deecso45194596d6.1 for ; Mon, 13 Oct 2025 01:42:28 -0700 (PDT) DKIM-Signature: v=1; a=rsa-sha256; c=relaxed/relaxed; d=iol.unh.edu; s=unh-iol; t=1760344947; x=1760949747; darn=dpdk.org; h=cc:to:from:subject:message-id:date:from:to:cc:subject:date :message-id:reply-to; bh=kDCy1Itu52GaSkc5AoQ6QSGYJTD0RVE8Rm1PsdwFbTc=; b=duc1ScEGwadDfwdm4+LggOpB837er0CG8twhkcCRTZdUAxwGRVcGf+1f34mHgnTgq1 brR/XiZpVZ3KHdQv4Y35YGrqatKsclixGLyuzOQ7Q+Yat1EKHxFTQXpKv9H6tbPD6vDQ GFiDGKzM2nL6YRQvh4OCx7pRHP6A645sYRZZA= X-Google-DKIM-Signature: v=1; a=rsa-sha256; c=relaxed/relaxed; d=1e100.net; s=20230601; t=1760344947; x=1760949747; h=cc:to:from:subject:message-id:date:x-gm-message-state:from:to:cc :subject:date:message-id:reply-to; bh=kDCy1Itu52GaSkc5AoQ6QSGYJTD0RVE8Rm1PsdwFbTc=; b=ek7V3ihS7iec2Fi8MF0OHAWe5VL9N/BkaPnvkrTgWA0B8AzvrIPMeOMvawj1FN9zaH sfAQoRNGZPe1t0+RjHqu5yipPOAUn3Kib07QapKNMYUA4PVOihjWfcwQV334RrGVg96h 9V1t4VqouzDa+hGYEH2sddbrn/NyDtlnbfb+qT963hk/bi3l+wnFa1kGY99g/cTp/pi5 SBpoNqqzhmvmvQksNSdQ66Nue1qlv0wbwttO45182CnhkaTurDuSyx/myGpIzUFWEn0s c8Xh3n0AZZPLBlOQWIN4iDeoDwFY5rGB6ftmg+Jv/+3xUSfi5N5ZUZyBVjyINtZdbjlJ bDuw== X-Gm-Message-State: AOJu0Ywl2wAnVZcLmCyS/01hEutid0aUHHYDUDWa1Zx9H0kuJ3sKeBm0 q6s49Z9SDPfwJY8ikXj0LYvrsDKajlL5LmRFdruOayPdElUPpANNzb+yDf4umUsXRkFuvkg4sFS K/XrdKhUkHQmDUsKQ+4PZqP1OND2LbtOw0Tlqp0SoW7Altoua0Z/I X-Gm-Gg: ASbGncv/vSl5lYWEA9ZDbgNZzD/Hc1VF7k73BiEVIgKw+OTEBfBomH5mECajmoKq8/+ X7MrOYORcqLcXz7kjrPAmLMiPj8d1eM/G+MW5Y9jZ9Jf5CO25fHjd/ftDrow+MYAp1cSWDTlHM8 zR3jYnitVkNpcziEEDoT/mgYL9BFQ8EacsvWgqZQx1EluIqVFCekiaanfoyvBxRTH1jHL6ohB5E Prk5BgP/0qV4XGY3U/m0wDNq1oNzOFvHv67HmkXiBQRrNs8c8URjWQh8+slioY7/UjQT+vEIjkT saugwwaB/2NkT0WD105llWFrPX1K58eqFi9t2h7YLOuT6JNMSQ== X-Google-Smtp-Source: AGHT+IEUrzt5hyLWAZWMSP41DBRSSec6UcyHFQA2Dqg9peQwHzL2bcP+oX2Vf8tkF4Qo29/heC7+8PKq9CS2 X-Received: by 2002:ad4:5812:0:b0:87b:ce4a:4134 with SMTP id 6a1803df08f44-87bce4a41c3mr106502686d6.65.1760344947612; Mon, 13 Oct 2025 01:42:27 -0700 (PDT) Received: from postal.iol.unh.edu (postal.iol.unh.edu. [2606:4100:3880:1234::84]) by smtp-relay.gmail.com with ESMTPS id 6a1803df08f44-87bc346163bsm8223596d6.12.2025.10.13.01.42.27 (version=TLS1_2 cipher=ECDHE-ECDSA-AES128-GCM-SHA256 bits=128/128); Mon, 13 Oct 2025 01:42:27 -0700 (PDT) X-Relaying-Domain: iol.unh.edu Date: Mon, 13 Oct 2025 01:42:27 -0700 (PDT) Message-ID: <68ecbb73.0c0a0220.1d2397.89d8SMTPIN_ADDED_MISSING@mx.google.com> Received: from [172.21.0.3] (unknown [172.18.0.240]) by postal.iol.unh.edu (Postfix) with ESMTP id 56FCA6051830; Mon, 13 Oct 2025 04:42:27 -0400 (EDT) Subject: |SUCCESS| [GIT MASTER] b287e404643aeab5bb5db084c142789df187844e From: dpdklab@iol.unh.edu To: Test Report Cc: dpdk-test-reports@iol.unh.edu, Xueming Li , Christian Ehrhardt , Kevin Traynor , Luca Boccassi Content-Type: text/plain X-BeenThere: test-report@dpdk.org X-Mailman-Version: 2.1.29 Precedence: list List-Id: automatic DPDK test reports List-Unsubscribe: , List-Archive: List-Post: List-Help: List-Subscribe: , Errors-To: test-report-bounces@dpdk.org _Testing PASS_ Branch: tags/v24.11 b287e404643aeab5bb5db084c142789df187844e --> testing pass Upstream job id: Generic-DPDK-Compile-Meson#433590 Test environment and result as below: +------------------------------+--------------------+ | Environment | dpdk_meson_compile | +==============================+====================+ | Red Hat Enterprise Linux 9.5 | PASS | +------------------------------+--------------------+ | Ubuntu 20.04 | PASS | +------------------------------+--------------------+ | Debian GNU/Linux 12 | PASS | +------------------------------+--------------------+ | Ubuntu 22.04 | PASS | +------------------------------+--------------------+ | Fedora Linux 42 | PASS | +------------------------------+--------------------+ | Ubuntu 24.04 | PASS | +------------------------------+--------------------+ | CentOS Stream 9 | PASS | +------------------------------+--------------------+ | CentOS Stream 10 | PASS | +------------------------------+--------------------+ Red Hat Enterprise Linux 9.5 Kernel: 5.4 Compiler: gcc gcc (GCC) 11.5.0 20240719 (Red Hat 11.5.0-2) Ubuntu 20.04 Kernel: 5.4 Compiler: gcc gcc (Ubuntu 9.4.0-1ubuntu1~20.04.2) 9.4.0 Debian GNU/Linux 12 Kernel: 5.4 Compiler: gcc gcc (Debian 12.2.0-14+deb12u1) 12.2.0 Ubuntu 22.04 Kernel: 5.4 Compiler: gcc gcc (Ubuntu 11.4.0-1ubuntu1~22.04) 11.4.0 Fedora Linux 42 Kernel: 5.4 Compiler: gcc gcc (GCC) 15.2.1 20250808 (Red Hat 15.2.1-1) Ubuntu 24.04 Kernel: 5.4 Compiler: gcc gcc (Ubuntu 13.3.0-6ubuntu2~24.04) 13.3.0 CentOS Stream 9 Kernel: 5.4 Compiler: gcc gcc (GCC) 11.5.0 20240719 (Red Hat 11.5.0-11) CentOS Stream 10 Kernel: 5.4 Compiler: gcc gcc (GCC) 14.2.1 20250110 (Red Hat 14.2.1-8) To view detailed results, visit: https://lab.dpdk.org/results/dashboard/tarballs/35183/ UNH-IOL DPDK Community Lab To manage your email subscriptions, visit: https://lab.dpdk.org/results/dashboard/preferences/subscriptions/