From mboxrd@z Thu Jan 1 00:00:00 1970 Return-Path: Received: from mails.dpdk.org (mails.dpdk.org [217.70.189.124]) by inbox.dpdk.org (Postfix) with ESMTP id 8603848925 for ; Mon, 13 Oct 2025 10:42:50 +0200 (CEST) Received: from mails.dpdk.org (localhost [127.0.0.1]) by mails.dpdk.org (Postfix) with ESMTP id 81AFF4013F; Mon, 13 Oct 2025 10:42:50 +0200 (CEST) Received: from mail-io1-f97.google.com (mail-io1-f97.google.com [209.85.166.97]) by mails.dpdk.org (Postfix) with ESMTP id 1A75F4013F for ; Mon, 13 Oct 2025 10:42:49 +0200 (CEST) Received: by mail-io1-f97.google.com with SMTP id ca18e2360f4ac-91e578e2a61so174385039f.2 for ; Mon, 13 Oct 2025 01:42:49 -0700 (PDT) DKIM-Signature: v=1; a=rsa-sha256; c=relaxed/relaxed; d=iol.unh.edu; s=unh-iol; t=1760344968; x=1760949768; darn=dpdk.org; h=references:in-reply-to:cc:to:from:subject:message-id:date:from:to :cc:subject:date:message-id:reply-to; bh=ZV5iET5coOkGSN2M/DxrVonR1EiA7Tlx/yRePn2a5hk=; b=i06V5pnp1ewDjxIcKlWo/MqkuKpuyiU64ZDIpyba2eYHINiKmh/l713Bx81U/vrrl4 CxflxQqBjvgUmPGCDU/Z4hPriqWjpbL37IYtnW/S+jOHCRiUzARNuJ5tMpQcjE7OS2pZ rA3YpicMVYm/VqD7SCMrGouISSWqS4lJYEEu0= X-Google-DKIM-Signature: v=1; a=rsa-sha256; c=relaxed/relaxed; d=1e100.net; s=20230601; t=1760344968; x=1760949768; h=references:in-reply-to:cc:to:from:subject:message-id:date :x-gm-message-state:from:to:cc:subject:date:message-id:reply-to; bh=ZV5iET5coOkGSN2M/DxrVonR1EiA7Tlx/yRePn2a5hk=; b=Y3ocVrBfUYIEk0/A8gFZ5JmzXMp1s1hy39NUrPjgxzDjJSwIssFLdCSe8FRPMbNm2+ 4eD6WTZ29zIAQxXzFcCYQ8cklth54I5Cc3UYo3YN7Gb6D/94ZblZt+kEaxVLolyzdtd8 ZehgZLJjjGcgq/PBcQkQdyqnIRMuG+uhfhlBcvco2v5EJikGHDYcUa7XiwmXw31fs3Ht Z2DWs7MaD5bc1HZJXwMWlEEvwRfEcZ5iQ0KghLG3K2s1CYgWO/1EmgUPhVqbuN/cXdwd pPBf0CtP/V7TnvF35Ta1R+vnDiyesGnQ8SSUNYMDaMLJlwTzdo3PrD8qB4QkU24BWEXR cb1w== X-Gm-Message-State: AOJu0Yy1fpSHkaQ8r37J9+7XLfue+ooERqevrOlNosJQzTNdKECxHfXh Cl5pvc+7L4+86AXCDsXK6WRk6X2eMaHGHkj9WsetE27/szeJactAfEoKeK3GwhJxcpTXnHeVSnX Efvj7VGBPGPgItsQ2gzFcKJjwft6PtzzTTL139KBuZGXe X-Gm-Gg: ASbGncvGwRscJK77OR2oRp+SORumSuE08gF+g0zlBbNR8SlIFRpQnXCGzKeeDFWDkn8 ZW6FnneWf1PSzruYDTZVAAWaweSPUMYK718T0PgHzb4no8X5Pk4NjjMqCrq8G7VOixhyFPg1g5m TgCehBgvYCQd2Hc0L7E4CASV2BheAftDCNQQbR9bQlGIjhTVT+y6Jwf77J4rcqNkADpLndYO+/z ELB9x9PxzVgyhy2GMyWpEFXbRFz8fbdipbroSSV5Gtzh0kY5TJQGCY2/EfZnQK9DMaVGfbQK1T+ 46hToPazlpUWg8RG9RrX8LfRgbvYkc0TQawxwSswoC2V0mwMKb83seFvcaUWCB4ue78Sf3Jy X-Google-Smtp-Source: AGHT+IE53zH75jX1eL3ReCsHNrAT6rz734Y37TH3oY/+it0YDHxhl/OKGF2hfLqn2cQTf5JN3wMCr+cN2msN X-Received: by 2002:a05:6602:1490:b0:93b:aea9:ad5b with SMTP id ca18e2360f4ac-93bd199b1c3mr2252884739f.12.1760344968354; Mon, 13 Oct 2025 01:42:48 -0700 (PDT) Received: from postal.iol.unh.edu (postal.iol.unh.edu. [132.177.123.84]) by smtp-relay.gmail.com with ESMTPS id 8926c6da1cb9f-58f6d041f28sm801065173.7.2025.10.13.01.42.48 (version=TLS1_2 cipher=ECDHE-ECDSA-AES128-GCM-SHA256 bits=128/128); Mon, 13 Oct 2025 01:42:48 -0700 (PDT) X-Relaying-Domain: iol.unh.edu Date: Mon, 13 Oct 2025 01:42:48 -0700 (PDT) Message-ID: <68ecbb88.050a0220.18e08d.75fcSMTPIN_ADDED_MISSING@mx.google.com> Received: from [172.21.0.3] (unknown [172.18.0.240]) by postal.iol.unh.edu (Postfix) with ESMTP id B50176051830; Mon, 13 Oct 2025 04:42:47 -0400 (EDT) Subject: |SUCCESS| pw157472 [PATCH] [v3,1/1] lib/dma: introduce inter-process From: dpdklab@iol.unh.edu To: Test Report Cc: dpdk-test-reports@iol.unh.edu In-Reply-To: <20251013042136.1727540-1-vattunuru@marvell.com> References: <20251013042136.1727540-1-vattunuru@marvell.com> Content-Type: text/plain X-BeenThere: test-report@dpdk.org X-Mailman-Version: 2.1.29 Precedence: list List-Id: automatic DPDK test reports List-Unsubscribe: , List-Archive: List-Post: List-Help: List-Subscribe: , Errors-To: test-report-bounces@dpdk.org Test-Label: iol-compile-arm64-testing Test-Status: SUCCESS http://dpdk.org/patch/157472 _Testing PASS_ Submitter: Vamsi Krishna Date: Monday, October 13 2025 04:21:36 DPDK git baseline: Repo:dpdk Branch: master CommitID:2b403dd8fb37d0ba13723e44ffc7ee2c2795f838 157472 --> testing pass Upstream job id: Generic-DPDK-Compile-Meson#433615 Test environment and result as below: +------------------------------+--------------------+ | Environment | dpdk_meson_compile | +==============================+====================+ | Red Hat Enterprise Linux 9.5 | PASS | +------------------------------+--------------------+ | Ubuntu 20.04 | PASS | +------------------------------+--------------------+ | Fedora Linux 42 | PASS | +------------------------------+--------------------+ | Debian GNU/Linux 12 | PASS | +------------------------------+--------------------+ | CentOS Stream 9 | PASS | +------------------------------+--------------------+ | CentOS Stream 10 | PASS | +------------------------------+--------------------+ | Ubuntu 22.04 | PASS | +------------------------------+--------------------+ | Ubuntu 24.04 | PASS | +------------------------------+--------------------+ Red Hat Enterprise Linux 9.5 Kernel: 5.4 Compiler: gcc gcc (GCC) 11.5.0 20240719 (Red Hat 11.5.0-2) Ubuntu 20.04 Kernel: 5.15 Compiler: aarch64-linux-gnu-gcc gcc (Ubuntu 9.4.0-1ubuntu1~20.04.2) 9.4.0 Fedora Linux 42 Kernel: 5.4 Compiler: gcc gcc (GCC) 15.2.1 20250808 (Red Hat 15.2.1-1) Debian GNU/Linux 12 Kernel: 5.4 Compiler: gcc gcc (Debian 12.2.0-14+deb12u1) 12.2.0 CentOS Stream 9 Kernel: 5.4 Compiler: gcc gcc (GCC) 11.5.0 20240719 (Red Hat 11.5.0-11) CentOS Stream 10 Kernel: 5.4 Compiler: gcc gcc (GCC) 14.2.1 20250110 (Red Hat 14.2.1-8) Ubuntu 22.04 Kernel: 5.4 Compiler: gcc gcc (Ubuntu 11.4.0-1ubuntu1~22.04) 11.4.0 Ubuntu 24.04 Kernel: 5.4 Compiler: gcc gcc (Ubuntu 13.3.0-6ubuntu2~24.04) 13.3.0 To view detailed results, visit: https://lab.dpdk.org/results/dashboard/patchsets/34259/ UNH-IOL DPDK Community Lab To manage your email subscriptions, visit: https://lab.dpdk.org/results/dashboard/preferences/subscriptions/