From mboxrd@z Thu Jan 1 00:00:00 1970 Return-Path: Received: from mails.dpdk.org (mails.dpdk.org [217.70.189.124]) by inbox.dpdk.org (Postfix) with ESMTP id 1B10D48925 for ; Mon, 13 Oct 2025 10:47:47 +0200 (CEST) Received: from mails.dpdk.org (localhost [127.0.0.1]) by mails.dpdk.org (Postfix) with ESMTP id F0FF94013F; Mon, 13 Oct 2025 10:47:46 +0200 (CEST) Received: from mail-io1-f98.google.com (mail-io1-f98.google.com [209.85.166.98]) by mails.dpdk.org (Postfix) with ESMTP id 802FC4013F for ; Mon, 13 Oct 2025 10:47:46 +0200 (CEST) Received: by mail-io1-f98.google.com with SMTP id ca18e2360f4ac-9032edd72c1so484059039f.3 for ; Mon, 13 Oct 2025 01:47:46 -0700 (PDT) DKIM-Signature: v=1; a=rsa-sha256; c=relaxed/relaxed; d=iol.unh.edu; s=unh-iol; t=1760345266; x=1760950066; darn=dpdk.org; h=references:in-reply-to:cc:to:from:subject:message-id:date:from:to :cc:subject:date:message-id:reply-to; bh=03lTDJa42Jt6v7ngiUJdB6/vWdrnSBXmjYPVaOuvpTw=; b=U5Hz2BibyWVjF+ZbwHV+i10UfERWCPY7waSfHjMqZ/9UD2PEvdKv0qOBehT7LDRg5x YLcfdvWnuRrPPBbN4f9mswg6nbKMheIT2HQ9Vxx2P/Yya7pkUxv/TjJCtQ1j7zhm8PEw C3Lc2hHV+CHNh0qv0tIfPPn8At+9YJBO6h4TQ= X-Google-DKIM-Signature: v=1; a=rsa-sha256; c=relaxed/relaxed; d=1e100.net; s=20230601; t=1760345266; x=1760950066; h=references:in-reply-to:cc:to:from:subject:message-id:date :x-gm-message-state:from:to:cc:subject:date:message-id:reply-to; bh=03lTDJa42Jt6v7ngiUJdB6/vWdrnSBXmjYPVaOuvpTw=; b=bAUFy+wUxbsrOzAqHSRK7P26MP40Y6m8hzBy1XlaHw28J+N7qv5A0BENBg07N9B4Qc xynhd44JOme3Bmarg959M1Ncmk5T2vqrT5gJoQE7luu+Z9SjYoR+V4p46+Tmas4NZNTA VgTqm+Y5a+Si7TIdcos+btVIFayLYI0knncA0xjMzg1wqv0kw9T64zgIi0ZaUKPrFeNB C8xt0m+RavOhjYVtntEDIVcEGZ4nUgCp4sFb0ToYSzepMRr1caoBc3vuHI7D8xuK+SL/ tYPDrBN1QIMUDu3U9TlYz1LmMB9ODTMd1dRpWyv5nV4x4WZJIhzc1k2XgpTQ0lbgbell T1Zg== X-Gm-Message-State: AOJu0YxX8CNeuc5wMX2BsPVGWpPV6K8GchA6Dg0oE2T1L2RNquq+cwT2 cqwC6nFcLUrRBvO+IkdsLKsAgIe6p+uxbp8/BktDgQocl9lNJl5smESYRtr7M31lzOdC5N155kY 3U/O3Xfr62OTh9wVzRrggi+QzR5tFQDcfIF/R38W5ulP6MoDJ7nIRU2VTkPRA X-Gm-Gg: ASbGncuMJ6iknU8ibFB5bCjKQVafTLWgz0FNnzubzH45z1oePoacJAL3ntlc6kWX+/A zWzdYZXFs6Ty3SyrnDi7f4Pvzzn8DEJAVqkPQ7WD7NGnq2juB+E9WrghNrmRvt6ZSF+uuez+lGo FLDR8J9V6iND2JL/gVzZa1EqC8aWe/A4XX5Ar2+nn4SQXWRYW8+4Nm9xnwLcaIK0tBfI8JLUHGb tdZXXGaFXl/mCFoTJIB830blOYtAtb5V24e09lAASuPhpN2N19ioXxUn02+7/E3tJVpfmi0j7v4 uXg5WvZEjq4kqY322JgL5fb5sA/3ByFm0rWHVR+gmQ2iuC3Y2A== X-Google-Smtp-Source: AGHT+IHvcEPsZCxQK3InT3xHxoYuWUUBj7Jef5J4fYgFwgANSrLaBhKTf34LScBu6xse2m3yAfGRhokn3/pn X-Received: by 2002:a05:6e02:1d83:b0:42f:8b46:bc5f with SMTP id e9e14a558f8ab-42f8b46bf0emr234359215ab.17.1760345265786; Mon, 13 Oct 2025 01:47:45 -0700 (PDT) Received: from postal.iol.unh.edu (postal.iol.unh.edu. [2606:4100:3880:1234::84]) by smtp-relay.gmail.com with ESMTPS id 8926c6da1cb9f-58f6d041114sm805537173.10.2025.10.13.01.47.45 (version=TLS1_2 cipher=ECDHE-ECDSA-AES128-GCM-SHA256 bits=128/128); Mon, 13 Oct 2025 01:47:45 -0700 (PDT) X-Relaying-Domain: iol.unh.edu Date: Mon, 13 Oct 2025 01:47:45 -0700 (PDT) Message-ID: <68ecbcb1.050a0220.120fb1.76d7SMTPIN_ADDED_MISSING@mx.google.com> Received: from [172.21.0.2] (unknown [172.18.0.240]) by postal.iol.unh.edu (Postfix) with ESMTP id 51D1E6051830; Mon, 13 Oct 2025 04:47:45 -0400 (EDT) Subject: |SUCCESS| pw157474-157492 [PATCH] [v2,19/19] drivers: fix Klocwork i From: dpdklab@iol.unh.edu To: Test Report Cc: dpdk-test-reports@iol.unh.edu In-Reply-To: <20251013065949.200414-19-ndabilpuram@marvell.com> References: <20251013065949.200414-19-ndabilpuram@marvell.com> Content-Type: text/plain X-BeenThere: test-report@dpdk.org X-Mailman-Version: 2.1.29 Precedence: list List-Id: automatic DPDK test reports List-Unsubscribe: , List-Archive: List-Post: List-Help: List-Subscribe: , Errors-To: test-report-bounces@dpdk.org Test-Label: iol-unit-amd64-testing Test-Status: SUCCESS http://dpdk.org/patch/157492 _Testing PASS_ Submitter: Nithin Dabilpuram Date: Monday, October 13 2025 06:59:49 DPDK git baseline: Repo:dpdk-next-net-mrvl Branch: master CommitID:f3878b615e69a12087a6c5d212723478cfc79c31 157474-157492 --> testing pass Upstream job id: Generic-VM-Unit-Test-DPDK#31749 Test environment and result as below: +-------------------------------+----------------+ | Environment | dpdk_unit_test | +===============================+================+ | CentOS Stream 9 | PASS | +-------------------------------+----------------+ | CentOS Stream 10 | PASS | +-------------------------------+----------------+ | Fedora Linux 40 | PASS | +-------------------------------+----------------+ | Debian GNU/Linux 12 | PASS | +-------------------------------+----------------+ | Red Hat Enterprise Linux 8.10 | PASS | +-------------------------------+----------------+ | Fedora Linux 41 | PASS | +-------------------------------+----------------+ | Fedora Linux 42 | PASS | +-------------------------------+----------------+ | Ubuntu 22.04 | PASS | +-------------------------------+----------------+ | Ubuntu 20.04 | PASS | +-------------------------------+----------------+ | Ubuntu 24.04 | PASS | +-------------------------------+----------------+ | Red Hat Enterprise Linux 9.5 | PASS | +-------------------------------+----------------+ | Windows Server 2022 | PASS | +-------------------------------+----------------+ CentOS Stream 9 Kernel: 5.15 Compiler: gcc gcc (GCC) 11.5.0 20240719 (Red Hat 11.5.0-11) CentOS Stream 10 Kernel: 5.15 Compiler: gcc gcc (GCC) 14.2.1 20250110 (Red Hat 14.2.1-8) Fedora Linux 40 Kernel: 5.15 Compiler: clang gcc (GCC) 14.2.1 20240912 (Red Hat 14.2.1-3) Debian GNU/Linux 12 Kernel: 5.15 Compiler: gcc gcc (Debian 12.2.0-14+deb12u1) 12.2.0 Red Hat Enterprise Linux 8.10 Kernel: 5.15 Compiler: gcc gcc (GCC) 8.5.0 20210514 (Red Hat 8.5.0-22) Fedora Linux 41 Kernel: 5.15 Compiler: clang gcc (GCC) 14.3.1 20250523 (Red Hat 14.3.1-1) Fedora Linux 42 Kernel: 5.15 Compiler: clang gcc (GCC) 15.2.1 20250808 (Red Hat 15.2.1-1) Ubuntu 22.04 Kernel: 5.15 Compiler: gcc gcc (Ubuntu 11.4.0-1ubuntu1~22.04) 11.4.0 Ubuntu 20.04 Kernel: 5.15 Compiler: gcc gcc (Ubuntu 9.4.0-1ubuntu1~20.04.2) 9.4.0 Ubuntu 24.04 Kernel: 5.15 Compiler: gcc gcc (Ubuntu 13.3.0-6ubuntu2~24.04) 13.3.0 Red Hat Enterprise Linux 9.5 Kernel: 5.15 Compiler: gcc gcc (GCC) 11.5.0 20240719 (Red Hat 11.5.0-2) Windows Server 2022 Kernel: 10.0.20348.2031 Compiler: clang 15.0.7, gcc 14.1.0 (MinGW), and MSVC VS 19.39.33521 To view detailed results, visit: https://lab.dpdk.org/results/dashboard/patchsets/34261/ UNH-IOL DPDK Community Lab To manage your email subscriptions, visit: https://lab.dpdk.org/results/dashboard/preferences/subscriptions/