From mboxrd@z Thu Jan 1 00:00:00 1970 Return-Path: Received: from mails.dpdk.org (mails.dpdk.org [217.70.189.124]) by inbox.dpdk.org (Postfix) with ESMTP id 108F448925 for ; Mon, 13 Oct 2025 10:58:45 +0200 (CEST) Received: from mails.dpdk.org (localhost [127.0.0.1]) by mails.dpdk.org (Postfix) with ESMTP id 079EE4013F; Mon, 13 Oct 2025 10:58:45 +0200 (CEST) Received: from mail-pj1-f100.google.com (mail-pj1-f100.google.com [209.85.216.100]) by mails.dpdk.org (Postfix) with ESMTP id 7D9854013F for ; Mon, 13 Oct 2025 10:58:43 +0200 (CEST) Received: by mail-pj1-f100.google.com with SMTP id 98e67ed59e1d1-330631e534eso4372328a91.0 for ; Mon, 13 Oct 2025 01:58:43 -0700 (PDT) DKIM-Signature: v=1; a=rsa-sha256; c=relaxed/relaxed; d=iol.unh.edu; s=unh-iol; t=1760345922; x=1760950722; darn=dpdk.org; h=references:in-reply-to:cc:to:from:subject:message-id:date:from:to :cc:subject:date:message-id:reply-to; bh=pgQDgsOiKMfN2tItFYpRUp0Js+ODib4JrqHESRcyhmg=; b=hI3QJulLwTPNSrLapbU56AwzkOwoGIxQ/zHR8xPPpcyTJ/jEbOCMWHaJ6N1cENdECS cK3hpBP5ZgZsfU8TN4Vhe90eWS5C17902BMCoOGHszJqIvRvd+ZAXyskdcyrIUkiSzcq CWfp+yj3+J6ETbF7MmUTpE2XsdEdCEb8XeQLM= X-Google-DKIM-Signature: v=1; a=rsa-sha256; c=relaxed/relaxed; d=1e100.net; s=20230601; t=1760345922; x=1760950722; h=references:in-reply-to:cc:to:from:subject:message-id:date :x-gm-message-state:from:to:cc:subject:date:message-id:reply-to; bh=pgQDgsOiKMfN2tItFYpRUp0Js+ODib4JrqHESRcyhmg=; b=iJYgp+GecDB1dLWjEoZIHwNIIB6r6pFB4xECVfeWau+MYf7ocJR32FA2VZpiFHI7Me ojmiO3rOe2tBagfbDjSRBN56wlLWVYQN4cxhvaU4UmB2L+GkaG7cCMQpRwtwv1UnCaSS ftIJdUdvlD2QQkv3PUAkOkDz4BYLWzJp7RlwWLHJCA6g6AUwwlWd4zxpIn+lZVIog2Ya +jwf4WAh5ATFeJ/GOTiqG3m0czXd94bSKCJy7j0nYzEkPzbY5jL0F1SxAkhoHcIvflG6 gKVtxR4RUENWOicYvvxb84Vara5Z7I3L4XN9Jkdju1PYtwTkJZAXuJabNC4oAE5WbPe5 m/Sw== X-Gm-Message-State: AOJu0Yx4Qf1LXJov/sRa2SJXPIEWXFnPiRotc2rQVa+Ui+sqUeBHYNLz VJFkgI2wrl8u/CXBxahq8Nx6MsxQ6I7X1JwRAiIaKrTg+kHUls0M9+XUifUTc0L6wL/EAY+sFmz cxUiOlXkZPjqCPds0iPw3cQmx6of9rlwkHh0/ew0yuV0DvSmdGv/Du/GyUFUL X-Gm-Gg: ASbGnctjeQUF2tycZukGFnKSY/0VeMR59va/wZ/lq5LyT2+HFkItoMeYpUsL5GH29KJ zxuOM1/HipSvKBfwyRlUkGQksej607rDKVrX1eFA8H7cRUPyNxOBQ8TsEDRWkUH7EafJsfqwBOw k/Jl79Qc7Tnucu61hQD33sv2jXYooAKY436467fJhCd7feEfSNetm+xbtIrqYqf/uyyNc6GAsUr AdwJFo0hoWGW3wrFs6UYcCsaFGI6rcsDMOvV2iHMATcmH2z19JGgveDQL3cSeHArRbMceW64vmh mTlFxLqDkL8zc1iFMvBhjQpihQpKYQGsI86epet5h8qeXcCh7w== X-Google-Smtp-Source: AGHT+IGqhwy9GvRzlaUN5ffRasx+UPjHjDL1HfZjrVBOXvQ+pQwJU9lLmicW2tkAR1+6vFGktb+07W6Tl8Ah X-Received: by 2002:a17:90b:4d0a:b0:330:6edd:9cf with SMTP id 98e67ed59e1d1-33b5127b26cmr26731330a91.22.1760345922648; Mon, 13 Oct 2025 01:58:42 -0700 (PDT) Received: from postal.iol.unh.edu (postal.iol.unh.edu. [2606:4100:3880:1234::84]) by smtp-relay.gmail.com with ESMTPS id 98e67ed59e1d1-33b626b3883sm812319a91.3.2025.10.13.01.58.42 (version=TLS1_2 cipher=ECDHE-ECDSA-AES128-GCM-SHA256 bits=128/128); Mon, 13 Oct 2025 01:58:42 -0700 (PDT) X-Relaying-Domain: iol.unh.edu Date: Mon, 13 Oct 2025 01:58:42 -0700 (PDT) Message-ID: <68ecbf42.170a0220.34ce5.6f5eSMTPIN_ADDED_MISSING@mx.google.com> Received: from [172.21.0.3] (unknown [172.18.0.240]) by postal.iol.unh.edu (Postfix) with ESMTP id D52886051830; Mon, 13 Oct 2025 04:58:41 -0400 (EDT) Subject: |SUCCESS| pw157472 [PATCH] [v3,1/1] lib/dma: introduce inter-process From: dpdklab@iol.unh.edu To: Test Report Cc: dpdk-test-reports@iol.unh.edu In-Reply-To: <20251013042136.1727540-1-vattunuru@marvell.com> References: <20251013042136.1727540-1-vattunuru@marvell.com> Content-Type: text/plain X-BeenThere: test-report@dpdk.org X-Mailman-Version: 2.1.29 Precedence: list List-Id: automatic DPDK test reports List-Unsubscribe: , List-Archive: List-Post: List-Help: List-Subscribe: , Errors-To: test-report-bounces@dpdk.org Test-Label: iol-unit-arm64-testing Test-Status: SUCCESS http://dpdk.org/patch/157472 _Testing PASS_ Submitter: Vamsi Krishna Date: Monday, October 13 2025 04:21:36 DPDK git baseline: Repo:dpdk Branch: master CommitID:2b403dd8fb37d0ba13723e44ffc7ee2c2795f838 157472 --> testing pass Upstream job id: Generic-Unit-Test-DPDK#380704 Test environment and result as below: +------------------------------+------------------------------+---------------------------+--------------+----------------+ | Environment | cryptodev_sw_snow3g_autotest | cryptodev_sw_zuc_autotest | lpm_autotest | dpdk_unit_test | +==============================+==============================+===========================+==============+================+ | Debian 12 (arm) | PASS | PASS | SKIPPED | SKIPPED | +------------------------------+------------------------------+---------------------------+--------------+----------------+ | Ubuntu 20.04 | SKIPPED | SKIPPED | PASS | PASS | +------------------------------+------------------------------+---------------------------+--------------+----------------+ | Red Hat Enterprise Linux 9.5 | SKIPPED | SKIPPED | SKIPPED | PASS | +------------------------------+------------------------------+---------------------------+--------------+----------------+ | CentOS Stream 9 | SKIPPED | SKIPPED | SKIPPED | PASS | +------------------------------+------------------------------+---------------------------+--------------+----------------+ | CentOS Stream 10 | SKIPPED | SKIPPED | SKIPPED | PASS | +------------------------------+------------------------------+---------------------------+--------------+----------------+ | Fedora Linux 41 | SKIPPED | SKIPPED | SKIPPED | PASS | +------------------------------+------------------------------+---------------------------+--------------+----------------+ | Debian GNU/Linux 12 | SKIPPED | SKIPPED | SKIPPED | PASS | +------------------------------+------------------------------+---------------------------+--------------+----------------+ | Fedora Linux 42 | SKIPPED | SKIPPED | SKIPPED | PASS | +------------------------------+------------------------------+---------------------------+--------------+----------------+ | Fedora Linux 40 | SKIPPED | SKIPPED | SKIPPED | PASS | +------------------------------+------------------------------+---------------------------+--------------+----------------+ | Ubuntu 24.04 | SKIPPED | SKIPPED | SKIPPED | PASS | +------------------------------+------------------------------+---------------------------+--------------+----------------+ | Ubuntu 22.04 | SKIPPED | SKIPPED | SKIPPED | PASS | +------------------------------+------------------------------+---------------------------+--------------+----------------+ Debian 12 (arm) Kernel: Depends on container host Compiler: gcc (Debian 12.2.0-14) 12.2.0 Ubuntu 20.04 Kernel: 5.4 Compiler: gcc gcc (Ubuntu 9.4.0-1ubuntu1~20.04.2) 9.4.0 Red Hat Enterprise Linux 9.5 Kernel: 5.4 Compiler: gcc gcc (GCC) 11.5.0 20240719 (Red Hat 11.5.0-2) CentOS Stream 9 Kernel: 5.4 Compiler: gcc gcc (GCC) 11.5.0 20240719 (Red Hat 11.5.0-11) CentOS Stream 10 Kernel: 5.4 Compiler: gcc gcc (GCC) 14.2.1 20250110 (Red Hat 14.2.1-8) Fedora Linux 41 Kernel: 5.4 Compiler: clang gcc (GCC) 14.3.1 20250523 (Red Hat 14.3.1-1) Debian GNU/Linux 12 Kernel: 5.4 Compiler: gcc gcc (Debian 12.2.0-14+deb12u1) 12.2.0 Fedora Linux 42 Kernel: 5.4 Compiler: gcc gcc (GCC) 15.2.1 20250808 (Red Hat 15.2.1-1) Fedora Linux 40 Kernel: 5.4 Compiler: gcc gcc (GCC) 14.2.1 20240912 (Red Hat 14.2.1-3) Ubuntu 24.04 Kernel: 5.4 Compiler: gcc gcc (Ubuntu 13.3.0-6ubuntu2~24.04) 13.3.0 Ubuntu 22.04 Kernel: 5.4 Compiler: gcc gcc (Ubuntu 11.4.0-1ubuntu1~22.04) 11.4.0 To view detailed results, visit: https://lab.dpdk.org/results/dashboard/patchsets/34259/ UNH-IOL DPDK Community Lab To manage your email subscriptions, visit: https://lab.dpdk.org/results/dashboard/preferences/subscriptions/