From mboxrd@z Thu Jan 1 00:00:00 1970 Return-Path: Received: from mails.dpdk.org (mails.dpdk.org [217.70.189.124]) by inbox.dpdk.org (Postfix) with ESMTP id 1CE1148926 for ; Mon, 13 Oct 2025 12:07:11 +0200 (CEST) Received: from mails.dpdk.org (localhost [127.0.0.1]) by mails.dpdk.org (Postfix) with ESMTP id 196FB4013F; Mon, 13 Oct 2025 12:07:11 +0200 (CEST) Received: from mail-pj1-f100.google.com (mail-pj1-f100.google.com [209.85.216.100]) by mails.dpdk.org (Postfix) with ESMTP id 801804013F for ; Mon, 13 Oct 2025 12:07:09 +0200 (CEST) Received: by mail-pj1-f100.google.com with SMTP id 98e67ed59e1d1-33082c95fd0so4918920a91.1 for ; Mon, 13 Oct 2025 03:07:09 -0700 (PDT) DKIM-Signature: v=1; a=rsa-sha256; c=relaxed/relaxed; d=iol.unh.edu; s=unh-iol; t=1760350029; x=1760954829; darn=dpdk.org; h=references:in-reply-to:cc:to:from:subject:message-id:date:from:to :cc:subject:date:message-id:reply-to; bh=+GgkYcHsumU0Z3bo0MlHMhd2b7NneWVSIhb+7ChjKKs=; b=DKSxSK+Hi7Tjqgj6f85eTnuuHkoDK3sjbkriwoBP8gZxjxGkxv5js9Os8S45S7smlV 6oLZu4R/KrhVE+W/u3m/mRf20AX/zr6baWVYovlKyTsgxsudo6EmfcGF05SFtyOOQ9z9 LKDeynNfQDHVcGeCGIljMb63cCYFQ78ffoH20= X-Google-DKIM-Signature: v=1; a=rsa-sha256; c=relaxed/relaxed; d=1e100.net; s=20230601; t=1760350029; x=1760954829; h=references:in-reply-to:cc:to:from:subject:message-id:date :x-gm-message-state:from:to:cc:subject:date:message-id:reply-to; bh=+GgkYcHsumU0Z3bo0MlHMhd2b7NneWVSIhb+7ChjKKs=; b=OTaYtZ1XaLMhhxsUTkJkl3Vg10X0O7pOgJjeQvGBAAtVdWPzt0hwFGce7vOf4tUYGw GUYSdAyDJfZtB5rVwMqlwiNVeUPzOQ/85hKPIkILXvySTeiLeZeDDcm4ch/96FzOidvk 1A1kLj7ggzR0GX59Y8Q9M8qcPbhxnVh4Tya05C3pL3Dj0d0m/v5DzG8FvTNwJ1rpR2Vf 1CN4M0nHO6y4sdLuwVL3Eo3o8joKqib+aRn5YMtOV2S5uD0dzjcqyKCQCW+5KsUatrxV Lm+plnVWxMPKsYLAXqZxzM7JaJprmbh33mwW4MzYfFL6wkdjePR/0hbP6OVXRyS+smcv eJ0w== X-Gm-Message-State: AOJu0YwnFJn33KvMd4fhAnrAQjH2y/afYHbb6IX99cDlEwaIPTgwXEqD DW1tYxPJS/dYkEh1mFQVWDiX4DoYUaj/pKpMaetSgh8qKt9tBJn8m7M3WKSfCUyJ/5h+1tUSfTP oUmaxzglOhFHyUF31OZjBcXDbxjlQeYVZaardcs11uNu1 X-Gm-Gg: ASbGncsnZGPexAq+wel3xenZfj7OuweHP+wzkF/V+cD+LPAV0gN+LJrQAlRRyhGW+bN EBOn5TT/VyounRvvdrQ0YJeCLjd+bR+NRhq3Dw18BliskcThvKdiDt+zEO3ddn+3eudgoOdUlj4 btIeYZ008gvSLPzfKzv3NXWpRFbglMzImSGKM75CSOH58LExu+U/8f5r+5r5JXDGfKPuDzoDCuN 1eU99c0V0qgjeEZb+jjo4paTQqg3UBB2nOWx6G4KdJqj/KUwqidTo2iypb1tA44bojMmAFqTcA/ 7VlYQxZMWDiEtzeOnunastcNTUzgNM8f2bsak30Saul0mrBXC+agvbeWk2wGcDy1VqM35EBC X-Google-Smtp-Source: AGHT+IEhrL/8fNqoYviUxgt+3bv6QEqaKKQvDK3X2PC5x6Es6i8wQH4Fpx915SX0YhHF+MkArLJLM3AMLpqA X-Received: by 2002:a17:90b:1652:b0:32d:d4fa:4c3 with SMTP id 98e67ed59e1d1-33b513cd9damr26980243a91.31.1760350028732; Mon, 13 Oct 2025 03:07:08 -0700 (PDT) Received: from postal.iol.unh.edu (postal.iol.unh.edu. [132.177.123.84]) by smtp-relay.gmail.com with ESMTPS id 41be03b00d2f7-b678df110f4sm573405a12.10.2025.10.13.03.07.08 (version=TLS1_2 cipher=ECDHE-ECDSA-AES128-GCM-SHA256 bits=128/128); Mon, 13 Oct 2025 03:07:08 -0700 (PDT) X-Relaying-Domain: iol.unh.edu Date: Mon, 13 Oct 2025 03:07:08 -0700 (PDT) Message-ID: <68eccf4c.050a0220.3307ac.bc59SMTPIN_ADDED_MISSING@mx.google.com> Received: from [172.21.0.4] (unknown [172.18.0.240]) by postal.iol.unh.edu (Postfix) with ESMTP id 02C5A6051830; Mon, 13 Oct 2025 06:07:08 -0400 (EDT) Subject: |SUCCESS| pw157473 [PATCH] [v2] eal/x86: enable timeout in AMD power From: dpdklab@iol.unh.edu To: Test Report Cc: dpdk-test-reports@iol.unh.edu In-Reply-To: <20251013055158.3037400-1-sivaprasad.tummala@amd.com> References: <20251013055158.3037400-1-sivaprasad.tummala@amd.com> Content-Type: text/plain X-BeenThere: test-report@dpdk.org X-Mailman-Version: 2.1.29 Precedence: list List-Id: automatic DPDK test reports List-Unsubscribe: , List-Archive: List-Post: List-Help: List-Subscribe: , Errors-To: test-report-bounces@dpdk.org Test-Label: iol-unit-arm64-testing Test-Status: SUCCESS http://dpdk.org/patch/157473 _Testing PASS_ Submitter: Sivaprasad Tummala Date: Monday, October 13 2025 05:51:57 DPDK git baseline: Repo:dpdk Branch: master CommitID:2b403dd8fb37d0ba13723e44ffc7ee2c2795f838 157473 --> testing pass Upstream job id: Generic-Unit-Test-DPDK#380739 Test environment and result as below: +------------------------------+----------------+---------------------------+------------------------------+--------------+ | Environment | dpdk_unit_test | cryptodev_sw_zuc_autotest | cryptodev_sw_snow3g_autotest | lpm_autotest | +==============================+================+===========================+==============================+==============+ | Fedora Linux 40 | PASS | SKIPPED | SKIPPED | SKIPPED | +------------------------------+----------------+---------------------------+------------------------------+--------------+ | Debian GNU/Linux 12 | PASS | SKIPPED | SKIPPED | SKIPPED | +------------------------------+----------------+---------------------------+------------------------------+--------------+ | Fedora Linux 41 | PASS | SKIPPED | SKIPPED | SKIPPED | +------------------------------+----------------+---------------------------+------------------------------+--------------+ | CentOS Stream 9 | PASS | SKIPPED | SKIPPED | SKIPPED | +------------------------------+----------------+---------------------------+------------------------------+--------------+ | Fedora Linux 42 | PASS | SKIPPED | SKIPPED | SKIPPED | +------------------------------+----------------+---------------------------+------------------------------+--------------+ | Ubuntu 22.04 | PASS | SKIPPED | SKIPPED | SKIPPED | +------------------------------+----------------+---------------------------+------------------------------+--------------+ | Ubuntu 20.04 | PASS | SKIPPED | SKIPPED | PASS | +------------------------------+----------------+---------------------------+------------------------------+--------------+ | CentOS Stream 10 | PASS | SKIPPED | SKIPPED | SKIPPED | +------------------------------+----------------+---------------------------+------------------------------+--------------+ | Red Hat Enterprise Linux 9.5 | PASS | SKIPPED | SKIPPED | SKIPPED | +------------------------------+----------------+---------------------------+------------------------------+--------------+ | Ubuntu 24.04 | PASS | SKIPPED | SKIPPED | SKIPPED | +------------------------------+----------------+---------------------------+------------------------------+--------------+ | Debian 12 (arm) | SKIPPED | PASS | PASS | SKIPPED | +------------------------------+----------------+---------------------------+------------------------------+--------------+ Fedora Linux 40 Kernel: 5.4 Compiler: clang gcc (GCC) 14.2.1 20240912 (Red Hat 14.2.1-3) Debian GNU/Linux 12 Kernel: 5.4 Compiler: gcc gcc (Debian 12.2.0-14+deb12u1) 12.2.0 Fedora Linux 41 Kernel: 5.4 Compiler: gcc gcc (GCC) 14.3.1 20250523 (Red Hat 14.3.1-1) CentOS Stream 9 Kernel: 5.4 Compiler: gcc gcc (GCC) 11.5.0 20240719 (Red Hat 11.5.0-11) Fedora Linux 42 Kernel: 5.4 Compiler: gcc gcc (GCC) 15.2.1 20250808 (Red Hat 15.2.1-1) Ubuntu 22.04 Kernel: 5.4 Compiler: gcc gcc (Ubuntu 11.4.0-1ubuntu1~22.04) 11.4.0 Ubuntu 20.04 Kernel: 5.4 Compiler: gcc gcc (Ubuntu 9.4.0-1ubuntu1~20.04.2) 9.4.0 CentOS Stream 10 Kernel: 5.4 Compiler: gcc gcc (GCC) 14.2.1 20250110 (Red Hat 14.2.1-8) Red Hat Enterprise Linux 9.5 Kernel: 5.4 Compiler: gcc gcc (GCC) 11.5.0 20240719 (Red Hat 11.5.0-2) Ubuntu 24.04 Kernel: 5.4 Compiler: gcc gcc (Ubuntu 13.3.0-6ubuntu2~24.04) 13.3.0 Debian 12 (arm) Kernel: Depends on container host Compiler: gcc (Debian 12.2.0-14) 12.2.0 To view detailed results, visit: https://lab.dpdk.org/results/dashboard/patchsets/34260/ UNH-IOL DPDK Community Lab To manage your email subscriptions, visit: https://lab.dpdk.org/results/dashboard/preferences/subscriptions/