From mboxrd@z Thu Jan 1 00:00:00 1970 Return-Path: Received: from mails.dpdk.org (mails.dpdk.org [217.70.189.124]) by inbox.dpdk.org (Postfix) with ESMTP id BA02248926 for ; Mon, 13 Oct 2025 12:24:18 +0200 (CEST) Received: from mails.dpdk.org (localhost [127.0.0.1]) by mails.dpdk.org (Postfix) with ESMTP id B56C04013F; Mon, 13 Oct 2025 12:24:18 +0200 (CEST) Received: from mail-pl1-f225.google.com (mail-pl1-f225.google.com [209.85.214.225]) by mails.dpdk.org (Postfix) with ESMTP id F15F84013F for ; Mon, 13 Oct 2025 12:24:16 +0200 (CEST) Received: by mail-pl1-f225.google.com with SMTP id d9443c01a7336-27eec33b737so61461525ad.1 for ; Mon, 13 Oct 2025 03:24:16 -0700 (PDT) DKIM-Signature: v=1; a=rsa-sha256; c=relaxed/relaxed; d=iol.unh.edu; s=unh-iol; t=1760351056; x=1760955856; darn=dpdk.org; h=references:in-reply-to:cc:to:from:subject:message-id:date:from:to :cc:subject:date:message-id:reply-to; bh=oRCLqeal5RFr5Sq7IyP6AGjhneIPBu8JOuENyM3M4Dc=; b=A1H9Xi/AJcnvlEXJY00Rt9wcNa+v5LYljj2gjAZDtXdWaqHhT1ARyHWJexLQuWsL95 qmzeVyRsUhv8hiSLifZ6RtRPNKctmpuVqv/asWZPR+QRc8zWwxr41Fwv98MQSYYJ7U8L OOpQjh0BsLFuCyhoOARo9EwP3f3wsthMCOCtQ= X-Google-DKIM-Signature: v=1; a=rsa-sha256; c=relaxed/relaxed; d=1e100.net; s=20230601; t=1760351056; x=1760955856; h=references:in-reply-to:cc:to:from:subject:message-id:date :x-gm-message-state:from:to:cc:subject:date:message-id:reply-to; bh=oRCLqeal5RFr5Sq7IyP6AGjhneIPBu8JOuENyM3M4Dc=; b=Bx3Sf5pMYCTxLQrdG9kW4yOrRat3obbQstPETV50xeA/G7EAExpyxNDbQ2nQYsAdOx p07zcHYTKvXSZvaIrfZtLe1A27f9o8WDpG55ohUlCPaRwGx1u41hsEJUwhdu5oFJ3Nfz 4vnh/GKzaIS7N+7H34IGfpsJcjsrkXPGYayy2qkgeTgCCo/s25IiTlelK9R7TIm+yOjc 1bZSkzk8hJh5QDLL258Emq/qnmwUZQC1DSH7eL9uaUE+zXcO+6iy/jRJl89w1oTea8N5 Cgo3a37tD1XmGwO/FAW40ppgC3a2h9XU9qJqUjSvFr9D6+/AHFTkAwv0qTZXZmk+3Udo iACg== X-Gm-Message-State: AOJu0YwuFLQxN9t0SuAkM5qE+P4oTEwZu7U3XfByMSz+2TC8ya8FVNXs vtYHXezFN2nqGQKKfIZE/Pqbrb5qO4uexgA3isyoGRyTWvAwoo/seXHuZF1lz1NpW2bnk7AsVgo lUEBUDumjEvp/TYO/Y7s/SKe/9WCYvIvCBZ5/cWf4rgUX X-Gm-Gg: ASbGncvWVjJMP/LCMD9xW6z6IzvYKGCblc04h+ivuuqnGtF9uHugVCiBe5zgY2Fw8Iz Y1Sol+22RrwBqx8holcgsp+3H2HiHFbkstf30xlVTddOVZjNR5Un3X/K50Qd2CzuD0ZQRBlqUG1 NjZoHtcBF4ikyjDZEH7tF2Xih3yaYghEbN5S6YZ5ZVR6WVnivGR5aiCsrTUsVjDOEzZEb1EU3/C 11+hCieSq0WX+RJYIe+8liGuHD4EwVEmhxoieRrcddolFSWAVDU6dg9mW3H5IsCZLJ8GSzpkwD7 M1i9iU4gtv78a97EDdToR8yF/gcAB73YW20d7t5Be/Nz6dm/cUHf/Tdv4NlLTvWJSER92uBb X-Google-Smtp-Source: AGHT+IElAvLLEpkqRJECz+8gHSsBgw/gsCk1v3J+E8lOR9HcmIoQTnc0c0DtLBZT83uok6k93Bv3sxGYgKpG X-Received: by 2002:a17:903:286:b0:24c:c8e7:60b5 with SMTP id d9443c01a7336-2902723ebf6mr299850225ad.16.1760351056104; Mon, 13 Oct 2025 03:24:16 -0700 (PDT) Received: from postal.iol.unh.edu (postal.iol.unh.edu. [132.177.123.84]) by smtp-relay.gmail.com with ESMTPS id d9443c01a7336-29034df6ab1sm9687295ad.2.2025.10.13.03.24.15 (version=TLS1_2 cipher=ECDHE-ECDSA-AES128-GCM-SHA256 bits=128/128); Mon, 13 Oct 2025 03:24:16 -0700 (PDT) X-Relaying-Domain: iol.unh.edu Date: Mon, 13 Oct 2025 03:24:16 -0700 (PDT) Message-ID: <68ecd350.170a0220.1f0a54.0a14SMTPIN_ADDED_MISSING@mx.google.com> Received: from [172.21.0.12] (unknown [172.18.0.240]) by postal.iol.unh.edu (Postfix) with ESMTP id 5DAFD6051830; Mon, 13 Oct 2025 06:24:15 -0400 (EDT) Subject: |SUCCESS| pw157495-157494 [PATCH] [v4,4/4] dma/acc: add doc From: dpdklab@iol.unh.edu To: Test Report Cc: dpdk-test-reports@iol.unh.edu In-Reply-To: <20251013091157.1145-5-fengchengwen@huawei.com> References: <20251013091157.1145-5-fengchengwen@huawei.com> Content-Type: text/plain X-BeenThere: test-report@dpdk.org X-Mailman-Version: 2.1.29 Precedence: list List-Id: automatic DPDK test reports List-Unsubscribe: , List-Archive: List-Post: List-Help: List-Subscribe: , Errors-To: test-report-bounces@dpdk.org Test-Label: iol-compile-amd64-testing Test-Status: SUCCESS http://dpdk.org/patch/157494 _Testing PASS_ Submitter: Chengwen Feng Date: Monday, October 13 2025 09:11:57 DPDK git baseline: Repo:dpdk Branch: master CommitID:2b403dd8fb37d0ba13723e44ffc7ee2c2795f838 157495-157494 --> testing pass Upstream job id: Generic-DPDK-Compile-Meson#433695 Test environment and result as below: +-------------------------------+--------------------+-------------------------+------------------+-------------------+-------------------+----------------------+ | Environment | dpdk_meson_compile | dpdk_llvm_clang_compile | dpdk_compile_ovs | dpdk_compile_spdk | dpdk_msvc_compile | dpdk_mingw64_compile | +===============================+====================+=========================+==================+===================+===================+======================+ | openSUSE Leap 15.6 | PASS | SKIPPED | SKIPPED | SKIPPED | SKIPPED | SKIPPED | +-------------------------------+--------------------+-------------------------+------------------+-------------------+-------------------+----------------------+ | FreeBSD 14.2 | PASS | SKIPPED | SKIPPED | SKIPPED | SKIPPED | SKIPPED | +-------------------------------+--------------------+-------------------------+------------------+-------------------+-------------------+----------------------+ | Fedora Linux 42 | PASS | SKIPPED | PASS | PASS | SKIPPED | SKIPPED | +-------------------------------+--------------------+-------------------------+------------------+-------------------+-------------------+----------------------+ | Ubuntu 22.04 | PASS | SKIPPED | SKIPPED | PASS | SKIPPED | SKIPPED | +-------------------------------+--------------------+-------------------------+------------------+-------------------+-------------------+----------------------+ | CentOS Stream 10 | PASS | SKIPPED | SKIPPED | SKIPPED | SKIPPED | SKIPPED | +-------------------------------+--------------------+-------------------------+------------------+-------------------+-------------------+----------------------+ | Ubuntu 20.04 | PASS | SKIPPED | SKIPPED | SKIPPED | SKIPPED | SKIPPED | +-------------------------------+--------------------+-------------------------+------------------+-------------------+-------------------+----------------------+ | CentOS Stream 9 | PASS | SKIPPED | SKIPPED | PASS | SKIPPED | SKIPPED | +-------------------------------+--------------------+-------------------------+------------------+-------------------+-------------------+----------------------+ | Alpine Linux 3.22.0 | PASS | SKIPPED | SKIPPED | SKIPPED | SKIPPED | SKIPPED | +-------------------------------+--------------------+-------------------------+------------------+-------------------+-------------------+----------------------+ | Debian GNU/Linux 12 | PASS | SKIPPED | SKIPPED | PASS | SKIPPED | SKIPPED | +-------------------------------+--------------------+-------------------------+------------------+-------------------+-------------------+----------------------+ | Red Hat Enterprise Linux 9.5 | PASS | SKIPPED | SKIPPED | SKIPPED | SKIPPED | SKIPPED | +-------------------------------+--------------------+-------------------------+------------------+-------------------+-------------------+----------------------+ | Ubuntu 24.04 | PASS | SKIPPED | PASS | PASS | SKIPPED | SKIPPED | +-------------------------------+--------------------+-------------------------+------------------+-------------------+-------------------+----------------------+ | Red Hat Enterprise Linux 8.10 | PASS | SKIPPED | SKIPPED | SKIPPED | SKIPPED | SKIPPED | +-------------------------------+--------------------+-------------------------+------------------+-------------------+-------------------+----------------------+ | Windows Server 2022 | SKIPPED | PASS | SKIPPED | SKIPPED | PASS | PASS | +-------------------------------+--------------------+-------------------------+------------------+-------------------+-------------------+----------------------+ openSUSE Leap 15.6 Kernel: 5.15 Compiler: gcc gcc (SUSE Linux) 7.5.0 FreeBSD 14.2 Kernel: 14.2-RELEASE Compiler: clang 18.1.6 Fedora Linux 42 Kernel: 5.15 Compiler: gcc gcc (GCC) 15.2.1 20250808 (Red Hat 15.2.1-1) Ubuntu 22.04 Kernel: 5.15 Compiler: gcc gcc (Ubuntu 11.4.0-1ubuntu1~22.04) 11.4.0 CentOS Stream 10 Kernel: 5.15 Compiler: gcc gcc (GCC) 14.2.1 20250110 (Red Hat 14.2.1-8) Ubuntu 20.04 Kernel: 5.15 Compiler: gcc gcc (Ubuntu 9.4.0-1ubuntu1~20.04.2) 9.4.0 CentOS Stream 9 Kernel: 5.15 Compiler: gcc gcc (GCC) 11.5.0 20240719 (Red Hat 11.5.0-11) Alpine Linux 3.22.0 Kernel: 5.15 Compiler: gcc gcc (Alpine 14.2.0) 14.2.0 Debian GNU/Linux 12 Kernel: 5.15 Compiler: gcc gcc (Debian 12.2.0-14+deb12u1) 12.2.0 Red Hat Enterprise Linux 9.5 Kernel: 5.15 Compiler: gcc gcc (GCC) 11.5.0 20240719 (Red Hat 11.5.0-2) Ubuntu 24.04 Kernel: 5.15 Compiler: gcc gcc (Ubuntu 13.3.0-6ubuntu2~24.04) 13.3.0 Red Hat Enterprise Linux 8.10 Kernel: 5.15 Compiler: gcc gcc (GCC) 8.5.0 20210514 (Red Hat 8.5.0-22) Windows Server 2022 Kernel: 10.0.20348.2031 Compiler: clang 15.0.7, gcc 14.1.0 (MinGW), and MSVC VS 19.39.33521 To view detailed results, visit: https://lab.dpdk.org/results/dashboard/patchsets/34262/ UNH-IOL DPDK Community Lab To manage your email subscriptions, visit: https://lab.dpdk.org/results/dashboard/preferences/subscriptions/