From mboxrd@z Thu Jan 1 00:00:00 1970 Return-Path: Received: from mails.dpdk.org (mails.dpdk.org [217.70.189.124]) by inbox.dpdk.org (Postfix) with ESMTP id 5637048926 for ; Mon, 13 Oct 2025 12:38:50 +0200 (CEST) Received: from mails.dpdk.org (localhost [127.0.0.1]) by mails.dpdk.org (Postfix) with ESMTP id 3355C4013F; Mon, 13 Oct 2025 12:38:50 +0200 (CEST) Received: from mail-pg1-f228.google.com (mail-pg1-f228.google.com [209.85.215.228]) by mails.dpdk.org (Postfix) with ESMTP id 2981D4013F for ; Mon, 13 Oct 2025 12:38:48 +0200 (CEST) Received: by mail-pg1-f228.google.com with SMTP id 41be03b00d2f7-b5507d3ccd8so3395599a12.0 for ; Mon, 13 Oct 2025 03:38:48 -0700 (PDT) DKIM-Signature: v=1; a=rsa-sha256; c=relaxed/relaxed; d=iol.unh.edu; s=unh-iol; t=1760351927; x=1760956727; darn=dpdk.org; h=references:in-reply-to:cc:to:from:subject:message-id:date:from:to :cc:subject:date:message-id:reply-to; bh=sM1FSj3YBPR/e15DeYS87v7m6SyZFiCu58L3kJ4YTrU=; b=FkLssBv4FCTmYTgE9JqIFinuzGq/Rtht+MmNdScG0IndaF15+UYCqCtAYpLECm1t96 27A+6v4TUKsZmQXwIbBYnxk6KMkAEbamogVYM5YWwbcX0w7SlWnDn01Zl9hTt/oHf7Y7 /yMgCFFnKn/v4OQAjgcSFeMWvwawfudcbvuEw= X-Google-DKIM-Signature: v=1; a=rsa-sha256; c=relaxed/relaxed; d=1e100.net; s=20230601; t=1760351927; x=1760956727; h=references:in-reply-to:cc:to:from:subject:message-id:date :x-gm-message-state:from:to:cc:subject:date:message-id:reply-to; bh=sM1FSj3YBPR/e15DeYS87v7m6SyZFiCu58L3kJ4YTrU=; b=vH7KvbX+OxRK5lzH5Vxw7alivYUAJvIrJfL2JzVg5mLG99nMlV9BSVofVN3B9kR8P+ 7XBRg9HlJXqzVZeWLsPRAddrZN+hMgc32hXVUfesg5p3QYjFGF1o+6cjVUfQ/iOeciAt a7N/B4VpDJ1wITmwMKUmZ/wVK4DpLV64/JxP2b6rNHrejCILKYR3LqSyWy3eP6SYQe1Q TumdeqCIpiJRLBmvMQnPZ2avgLQ7LjvsyJUTuKJSKaZVbV/AlZlyNLENgOREDdEoVpxu sQYr7R+vXlnZhPNhfqImQTl6R6muhs/j84qfnqJlle+6BBVNxUHD8VoyZWUY+W+ozI1B 4h7w== X-Gm-Message-State: AOJu0YxvyKonlI8Mlbp5omnMHhXBcWwmZWhbm3VKsJq0oVbSmjHt9k3o V4Zdx23nRowjNb28Cdo+9Il8UR2CvnQHrtyYq1EXWKIRH8rUATenHRH72y5jKTQuYDaFw5ZrHn+ RgvuyyCIcHA2JjO+WtZ2+CBTuvXoFnwS/5kcSicFLr30P X-Gm-Gg: ASbGncv8FL4lEZzeh81GuTMH29qtAbgNXobNuzh7GjL9FHZE1Z3r2VHE6kGaP7vqdqu NIbqTgIqiI9Mp151Er71L6pIWo1qrb+0Xhs5LiPyLPSMyaf6v6v+PH+RGyDMyx2AbIjkd1HCgqS FNhvbgKu2NVeVRpiHbWvIrLcWTYyTfNxM6X+koVR9VCU/MXt6r6d1fXZwxKUXRruDeCN2anzHNG rNe3lsaKjRFmxDvsbVPdmviRDLNhBnnY+lqTu1wAoGp3mSBBl7rEqqql3+0hAo7RtJb7rklEhnD VFPchkeufiUZiLWqDeNezAaATlofxXZuK0WZ14WXPbuuUN1ufR1dCZLStvCSTklUQGLy90fR X-Google-Smtp-Source: AGHT+IGmQSNvJ53H6D034bCnXLYaJmRboR6Gd5LiHHagYeJWkikNo7dfur3cbe1LqqVdrRsMJ7TJv5szWeSF X-Received: by 2002:a17:903:240a:b0:25e:37ed:d15d with SMTP id d9443c01a7336-290270f8781mr256770875ad.0.1760351927289; Mon, 13 Oct 2025 03:38:47 -0700 (PDT) Received: from postal.iol.unh.edu (postal.iol.unh.edu. [132.177.123.84]) by smtp-relay.gmail.com with ESMTPS id d9443c01a7336-29034df5b0dsm10422615ad.15.2025.10.13.03.38.47 (version=TLS1_2 cipher=ECDHE-ECDSA-AES128-GCM-SHA256 bits=128/128); Mon, 13 Oct 2025 03:38:47 -0700 (PDT) X-Relaying-Domain: iol.unh.edu Date: Mon, 13 Oct 2025 03:38:47 -0700 (PDT) Message-ID: <68ecd6b7.170a0220.3353c8.435eSMTPIN_ADDED_MISSING@mx.google.com> Received: from [172.21.0.3] (unknown [172.18.0.240]) by postal.iol.unh.edu (Postfix) with ESMTP id B47E96051830; Mon, 13 Oct 2025 06:38:46 -0400 (EDT) Subject: |SUCCESS| pw157495-157494 [PATCH] [v4,4/4] dma/acc: add doc From: dpdklab@iol.unh.edu To: Test Report Cc: dpdk-test-reports@iol.unh.edu In-Reply-To: <20251013091157.1145-5-fengchengwen@huawei.com> References: <20251013091157.1145-5-fengchengwen@huawei.com> Content-Type: text/plain X-BeenThere: test-report@dpdk.org X-Mailman-Version: 2.1.29 Precedence: list List-Id: automatic DPDK test reports List-Unsubscribe: , List-Archive: List-Post: List-Help: List-Subscribe: , Errors-To: test-report-bounces@dpdk.org Test-Label: iol-unit-amd64-testing Test-Status: SUCCESS http://dpdk.org/patch/157494 _Testing PASS_ Submitter: Chengwen Feng Date: Monday, October 13 2025 09:11:57 DPDK git baseline: Repo:dpdk Branch: master CommitID:2b403dd8fb37d0ba13723e44ffc7ee2c2795f838 157495-157494 --> testing pass Upstream job id: Generic-Unit-Test-DPDK#380801 Test environment and result as below: +-------------------------------+----------------+ | Environment | dpdk_unit_test | +===============================+================+ | Fedora Linux 40 | PASS | +-------------------------------+----------------+ | Fedora Linux 41 | PASS | +-------------------------------+----------------+ | CentOS Stream 9 | PASS | +-------------------------------+----------------+ | CentOS Stream 10 | PASS | +-------------------------------+----------------+ | Red Hat Enterprise Linux 8.10 | PASS | +-------------------------------+----------------+ | Debian GNU/Linux 12 | PASS | +-------------------------------+----------------+ | Fedora Linux 42 | PASS | +-------------------------------+----------------+ | Ubuntu 24.04 | PASS | +-------------------------------+----------------+ | Ubuntu 20.04 | PASS | +-------------------------------+----------------+ | Ubuntu 22.04 | PASS | +-------------------------------+----------------+ | Red Hat Enterprise Linux 9.5 | PASS | +-------------------------------+----------------+ | Windows Server 2022 | PASS | +-------------------------------+----------------+ Fedora Linux 40 Kernel: 5.15 Compiler: gcc gcc (GCC) 14.2.1 20240912 (Red Hat 14.2.1-3) Fedora Linux 41 Kernel: 5.15 Compiler: gcc gcc (GCC) 14.3.1 20250523 (Red Hat 14.3.1-1) CentOS Stream 9 Kernel: 5.15 Compiler: gcc gcc (GCC) 11.5.0 20240719 (Red Hat 11.5.0-11) CentOS Stream 10 Kernel: 5.15 Compiler: gcc gcc (GCC) 14.2.1 20250110 (Red Hat 14.2.1-8) Red Hat Enterprise Linux 8.10 Kernel: 5.15 Compiler: gcc gcc (GCC) 8.5.0 20210514 (Red Hat 8.5.0-22) Debian GNU/Linux 12 Kernel: 5.15 Compiler: gcc gcc (Debian 12.2.0-14+deb12u1) 12.2.0 Fedora Linux 42 Kernel: 5.15 Compiler: gcc gcc (GCC) 15.2.1 20250808 (Red Hat 15.2.1-1) Ubuntu 24.04 Kernel: 5.15 Compiler: gcc gcc (Ubuntu 13.3.0-6ubuntu2~24.04) 13.3.0 Ubuntu 20.04 Kernel: 5.15 Compiler: gcc gcc (Ubuntu 9.4.0-1ubuntu1~20.04.2) 9.4.0 Ubuntu 22.04 Kernel: 5.15 Compiler: gcc gcc (Ubuntu 11.4.0-1ubuntu1~22.04) 11.4.0 Red Hat Enterprise Linux 9.5 Kernel: 5.15 Compiler: gcc gcc (GCC) 11.5.0 20240719 (Red Hat 11.5.0-2) Windows Server 2022 Kernel: 10.0.20348.2031 Compiler: clang 15.0.7, gcc 14.1.0 (MinGW), and MSVC VS 19.39.33521 To view detailed results, visit: https://lab.dpdk.org/results/dashboard/patchsets/34262/ UNH-IOL DPDK Community Lab To manage your email subscriptions, visit: https://lab.dpdk.org/results/dashboard/preferences/subscriptions/