From mboxrd@z Thu Jan 1 00:00:00 1970 Return-Path: Received: from mails.dpdk.org (mails.dpdk.org [217.70.189.124]) by inbox.dpdk.org (Postfix) with ESMTP id B684148926 for ; Mon, 13 Oct 2025 13:04:24 +0200 (CEST) Received: from mails.dpdk.org (localhost [127.0.0.1]) by mails.dpdk.org (Postfix) with ESMTP id 811B1402A8; Mon, 13 Oct 2025 13:04:24 +0200 (CEST) Received: from mail-yw1-f225.google.com (mail-yw1-f225.google.com [209.85.128.225]) by mails.dpdk.org (Postfix) with ESMTP id 2B2F0402A8 for ; Mon, 13 Oct 2025 13:04:23 +0200 (CEST) Received: by mail-yw1-f225.google.com with SMTP id 00721157ae682-780fe76f457so33846417b3.0 for ; Mon, 13 Oct 2025 04:04:23 -0700 (PDT) DKIM-Signature: v=1; a=rsa-sha256; c=relaxed/relaxed; d=iol.unh.edu; s=unh-iol; t=1760353462; x=1760958262; darn=dpdk.org; h=references:in-reply-to:cc:to:from:subject:message-id:date:from:to :cc:subject:date:message-id:reply-to; bh=N2yoEWciFXq7CrXqi4kUYaSFwRtng7T7MtKayeovbww=; b=IPjES1xWZmTTNkGExvnieBqykbFy35Vl5E25VauGg7C7dzz7k49dRJxR2DrfEWjGnk VhwsgeHM0qE2OQxP77SAHMk8sIOdu3INoJiIYYTW2/HN7pqOQ8hJ9U9SepnkvNnd8Ydy o2QkyewKezy5wf4zc2VQ+lNn6e7qstdtfbHuI= X-Google-DKIM-Signature: v=1; a=rsa-sha256; c=relaxed/relaxed; d=1e100.net; s=20230601; t=1760353462; x=1760958262; h=references:in-reply-to:cc:to:from:subject:message-id:date :x-gm-message-state:from:to:cc:subject:date:message-id:reply-to; bh=N2yoEWciFXq7CrXqi4kUYaSFwRtng7T7MtKayeovbww=; b=DJ1wDGU0IMvdF6ULr/5ybUF6NzwFKQ3gxZGde778lJkQa19PjCC9vqfsDuCDlGM1om JYtL6hfMizODey3H7bkfHHy2s8Z1NjpcNje7d4daj0VR6tiNVBG3xf9eZBaNdVNouGSS wz1OTWOYF0iQfhwIAghEe6RvLDQdh6zIGnY0GujZ3ckwsuvuJwYJMBtwRLZi95QRyYHc KcmOovwpdn2iOBnEdYraekB9hrNr28qQuN02F7DPsA3qOiP7DkNDS/OTn0WAMkoaCP99 egdTHkknNX0v55Bi1oKCH2ZenXLzyHKoEN5nNrgYKv2yaZkmtoy1nV9H9EjHahs64r4T VgLw== X-Gm-Message-State: AOJu0YydrIxkfNV82zHVGiEceS4pL6+48OxU4OcekWoWUrqltXyb8//3 SeJnMfM0Fk4Y6VX5eiMlUJ+dHwQ6A/AzuXZm+PqhIlWbgC1FUlH0dJbNmRntnQeFd2OLFDBvnz1 jEYf2FUDVJl4ms19Xvlf2MtjiqbP+Kbg/W5i8SLCjHuBtuNcDrxxh3gsWtNJG X-Gm-Gg: ASbGncvNNMhXRU+GX6NNnQ6pctJV4YLs1RBp9LkWuP1RU2dnV9uKwzUWIjCq5W+ao6U rCMwN2fBQqmD59dyRxqjPoW9j4LEFOAnqv3HdxkatYBpBpOaidGRLr6dXzGC60BLrsupIpVE2tB JEeXKZmixaaPwNWwWr/0CZfly5qRQCW3e9YII5bDqpZNqCwZVWlD9iFb1lsTyueCRzTiyxXYF1P uhcGYLSS8SMFKylWnl2yhaGqJyvgaEX7opwro9pIranYvwSmwshnG+glJp3nGC0LureaoTJCWJ7 yBoXJVSSrN1kiXDXG7RpiQjCOuCMdAdu+ubiDz32SNrrTBTDlw== X-Google-Smtp-Source: AGHT+IH/FF2//AFOyIja4/5uI1pdpsJv1lKCNUg+e5JcgE8Bvs0FWv1TaLICQzPfVWmUSNzFjPhxCOcA5dGm X-Received: by 2002:a05:690c:4989:b0:77f:a55e:d766 with SMTP id 00721157ae682-780e16fa027mr383297677b3.45.1760353462365; Mon, 13 Oct 2025 04:04:22 -0700 (PDT) Received: from postal.iol.unh.edu (postal.iol.unh.edu. [2606:4100:3880:1234::84]) by smtp-relay.gmail.com with ESMTPS id 00721157ae682-78106d01091sm5790667b3.1.2025.10.13.04.04.22 (version=TLS1_2 cipher=ECDHE-ECDSA-AES128-GCM-SHA256 bits=128/128); Mon, 13 Oct 2025 04:04:22 -0700 (PDT) X-Relaying-Domain: iol.unh.edu Date: Mon, 13 Oct 2025 04:04:22 -0700 (PDT) Message-ID: <68ecdcb6.050a0220.30539e.c55dSMTPIN_ADDED_MISSING@mx.google.com> Received: from [172.21.0.2] (unknown [172.18.0.240]) by postal.iol.unh.edu (Postfix) with ESMTP id B24616051830; Mon, 13 Oct 2025 07:04:21 -0400 (EDT) Subject: |SUCCESS| pw157497 [PATCH] dma/hisilicon: fix stop dmadev fail From: dpdklab@iol.unh.edu To: Test Report Cc: dpdk-test-reports@iol.unh.edu In-Reply-To: <20251013092211.6804-1-fengchengwen@huawei.com> References: <20251013092211.6804-1-fengchengwen@huawei.com> Content-Type: text/plain X-BeenThere: test-report@dpdk.org X-Mailman-Version: 2.1.29 Precedence: list List-Id: automatic DPDK test reports List-Unsubscribe: , List-Archive: List-Post: List-Help: List-Subscribe: , Errors-To: test-report-bounces@dpdk.org Test-Label: iol-compile-amd64-testing Test-Status: SUCCESS http://dpdk.org/patch/157497 _Testing PASS_ Submitter: Chengwen Feng Date: Monday, October 13 2025 09:22:11 DPDK git baseline: Repo:dpdk Branch: master CommitID:2b403dd8fb37d0ba13723e44ffc7ee2c2795f838 157497 --> testing pass Upstream job id: Windows-Compile-DPDK-Native#31581 Test environment and result as below: +-------------------------------+--------------------+-------------------+------------------+-------------------+-------------------------+ | Environment | dpdk_meson_compile | dpdk_compile_spdk | dpdk_compile_ovs | dpdk_msvc_compile | dpdk_llvm_clang_compile | +===============================+====================+===================+==================+===================+=========================+ | CentOS Stream 9 | PASS | PASS | SKIPPED | SKIPPED | SKIPPED | +-------------------------------+--------------------+-------------------+------------------+-------------------+-------------------------+ | Debian GNU/Linux 12 | PASS | PASS | SKIPPED | SKIPPED | SKIPPED | +-------------------------------+--------------------+-------------------+------------------+-------------------+-------------------------+ | CentOS Stream 10 | PASS | SKIPPED | SKIPPED | SKIPPED | SKIPPED | +-------------------------------+--------------------+-------------------+------------------+-------------------+-------------------------+ | Fedora Linux 42 | PASS | PASS | PASS | SKIPPED | SKIPPED | +-------------------------------+--------------------+-------------------+------------------+-------------------+-------------------------+ | Ubuntu 20.04 | PASS | SKIPPED | SKIPPED | SKIPPED | SKIPPED | +-------------------------------+--------------------+-------------------+------------------+-------------------+-------------------------+ | FreeBSD 14.2 | PASS | SKIPPED | SKIPPED | SKIPPED | SKIPPED | +-------------------------------+--------------------+-------------------+------------------+-------------------+-------------------------+ | openSUSE Leap 15.6 | PASS | SKIPPED | SKIPPED | SKIPPED | SKIPPED | +-------------------------------+--------------------+-------------------+------------------+-------------------+-------------------------+ | Red Hat Enterprise Linux 9.5 | PASS | SKIPPED | SKIPPED | SKIPPED | SKIPPED | +-------------------------------+--------------------+-------------------+------------------+-------------------+-------------------------+ | Red Hat Enterprise Linux 8.10 | PASS | SKIPPED | SKIPPED | SKIPPED | SKIPPED | +-------------------------------+--------------------+-------------------+------------------+-------------------+-------------------------+ | Ubuntu 22.04 | PASS | PASS | SKIPPED | SKIPPED | SKIPPED | +-------------------------------+--------------------+-------------------+------------------+-------------------+-------------------------+ | Ubuntu 24.04 | PASS | PASS | PASS | SKIPPED | SKIPPED | +-------------------------------+--------------------+-------------------+------------------+-------------------+-------------------------+ | Alpine Linux 3.22.0 | PASS | SKIPPED | SKIPPED | SKIPPED | SKIPPED | +-------------------------------+--------------------+-------------------+------------------+-------------------+-------------------------+ | Windows Server 2022 | SKIPPED | SKIPPED | SKIPPED | PASS | PASS | +-------------------------------+--------------------+-------------------+------------------+-------------------+-------------------------+ CentOS Stream 9 Kernel: 5.15 Compiler: gcc gcc (GCC) 11.5.0 20240719 (Red Hat 11.5.0-11) Debian GNU/Linux 12 Kernel: 5.15 Compiler: gcc gcc (Debian 12.2.0-14+deb12u1) 12.2.0 CentOS Stream 10 Kernel: 5.15 Compiler: gcc gcc (GCC) 14.2.1 20250110 (Red Hat 14.2.1-8) Fedora Linux 42 Kernel: 5.15 Compiler: gcc gcc (GCC) 15.2.1 20250808 (Red Hat 15.2.1-1) Ubuntu 20.04 Kernel: 4.19 Compiler: gcc gcc (Ubuntu 9.4.0-1ubuntu1~20.04.2) 9.4.0 FreeBSD 14.2 Kernel: 14.2-RELEASE Compiler: clang 18.1.6 openSUSE Leap 15.6 Kernel: 5.15 Compiler: gcc gcc (SUSE Linux) 7.5.0 Red Hat Enterprise Linux 9.5 Kernel: 5.15 Compiler: gcc gcc (GCC) 11.5.0 20240719 (Red Hat 11.5.0-2) Red Hat Enterprise Linux 8.10 Kernel: 5.15 Compiler: gcc gcc (GCC) 8.5.0 20210514 (Red Hat 8.5.0-22) Ubuntu 22.04 Kernel: 5.15 Compiler: gcc gcc (Ubuntu 11.4.0-1ubuntu1~22.04) 11.4.0 Ubuntu 24.04 Kernel: 5.15 Compiler: gcc gcc (Ubuntu 13.3.0-6ubuntu2~24.04) 13.3.0 Alpine Linux 3.22.0 Kernel: 5.15 Compiler: gcc gcc (Alpine 14.2.0) 14.2.0 Windows Server 2022 Kernel: 10.0.20348.2031 Compiler: clang 15.0.7, gcc 14.1.0 (MinGW), and MSVC VS 19.39.33521 To view detailed results, visit: https://lab.dpdk.org/results/dashboard/patchsets/34263/ UNH-IOL DPDK Community Lab To manage your email subscriptions, visit: https://lab.dpdk.org/results/dashboard/preferences/subscriptions/