From mboxrd@z Thu Jan 1 00:00:00 1970 Return-Path: Received: from mails.dpdk.org (mails.dpdk.org [217.70.189.124]) by inbox.dpdk.org (Postfix) with ESMTP id 3224D48926 for ; Mon, 13 Oct 2025 13:11:15 +0200 (CEST) Received: from mails.dpdk.org (localhost [127.0.0.1]) by mails.dpdk.org (Postfix) with ESMTP id 17275402A8; Mon, 13 Oct 2025 13:11:15 +0200 (CEST) Received: from mail-pf1-f225.google.com (mail-pf1-f225.google.com [209.85.210.225]) by mails.dpdk.org (Postfix) with ESMTP id D56A3402A8 for ; Mon, 13 Oct 2025 13:11:13 +0200 (CEST) Received: by mail-pf1-f225.google.com with SMTP id d2e1a72fcca58-77f343231fcso2461602b3a.3 for ; Mon, 13 Oct 2025 04:11:13 -0700 (PDT) DKIM-Signature: v=1; a=rsa-sha256; c=relaxed/relaxed; d=iol.unh.edu; s=unh-iol; t=1760353873; x=1760958673; darn=dpdk.org; h=references:in-reply-to:cc:to:from:subject:message-id:date:from:to :cc:subject:date:message-id:reply-to; bh=uWMaVnqyTEFGXprMTI+x1SHmnniDxUhxN7FbMybt+PY=; b=hIUJdZvphpJpi7NCtxxm+2wOxJdlg7yBKMq1Uv9P9Nv3uZl9zlofM/9egH6PP1BfDo 7XI7TvtXLVO4oHZ10FQaEfn6fCKHpFagt5jS/d44wG0x/cbEZ5CoD9wN2aTsqTj9A/+r HSS8wHTdF7gpF3mDgY0OAXrkdBtombpQKaQ2g= X-Google-DKIM-Signature: v=1; a=rsa-sha256; c=relaxed/relaxed; d=1e100.net; s=20230601; t=1760353873; x=1760958673; h=references:in-reply-to:cc:to:from:subject:message-id:date :x-gm-message-state:from:to:cc:subject:date:message-id:reply-to; bh=uWMaVnqyTEFGXprMTI+x1SHmnniDxUhxN7FbMybt+PY=; b=qdmvPb9EMchnqDApyoM2kngiAwHwqQSjapTrEn2QxbEzvkwOMCDD79nWgKO7f+NUky pvMFfO0RSjx9aOY0WZCq8taESOP7l5+eTWMzPgF6roeJjKlFS0b0FVDJzGMG2QK7Ub5S g9hWV7nlnAyVPVhufSRFfcxp52Fuwxau3hj3Fpmm7WYqBApgTd0cIPWjzmuC9XGnknRX i1nIT2M2A+wPF87bkrecmy5+OEldm3y76hVTMLO60qu/y3X6+CJ0abV/dCiv+18zf/oB eDmFH96EtEU5a0JirQGcvOiyzzPAZ8zVwg2+jz0FvbZE5QesvafzN+Zz2AViXtZLXzfJ 02/Q== X-Gm-Message-State: AOJu0YzEiVar7MX+jJ80Z8GfanqBxwaEy5ycoCVeapd9oUqjSQEtvDd6 gNGD3paoedFc2qhn36u1+mbG4xlrDvrTjdRmRIz61/G5b7ak0557YgIqqw/frgeh6nmuf6ywUdq zp1RMYEm+6sqALh18hgsa2kLhaP2EW0udmug3J+juHdLs61ZNkjkurNMT2jlR X-Gm-Gg: ASbGnct18pEqdVDHGOJa78VJEWxiWwhdSLNhcd0l1Hp09e3J04xDr6DcEC8SE0KOiHY ZgiGo367Iw8/71Rw9r+VneUGXIHQbv1GC0O3FrZhYfX5iy0aCXe7ouORiQpJB2MxJrx63uoXgHp e0cwSHV8sOlGWnbNCyKtSjeFje0ZV/dH0SaxpiqVUNhu9z9AmYA/3ELN9bCcvxgHtLtcDiGCEcT Wpamd7m2Y6wYVghUhK7OsU0UUQgTtMTPzA+H2LgEPLrD9fZ5FeZKN8vs4+8FsA/ED2Xy2rXiaKR d36QxO3UXAv6VnGPiNVtlOKCkkJ8Kt6QRp8VoMlwNMvCUjoTAg== X-Google-Smtp-Source: AGHT+IEMLZ6Wu/A0e8DV+5SYejpqhjo+nH2KRPSM9VlNBS19SAIRxfqTx0oLxOJMOBVg72Li28DSSc0X9UFQ X-Received: by 2002:a05:6a20:9183:b0:32b:83af:11ff with SMTP id adf61e73a8af0-32da8139347mr27333813637.2.1760353872902; Mon, 13 Oct 2025 04:11:12 -0700 (PDT) Received: from postal.iol.unh.edu (postal.iol.unh.edu. [2606:4100:3880:1234::84]) by smtp-relay.gmail.com with ESMTPS id d2e1a72fcca58-799339df918sm951284b3a.13.2025.10.13.04.11.12 (version=TLS1_2 cipher=ECDHE-ECDSA-AES128-GCM-SHA256 bits=128/128); Mon, 13 Oct 2025 04:11:12 -0700 (PDT) X-Relaying-Domain: iol.unh.edu Date: Mon, 13 Oct 2025 04:11:12 -0700 (PDT) Message-ID: <68ecde50.050a0220.3950ce.ef4cSMTPIN_ADDED_MISSING@mx.google.com> Received: from [172.21.0.2] (unknown [172.18.0.240]) by postal.iol.unh.edu (Postfix) with ESMTP id 276BA6051830; Mon, 13 Oct 2025 07:11:12 -0400 (EDT) Subject: |SUCCESS| pw157497 [PATCH] dma/hisilicon: fix stop dmadev fail From: dpdklab@iol.unh.edu To: Test Report Cc: dpdk-test-reports@iol.unh.edu In-Reply-To: <20251013092211.6804-1-fengchengwen@huawei.com> References: <20251013092211.6804-1-fengchengwen@huawei.com> Content-Type: text/plain X-BeenThere: test-report@dpdk.org X-Mailman-Version: 2.1.29 Precedence: list List-Id: automatic DPDK test reports List-Unsubscribe: , List-Archive: List-Post: List-Help: List-Subscribe: , Errors-To: test-report-bounces@dpdk.org Test-Label: iol-unit-amd64-testing Test-Status: SUCCESS http://dpdk.org/patch/157497 _Testing PASS_ Submitter: Chengwen Feng Date: Monday, October 13 2025 09:22:11 DPDK git baseline: Repo:dpdk Branch: master CommitID:2b403dd8fb37d0ba13723e44ffc7ee2c2795f838 157497 --> testing pass Upstream job id: Generic-VM-Unit-Test-DPDK#31752 Test environment and result as below: +-------------------------------+----------------+ | Environment | dpdk_unit_test | +===============================+================+ | Fedora Linux 41 | PASS | +-------------------------------+----------------+ | CentOS Stream 9 | PASS | +-------------------------------+----------------+ | Fedora Linux 40 | PASS | +-------------------------------+----------------+ | CentOS Stream 10 | PASS | +-------------------------------+----------------+ | Fedora Linux 42 | PASS | +-------------------------------+----------------+ | Debian GNU/Linux 12 | PASS | +-------------------------------+----------------+ | Ubuntu 24.04 | PASS | +-------------------------------+----------------+ | Red Hat Enterprise Linux 8.10 | PASS | +-------------------------------+----------------+ | Ubuntu 20.04 | PASS | +-------------------------------+----------------+ | Red Hat Enterprise Linux 9.5 | PASS | +-------------------------------+----------------+ | Ubuntu 22.04 | PASS | +-------------------------------+----------------+ | Windows Server 2022 | PASS | +-------------------------------+----------------+ Fedora Linux 41 Kernel: 5.15 Compiler: gcc gcc (GCC) 14.3.1 20250523 (Red Hat 14.3.1-1) CentOS Stream 9 Kernel: 5.15 Compiler: gcc gcc (GCC) 11.5.0 20240719 (Red Hat 11.5.0-11) Fedora Linux 40 Kernel: 5.15 Compiler: gcc gcc (GCC) 14.2.1 20240912 (Red Hat 14.2.1-3) CentOS Stream 10 Kernel: 5.15 Compiler: gcc gcc (GCC) 14.2.1 20250110 (Red Hat 14.2.1-8) Fedora Linux 42 Kernel: 5.15 Compiler: gcc gcc (GCC) 15.2.1 20250808 (Red Hat 15.2.1-1) Debian GNU/Linux 12 Kernel: 5.15 Compiler: gcc gcc (Debian 12.2.0-14+deb12u1) 12.2.0 Ubuntu 24.04 Kernel: 5.15 Compiler: gcc gcc (Ubuntu 13.3.0-6ubuntu2~24.04) 13.3.0 Red Hat Enterprise Linux 8.10 Kernel: 5.15 Compiler: gcc gcc (GCC) 8.5.0 20210514 (Red Hat 8.5.0-22) Ubuntu 20.04 Kernel: 5.15 Compiler: gcc gcc (Ubuntu 9.4.0-1ubuntu1~20.04.2) 9.4.0 Red Hat Enterprise Linux 9.5 Kernel: 5.15 Compiler: gcc gcc (GCC) 11.5.0 20240719 (Red Hat 11.5.0-2) Ubuntu 22.04 Kernel: 5.15 Compiler: gcc gcc (Ubuntu 11.4.0-1ubuntu1~22.04) 11.4.0 Windows Server 2022 Kernel: 10.0.20348.2031 Compiler: clang 15.0.7, gcc 14.1.0 (MinGW), and MSVC VS 19.39.33521 To view detailed results, visit: https://lab.dpdk.org/results/dashboard/patchsets/34263/ UNH-IOL DPDK Community Lab To manage your email subscriptions, visit: https://lab.dpdk.org/results/dashboard/preferences/subscriptions/