From mboxrd@z Thu Jan 1 00:00:00 1970 Return-Path: Received: from mails.dpdk.org (mails.dpdk.org [217.70.189.124]) by inbox.dpdk.org (Postfix) with ESMTP id 3355248926 for ; Mon, 13 Oct 2025 13:12:06 +0200 (CEST) Received: from mails.dpdk.org (localhost [127.0.0.1]) by mails.dpdk.org (Postfix) with ESMTP id 3039A402A8; Mon, 13 Oct 2025 13:12:06 +0200 (CEST) Received: from mail-pl1-f227.google.com (mail-pl1-f227.google.com [209.85.214.227]) by mails.dpdk.org (Postfix) with ESMTP id 5F45B402A8 for ; Mon, 13 Oct 2025 13:12:05 +0200 (CEST) Received: by mail-pl1-f227.google.com with SMTP id d9443c01a7336-28832ad6f64so45323515ad.1 for ; Mon, 13 Oct 2025 04:12:05 -0700 (PDT) DKIM-Signature: v=1; a=rsa-sha256; c=relaxed/relaxed; d=iol.unh.edu; s=unh-iol; t=1760353924; x=1760958724; darn=dpdk.org; h=references:in-reply-to:cc:to:from:subject:message-id:date:from:to :cc:subject:date:message-id:reply-to; bh=k5StUDcx2GSHpZAX+Ih3eG7I/7vpCkf6/dxxy94NK+Q=; b=H3QEnrSBLxo5rmB/L6+IUNnMHI5gIP62o9vFtr4QuXzeDW9BfbM3Aiq6qiHQwekPWT syGjmjhAOr00j6dkYCgmuqSTBbxmv+HrfCUhjssOxZIrYWz9u8kfydHkX/Fs7CxcoxN8 wfMEAQ24mgPgJmDK2WWdUd9Val7enejFoW5Gg= X-Google-DKIM-Signature: v=1; a=rsa-sha256; c=relaxed/relaxed; d=1e100.net; s=20230601; t=1760353924; x=1760958724; h=references:in-reply-to:cc:to:from:subject:message-id:date :x-gm-message-state:from:to:cc:subject:date:message-id:reply-to; bh=k5StUDcx2GSHpZAX+Ih3eG7I/7vpCkf6/dxxy94NK+Q=; b=Q8/fzjBPNqQPHymH7PtOK4XrZzgNfWV9+r+Tw7+Gca4YydSm5vSpZf0/tlFsNMvmZG Hr5sEBygzGSgh5dS5uZs3xCRWiIlPKatDrGaxakAGkI0zcLRpPeEXGrG6+IIJLmeCSW7 z1eOFBp1rGUpGP7Dr/oMEJdBaufG4iNltEPqcum8EtTi2vzUaYjdSrrntsCa9Q6jm92l UUNoudoNMCwGVlSoQT5k4Z+z18rEHziXlKz5fHlmn+N33RqNgoEZmBOf+L0R8b/JwRqw YDrdkRTKjXf4GR9N85hIgXMNqlMKPA3jkj9Xx/6Lde9sYJfZMnJRJCN0cECb18XXI+k3 v9Ug== X-Gm-Message-State: AOJu0Yy01OMMGLoA1Zs/v6Rh45jfaIQRG2so3IgQvinwiTUOaJhsbkSv GDUh1paMAkmuzk3A/6S6VYdWcRUzkCMv5EpJSwCyAmalBNCOgfOOErRZfbDNK5eohwZw1BK70Rw im04Rij0lfdN9qh9UWsjsfG+b+S1jnT/vFaZuTLqUBzN8U0jnh1hb2Lakdyop X-Gm-Gg: ASbGncuFbnITje6Boe5uOESK7pjKF57NqnDXMBoTbR6ow+CWAlS+lGYnzvDzhAkVeLS c8OB0ANPGG6obP8HEr9X7rO0neOAWS/HVm6DF9MKj5q518j/8bjwNgEXXyE1wz/yuPhl5BEQWwV dks+OxdIsQmL7Qp4Ur2Tai/r7qq3cBI+L9vqs/57pXkT/01Y1GBVEWuq9uPG1J7RRMp+WFMPSMJ 7P+3n5rqMGS5uXPcCvxGtg59QbKwkmPClhPfTuFfkKjqGnM2+vonl4ji3cEcvEB/IoeqqeK/Vny rDQLjmAg8JDgkybpZcPlnD5ABbucujRhnQlEg9zsO+g06ijqHg== X-Google-Smtp-Source: AGHT+IEo5Qi7ZVv/U7Xt6t6tX8f9GwUHNXc/qSzr4bk+SRV7wpgjrpN27zVW/0pnNC3L4mFJICTXdX2GZxT9 X-Received: by 2002:a17:903:1aeb:b0:26d:72f8:8d0a with SMTP id d9443c01a7336-2902721672amr248129495ad.12.1760353924574; Mon, 13 Oct 2025 04:12:04 -0700 (PDT) Received: from postal.iol.unh.edu (postal.iol.unh.edu. [2606:4100:3880:1234::84]) by smtp-relay.gmail.com with ESMTPS id d9443c01a7336-29034df0d65sm11049465ad.3.2025.10.13.04.12.04 (version=TLS1_2 cipher=ECDHE-ECDSA-AES128-GCM-SHA256 bits=128/128); Mon, 13 Oct 2025 04:12:04 -0700 (PDT) X-Relaying-Domain: iol.unh.edu Date: Mon, 13 Oct 2025 04:12:04 -0700 (PDT) Message-ID: <68ecde84.170a0220.2a86c9.84e1SMTPIN_ADDED_MISSING@mx.google.com> Received: from [172.21.0.2] (unknown [172.18.0.240]) by postal.iol.unh.edu (Postfix) with ESMTP id D559F6051830; Mon, 13 Oct 2025 07:12:03 -0400 (EDT) Subject: |SUCCESS| pw157497 [PATCH] dma/hisilicon: fix stop dmadev fail From: dpdklab@iol.unh.edu To: Test Report Cc: dpdk-test-reports@iol.unh.edu In-Reply-To: <20251013092211.6804-1-fengchengwen@huawei.com> References: <20251013092211.6804-1-fengchengwen@huawei.com> Content-Type: text/plain X-BeenThere: test-report@dpdk.org X-Mailman-Version: 2.1.29 Precedence: list List-Id: automatic DPDK test reports List-Unsubscribe: , List-Archive: List-Post: List-Help: List-Subscribe: , Errors-To: test-report-bounces@dpdk.org Test-Label: iol-compile-amd64-testing Test-Status: SUCCESS http://dpdk.org/patch/157497 _Testing PASS_ Submitter: Chengwen Feng Date: Monday, October 13 2025 09:22:11 DPDK git baseline: Repo:dpdk Branch: master CommitID:2b403dd8fb37d0ba13723e44ffc7ee2c2795f838 157497 --> testing pass Upstream job id: Windows-Compile-DPDK-Native#31582 Test environment and result as below: +-------------------------------+--------------------+-------------------+------------------+-------------------+-------------------------+----------------------+ | Environment | dpdk_meson_compile | dpdk_compile_spdk | dpdk_compile_ovs | dpdk_msvc_compile | dpdk_llvm_clang_compile | dpdk_mingw64_compile | +===============================+====================+===================+==================+===================+=========================+======================+ | CentOS Stream 9 | PASS | PASS | SKIPPED | SKIPPED | SKIPPED | SKIPPED | +-------------------------------+--------------------+-------------------+------------------+-------------------+-------------------------+----------------------+ | Debian GNU/Linux 12 | PASS | PASS | SKIPPED | SKIPPED | SKIPPED | SKIPPED | +-------------------------------+--------------------+-------------------+------------------+-------------------+-------------------------+----------------------+ | CentOS Stream 10 | PASS | SKIPPED | SKIPPED | SKIPPED | SKIPPED | SKIPPED | +-------------------------------+--------------------+-------------------+------------------+-------------------+-------------------------+----------------------+ | Fedora Linux 42 | PASS | PASS | PASS | SKIPPED | SKIPPED | SKIPPED | +-------------------------------+--------------------+-------------------+------------------+-------------------+-------------------------+----------------------+ | Ubuntu 20.04 | PASS | SKIPPED | SKIPPED | SKIPPED | SKIPPED | SKIPPED | +-------------------------------+--------------------+-------------------+------------------+-------------------+-------------------------+----------------------+ | FreeBSD 14.2 | PASS | SKIPPED | SKIPPED | SKIPPED | SKIPPED | SKIPPED | +-------------------------------+--------------------+-------------------+------------------+-------------------+-------------------------+----------------------+ | openSUSE Leap 15.6 | PASS | SKIPPED | SKIPPED | SKIPPED | SKIPPED | SKIPPED | +-------------------------------+--------------------+-------------------+------------------+-------------------+-------------------------+----------------------+ | Red Hat Enterprise Linux 9.5 | PASS | SKIPPED | SKIPPED | SKIPPED | SKIPPED | SKIPPED | +-------------------------------+--------------------+-------------------+------------------+-------------------+-------------------------+----------------------+ | Red Hat Enterprise Linux 8.10 | PASS | SKIPPED | SKIPPED | SKIPPED | SKIPPED | SKIPPED | +-------------------------------+--------------------+-------------------+------------------+-------------------+-------------------------+----------------------+ | Ubuntu 22.04 | PASS | PASS | SKIPPED | SKIPPED | SKIPPED | SKIPPED | +-------------------------------+--------------------+-------------------+------------------+-------------------+-------------------------+----------------------+ | Ubuntu 24.04 | PASS | PASS | PASS | SKIPPED | SKIPPED | SKIPPED | +-------------------------------+--------------------+-------------------+------------------+-------------------+-------------------------+----------------------+ | Alpine Linux 3.22.0 | PASS | SKIPPED | SKIPPED | SKIPPED | SKIPPED | SKIPPED | +-------------------------------+--------------------+-------------------+------------------+-------------------+-------------------------+----------------------+ | Windows Server 2022 | SKIPPED | SKIPPED | SKIPPED | PASS | PASS | PASS | +-------------------------------+--------------------+-------------------+------------------+-------------------+-------------------------+----------------------+ CentOS Stream 9 Kernel: 5.15 Compiler: gcc gcc (GCC) 11.5.0 20240719 (Red Hat 11.5.0-11) Debian GNU/Linux 12 Kernel: 5.15 Compiler: gcc gcc (Debian 12.2.0-14+deb12u1) 12.2.0 CentOS Stream 10 Kernel: 5.15 Compiler: gcc gcc (GCC) 14.2.1 20250110 (Red Hat 14.2.1-8) Fedora Linux 42 Kernel: 5.15 Compiler: gcc gcc (GCC) 15.2.1 20250808 (Red Hat 15.2.1-1) Ubuntu 20.04 Kernel: 4.19 Compiler: gcc gcc (Ubuntu 9.4.0-1ubuntu1~20.04.2) 9.4.0 FreeBSD 14.2 Kernel: 14.2-RELEASE Compiler: clang 18.1.6 openSUSE Leap 15.6 Kernel: 5.15 Compiler: gcc gcc (SUSE Linux) 7.5.0 Red Hat Enterprise Linux 9.5 Kernel: 5.15 Compiler: gcc gcc (GCC) 11.5.0 20240719 (Red Hat 11.5.0-2) Red Hat Enterprise Linux 8.10 Kernel: 5.15 Compiler: gcc gcc (GCC) 8.5.0 20210514 (Red Hat 8.5.0-22) Ubuntu 22.04 Kernel: 5.15 Compiler: gcc gcc (Ubuntu 11.4.0-1ubuntu1~22.04) 11.4.0 Ubuntu 24.04 Kernel: 5.15 Compiler: gcc gcc (Ubuntu 13.3.0-6ubuntu2~24.04) 13.3.0 Alpine Linux 3.22.0 Kernel: 5.15 Compiler: gcc gcc (Alpine 14.2.0) 14.2.0 Windows Server 2022 Kernel: 10.0.20348.2031 Compiler: clang 15.0.7, gcc 14.1.0 (MinGW), and MSVC VS 19.39.33521 To view detailed results, visit: https://lab.dpdk.org/results/dashboard/patchsets/34263/ UNH-IOL DPDK Community Lab To manage your email subscriptions, visit: https://lab.dpdk.org/results/dashboard/preferences/subscriptions/