From mboxrd@z Thu Jan 1 00:00:00 1970 Return-Path: Received: from mails.dpdk.org (mails.dpdk.org [217.70.189.124]) by inbox.dpdk.org (Postfix) with ESMTP id A2C9A48926 for ; Mon, 13 Oct 2025 13:15:41 +0200 (CEST) Received: from mails.dpdk.org (localhost [127.0.0.1]) by mails.dpdk.org (Postfix) with ESMTP id 7B955402A8; Mon, 13 Oct 2025 13:15:41 +0200 (CEST) Received: from mail-pj1-f97.google.com (mail-pj1-f97.google.com [209.85.216.97]) by mails.dpdk.org (Postfix) with ESMTP id B357C402A8 for ; Mon, 13 Oct 2025 13:15:39 +0200 (CEST) Received: by mail-pj1-f97.google.com with SMTP id 98e67ed59e1d1-33082c95fd0so4982100a91.1 for ; Mon, 13 Oct 2025 04:15:39 -0700 (PDT) DKIM-Signature: v=1; a=rsa-sha256; c=relaxed/relaxed; d=iol.unh.edu; s=unh-iol; t=1760354139; x=1760958939; darn=dpdk.org; h=references:in-reply-to:cc:to:from:subject:message-id:date:from:to :cc:subject:date:message-id:reply-to; bh=mdDhzPc99A+AhywOddEDckW57PUAWybH7P70Rr5Zh38=; b=IRo9cufyRPPUA6ku4yjrpJRKDLdAr7IIe3uVNRm0TdgxhhA3B+fSDiO2PXzhQFtDFy GyR4LosQEiXwrfM8W2ipHOESvWRHD9g20UdFrz3QjNj5dSxhbDHkw+mL4AB5jRDVaWMm 4kIG6eyS2c14xLliwiKTBLo39dletsW6N+R1A= X-Google-DKIM-Signature: v=1; a=rsa-sha256; c=relaxed/relaxed; d=1e100.net; s=20230601; t=1760354139; x=1760958939; h=references:in-reply-to:cc:to:from:subject:message-id:date :x-gm-message-state:from:to:cc:subject:date:message-id:reply-to; bh=mdDhzPc99A+AhywOddEDckW57PUAWybH7P70Rr5Zh38=; b=pAIiqeJGzxry98WwMOyOa0vmIrIhX4VBws3BZgtlMB59FFC4jI3i18ONAnnYzVWtvH HvXlhuCUt5A7mp0WAOIywsBVbLQMrvdo8i0ZuthRfnLdOy34sbYd9gijPuu6WYgNESEb hEOi6KJA2Wrt6wgzn0XfKP51NwJvBXeGjl/vvho2kN1xvxKWYuIFPDDp97jPwszgU53B 4Fpd7rYuG1/+fQ65eEhRb1+qLJMbFx3vckgUDfj91J/DxegjOSYGJ1eE5d3ziz18jb+g p7jgBOkZbhG9PTOc4RLwLLWS0zJhtG+GFYLzI69yCu5+YTllv/ytS3YAsjKgFakl9MLD TCTw== X-Gm-Message-State: AOJu0YyjZ+sZ3VbkJetxNgfQCJIoZoqjZ8XbM/XHdVkIRlS5ZBsLAQTn d1FBka+Wcw1kjcD1XLENoZ2f+OOagQEEzDdKTZGHJTmCzb3I5YNW4pNXjZfCZ2mrZQLd/PzP3/s iRzxeeuOiTqeFavpJmT9MXAsYIlD6EVuQBO7lZQe94kKa X-Gm-Gg: ASbGncvGxjSNQ1EGBZ8Wn+Z1w1na71YvrEyRBJSX8SUzDl745WPauNhJqT9KxeElHP/ saRh3aU9F+qFgL9hfImjcLA4ex1BrPAC/XKXolMoJT0zsjH0kUL0U63cxZgK4dsV69b9ifDL/lN yfBnAQr2pW5BmkK81GoenTSoq8WLfNSvZF/xZTa4fFsryhgMKMkGssdgHRV1zneWTem5R2i7ZRS GW4Az8DXnix0JWP0fYI1NsK99n9NglkGTN3RYachp3vssKFWsBWbyxb/aj1GmcPW+MLNbF0RvYw fhaTmIvd5L3lkyOPmUpM4zWosphs7wmtR5y9jZ7N/xJ+6iIz+x7eH1eIw2QlwqBlVL3yYpue X-Google-Smtp-Source: AGHT+IHAwRZUE+aALAnoI5c7bFhWG0S3KL3/CqcdS8Xs0vvoshrS1f1UaITz91MbLqbC4s1NB8c8BOq2SkEw X-Received: by 2002:a17:90b:2244:b0:329:e4d1:c20f with SMTP id 98e67ed59e1d1-33b51162533mr27502931a91.9.1760354138886; Mon, 13 Oct 2025 04:15:38 -0700 (PDT) Received: from postal.iol.unh.edu (postal.iol.unh.edu. [132.177.123.84]) by smtp-relay.gmail.com with ESMTPS id 98e67ed59e1d1-33b61a1d3a0sm956215a91.1.2025.10.13.04.15.38 (version=TLS1_2 cipher=ECDHE-ECDSA-AES128-GCM-SHA256 bits=128/128); Mon, 13 Oct 2025 04:15:38 -0700 (PDT) X-Relaying-Domain: iol.unh.edu Date: Mon, 13 Oct 2025 04:15:38 -0700 (PDT) Message-ID: <68ecdf5a.170a0220.91df5.f060SMTPIN_ADDED_MISSING@mx.google.com> Received: from [172.21.0.2] (unknown [172.18.0.240]) by postal.iol.unh.edu (Postfix) with ESMTP id 2BD026051830; Mon, 13 Oct 2025 07:15:38 -0400 (EDT) Subject: |SUCCESS| pw157497 [PATCH] dma/hisilicon: fix stop dmadev fail From: dpdklab@iol.unh.edu To: Test Report Cc: dpdk-test-reports@iol.unh.edu In-Reply-To: <20251013092211.6804-1-fengchengwen@huawei.com> References: <20251013092211.6804-1-fengchengwen@huawei.com> Content-Type: text/plain X-BeenThere: test-report@dpdk.org X-Mailman-Version: 2.1.29 Precedence: list List-Id: automatic DPDK test reports List-Unsubscribe: , List-Archive: List-Post: List-Help: List-Subscribe: , Errors-To: test-report-bounces@dpdk.org Test-Label: iol-unit-amd64-testing Test-Status: SUCCESS http://dpdk.org/patch/157497 _Testing PASS_ Submitter: Chengwen Feng Date: Monday, October 13 2025 09:22:11 DPDK git baseline: Repo:dpdk Branch: master CommitID:2b403dd8fb37d0ba13723e44ffc7ee2c2795f838 157497 --> testing pass Upstream job id: Generic-VM-Unit-Test-DPDK#31753 Test environment and result as below: +-------------------------------+----------------+ | Environment | dpdk_unit_test | +===============================+================+ | Fedora Linux 41 | PASS | +-------------------------------+----------------+ | CentOS Stream 9 | PASS | +-------------------------------+----------------+ | Fedora Linux 40 | PASS | +-------------------------------+----------------+ | CentOS Stream 10 | PASS | +-------------------------------+----------------+ | Fedora Linux 42 | PASS | +-------------------------------+----------------+ | Debian GNU/Linux 12 | PASS | +-------------------------------+----------------+ | Ubuntu 24.04 | PASS | +-------------------------------+----------------+ | Red Hat Enterprise Linux 8.10 | PASS | +-------------------------------+----------------+ | Ubuntu 20.04 | PASS | +-------------------------------+----------------+ | Red Hat Enterprise Linux 9.5 | PASS | +-------------------------------+----------------+ | Ubuntu 22.04 | PASS | +-------------------------------+----------------+ | Windows Server 2022 | PASS | +-------------------------------+----------------+ Fedora Linux 41 Kernel: 5.15 Compiler: gcc gcc (GCC) 14.3.1 20250523 (Red Hat 14.3.1-1) CentOS Stream 9 Kernel: 5.15 Compiler: gcc gcc (GCC) 11.5.0 20240719 (Red Hat 11.5.0-11) Fedora Linux 40 Kernel: 5.15 Compiler: gcc gcc (GCC) 14.2.1 20240912 (Red Hat 14.2.1-3) CentOS Stream 10 Kernel: 5.15 Compiler: gcc gcc (GCC) 14.2.1 20250110 (Red Hat 14.2.1-8) Fedora Linux 42 Kernel: 5.15 Compiler: gcc gcc (GCC) 15.2.1 20250808 (Red Hat 15.2.1-1) Debian GNU/Linux 12 Kernel: 5.15 Compiler: gcc gcc (Debian 12.2.0-14+deb12u1) 12.2.0 Ubuntu 24.04 Kernel: 5.15 Compiler: gcc gcc (Ubuntu 13.3.0-6ubuntu2~24.04) 13.3.0 Red Hat Enterprise Linux 8.10 Kernel: 5.15 Compiler: gcc gcc (GCC) 8.5.0 20210514 (Red Hat 8.5.0-22) Ubuntu 20.04 Kernel: 5.15 Compiler: gcc gcc (Ubuntu 9.4.0-1ubuntu1~20.04.2) 9.4.0 Red Hat Enterprise Linux 9.5 Kernel: 5.15 Compiler: gcc gcc (GCC) 11.5.0 20240719 (Red Hat 11.5.0-2) Ubuntu 22.04 Kernel: 5.15 Compiler: gcc gcc (Ubuntu 11.4.0-1ubuntu1~22.04) 11.4.0 Windows Server 2022 Kernel: 10.0.20348.2031 Compiler: clang 15.0.7, gcc 14.1.0 (MinGW), and MSVC VS 19.39.33521 To view detailed results, visit: https://lab.dpdk.org/results/dashboard/patchsets/34263/ UNH-IOL DPDK Community Lab To manage your email subscriptions, visit: https://lab.dpdk.org/results/dashboard/preferences/subscriptions/