From mboxrd@z Thu Jan 1 00:00:00 1970 Return-Path: Received: from mails.dpdk.org (mails.dpdk.org [217.70.189.124]) by inbox.dpdk.org (Postfix) with ESMTP id 89E0C48927 for ; Mon, 13 Oct 2025 14:15:25 +0200 (CEST) Received: from mails.dpdk.org (localhost [127.0.0.1]) by mails.dpdk.org (Postfix) with ESMTP id 6B3F54028C; Mon, 13 Oct 2025 14:15:25 +0200 (CEST) Received: from mail-io1-f98.google.com (mail-io1-f98.google.com [209.85.166.98]) by mails.dpdk.org (Postfix) with ESMTP id 5794B4028C for ; Mon, 13 Oct 2025 14:15:24 +0200 (CEST) Received: by mail-io1-f98.google.com with SMTP id ca18e2360f4ac-930a6c601b3so415776339f.3 for ; Mon, 13 Oct 2025 05:15:24 -0700 (PDT) DKIM-Signature: v=1; a=rsa-sha256; c=relaxed/relaxed; d=iol.unh.edu; s=unh-iol; t=1760357723; x=1760962523; darn=dpdk.org; h=references:in-reply-to:cc:to:from:subject:message-id:date:from:to :cc:subject:date:message-id:reply-to; bh=yX3pW4aKCknixZYbDTf46ZzbcxUPsEpxbuTnf453Mug=; b=ToVRmVwSiEiEJRWwsvBqvmTTcrv21xQlsyDAMfdRpCJ1f8KliCIBn1kx5bLXmCol5P nBrqNkvIJ92EqHopsTLtml8KaaitGBmGlCpLP8TKejkxOJAOgRt/pc04iKsqItMn+WBv THmnage1k4SSxV/qDahuStEHenBaLA0/uaSHM= X-Google-DKIM-Signature: v=1; a=rsa-sha256; c=relaxed/relaxed; d=1e100.net; s=20230601; t=1760357723; x=1760962523; h=references:in-reply-to:cc:to:from:subject:message-id:date :x-gm-message-state:from:to:cc:subject:date:message-id:reply-to; bh=yX3pW4aKCknixZYbDTf46ZzbcxUPsEpxbuTnf453Mug=; b=VA/YqiTErinhYGXnyULxEXTs+7blnvnF+WI9LJaEzFamQv1KDJA3s64oZnwCZrY30O xzHYzTDO2YMwgFGcmuT/fKYwi56wsh0BMBwnVXV2hU3qAdLGxI2QDoGnrQ6/vsKtZN3n G9nk+mUEjYH4rAv5UUm7dsTt5lcxkaUVlWuTkiVHtxZ2b9t9flWCf1y5sq9HtVXeDKpw rOvMl3lEL6PTUeondgm7cpDjZD3oaGgcRzKE2AbP93OoZ+t7FoubXeaVsKSwcQCKL/tA rr5b4iebkO4XGaJ5mo+dAnGEioFEbr/GiVM1Aa2RmeUxyUjdvzlIDaj7KB6+qcMQozdM Lgow== X-Gm-Message-State: AOJu0Yx5aWeIHoLUDK6hHJIP0ZCRBX4pc1xPcmR3c6AZ6WPrd+XHnhcQ qsRguF/jvjBR0OAL1T3cykIl2632negmHmhalIr6a+9acNFO6diPzWJV9u5AmJdOtqJVn4euBV6 ZDwHYUbG21FeONZor5Am/uRPeQkOv5IYytkmouQGPIJ6F X-Gm-Gg: ASbGncvwd5wBhi5qeT3xtbQwdGR9H5MrBvS1GYVoAZf0zo8MsNVNET+KCs1Eg4X7QIg G0FGKrRBuCDptjBrSM2pwdH+MrviIu2Q6HGnyWqb78V5uPTvD+VIyI262uCec5XDIwwlXQ6KiGA 5Pmbh3/0EBAHxrbmu1qy6GPrM96LbbEO1QAovTO3UZHQV79PnOdvxoYl3TKxbq8CYSUcOd61Mi8 bQjtO+074C4AVmqR4eEPXb/UM9lafdvBN85Van9kUomZolgjW6baU4dJbZgP/peUoMw0w62kEsg 6mXhFjSpk+TX1CBt8xti7qMvOzpWPwaI7f6e1SM5O0PCglk+fivpAZC/EUUxi6GHB7OqAq3/ X-Google-Smtp-Source: AGHT+IHg90h/9j6+NoxkNBhaZrHDvF4dUHqmzr06mYjWXcfha0DWS7jp8/uirkMWUjyaRLal7hnYFSmc8yAb X-Received: by 2002:a05:6e02:378c:b0:42d:5d48:acb9 with SMTP id e9e14a558f8ab-42f8735064amr204416605ab.7.1760357723629; Mon, 13 Oct 2025 05:15:23 -0700 (PDT) Received: from postal.iol.unh.edu (postal.iol.unh.edu. [132.177.123.84]) by smtp-relay.gmail.com with ESMTPS id 8926c6da1cb9f-58f71e1db42sm776371173.40.2025.10.13.05.15.23 (version=TLS1_2 cipher=ECDHE-ECDSA-AES128-GCM-SHA256 bits=128/128); Mon, 13 Oct 2025 05:15:23 -0700 (PDT) X-Relaying-Domain: iol.unh.edu Date: Mon, 13 Oct 2025 05:15:23 -0700 (PDT) Message-ID: <68eced5b.050a0220.27748d.5753SMTPIN_ADDED_MISSING@mx.google.com> Received: from [172.21.0.2] (unknown [172.18.0.240]) by postal.iol.unh.edu (Postfix) with ESMTP id 2AD5A6050A61; Mon, 13 Oct 2025 08:15:23 -0400 (EDT) Subject: |SUCCESS| pw157473 [PATCH] [v2] eal/x86: enable timeout in AMD power From: dpdklab@iol.unh.edu To: Test Report Cc: dpdk-test-reports@iol.unh.edu In-Reply-To: <20251013055158.3037400-1-sivaprasad.tummala@amd.com> References: <20251013055158.3037400-1-sivaprasad.tummala@amd.com> Content-Type: text/plain X-BeenThere: test-report@dpdk.org X-Mailman-Version: 2.1.29 Precedence: list List-Id: automatic DPDK test reports List-Unsubscribe: , List-Archive: List-Post: List-Help: List-Subscribe: , Errors-To: test-report-bounces@dpdk.org Test-Label: iol-compile-arm64-testing Test-Status: SUCCESS http://dpdk.org/patch/157473 _Testing PASS_ Submitter: Sivaprasad Tummala Date: Monday, October 13 2025 05:51:57 DPDK git baseline: Repo:dpdk Branch: master CommitID:2b403dd8fb37d0ba13723e44ffc7ee2c2795f838 157473 --> testing pass Upstream job id: Generic-DPDK-Compile-Meson#433655 Test environment and result as below: +------------------------------+--------------------+ | Environment | dpdk_meson_compile | +==============================+====================+ | Ubuntu 20.04 | PASS | +------------------------------+--------------------+ | Debian GNU/Linux 12 | PASS | +------------------------------+--------------------+ | Fedora Linux 42 | PASS | +------------------------------+--------------------+ | Ubuntu 22.04 | PASS | +------------------------------+--------------------+ | CentOS Stream 9 | PASS | +------------------------------+--------------------+ | Ubuntu 24.04 | PASS | +------------------------------+--------------------+ | Red Hat Enterprise Linux 9.5 | PASS | +------------------------------+--------------------+ | CentOS Stream 10 | PASS | +------------------------------+--------------------+ Ubuntu 20.04 Kernel: 5.15 Compiler: gcc gcc (Ubuntu 9.4.0-1ubuntu1~20.04.2) 9.4.0 Debian GNU/Linux 12 Kernel: 5.4 Compiler: gcc gcc (Debian 12.2.0-14+deb12u1) 12.2.0 Fedora Linux 42 Kernel: 5.4 Compiler: gcc gcc (GCC) 15.2.1 20250808 (Red Hat 15.2.1-1) Ubuntu 22.04 Kernel: 5.4 Compiler: gcc gcc (Ubuntu 11.4.0-1ubuntu1~22.04) 11.4.0 CentOS Stream 9 Kernel: 5.4 Compiler: gcc gcc (GCC) 11.5.0 20240719 (Red Hat 11.5.0-11) Ubuntu 24.04 Kernel: 5.4 Compiler: gcc gcc (Ubuntu 13.3.0-6ubuntu2~24.04) 13.3.0 Red Hat Enterprise Linux 9.5 Kernel: 5.4 Compiler: gcc gcc (GCC) 11.5.0 20240719 (Red Hat 11.5.0-2) CentOS Stream 10 Kernel: 5.4 Compiler: gcc gcc (GCC) 14.2.1 20250110 (Red Hat 14.2.1-8) To view detailed results, visit: https://lab.dpdk.org/results/dashboard/patchsets/34260/ UNH-IOL DPDK Community Lab To manage your email subscriptions, visit: https://lab.dpdk.org/results/dashboard/preferences/subscriptions/